BEGIN:VCALENDAR
VERSION:2.0
PRODID:-//RiverArts - ECPv6.15.20//NONSGML v1.0//EN
CALSCALE:GREGORIAN
METHOD:PUBLISH
X-ORIGINAL-URL:https://riverarts.org
X-WR-CALDESC:Events for RiverArts
REFRESH-INTERVAL;VALUE=DURATION:PT1H
X-Robots-Tag:noindex
X-PUBLISHED-TTL:PT1H
BEGIN:VTIMEZONE
TZID:America/New_York
BEGIN:DAYLIGHT
TZOFFSETFROM:-0500
TZOFFSETTO:-0400
TZNAME:EDT
DTSTART:20200308T070000
END:DAYLIGHT
BEGIN:STANDARD
TZOFFSETFROM:-0400
TZOFFSETTO:-0500
TZNAME:EST
DTSTART:20201101T060000
END:STANDARD
BEGIN:DAYLIGHT
TZOFFSETFROM:-0500
TZOFFSETTO:-0400
TZNAME:EDT
DTSTART:20210314T070000
END:DAYLIGHT
BEGIN:STANDARD
TZOFFSETFROM:-0400
TZOFFSETTO:-0500
TZNAME:EST
DTSTART:20211107T060000
END:STANDARD
BEGIN:DAYLIGHT
TZOFFSETFROM:-0500
TZOFFSETTO:-0400
TZNAME:EDT
DTSTART:20220313T070000
END:DAYLIGHT
BEGIN:STANDARD
TZOFFSETFROM:-0400
TZOFFSETTO:-0500
TZNAME:EST
DTSTART:20221106T060000
END:STANDARD
END:VTIMEZONE
BEGIN:VTIMEZONE
TZID:UTC
BEGIN:STANDARD
TZOFFSETFROM:+0000
TZOFFSETTO:+0000
TZNAME:UTC
DTSTART:20200101T000000
END:STANDARD
END:VTIMEZONE
BEGIN:VEVENT
DTSTART;TZID=America/New_York:20210613T150000
DTEND;TZID=America/New_York:20210613T160000
DTSTAMP:20260423T193200
CREATED:20210609T020404Z
LAST-MODIFIED:20210609T051348Z
UID:7694-1623596400-1623600000@riverarts.org
SUMMARY:Virtual Salon Sundays - Artist Studio Tour with Kristin Javier
DESCRIPTION:Virtual Salon Sundays \n			\n				Register for Event\n			\n				\n				\n				\n				\n				Sunday\, June 13th   \n 3:00-4:00 pm Livestream on RiverArts Instagram \nFREE EVENT \nRiverArts’ now offers a virtual spin on this historic tradition and are featuring artists on various Sundays from 3 pm to 4 pm.  Each artist will live-stream a brief studio tour and take questions from the audience in the last ten minutes. This is a great opportunity to gain insights in to their creative process\, learn about techniques in a variety of media and participate in a live Q&A with artists.  \nKristin Javier is a former Teacher and Translator\, and an improbable Mosaic Artist. What began as an exploration of her Mediterranean heritage has become a journey by which to express profound emotion. Initially self-taught\, she has grown as an artist through some study of Classical Roman/Byzantine and Modern Mosaic techniques. She hand-cuts all materials faithful to the ancient tradition\, incorporating glass\, stone\, metal\, ceramic\, reclaimed materials. Her mosaics are born from memory and develop through a meditative and painstaking process over weeks or months. She is grateful for this creative path and the many teachers she has encountered along the way. View Kristin’s Instagram here. \nHow to watch Instagram Live:\nOne watches a live broadcast on the Instagram app on your mobile device or on Instagram.com. RiverArts’ profile picture will appear at the top of Feed with a colorful ring around it and the word Live. Tap or click their profile picture to view the live broadcast. \nGet a jump on the tour and check out her work on IG ahead of time! \nKristin Javier’s Instagram \nFOR MORE INFORMATION EMAIL: info@riverarts.org \n			\n				Register for Event
URL:https://riverarts.org/event/virtual-salon-sundays-june-13/
LOCATION:Virtual Event
CATEGORIES:Art,Instagram Live,Salon Sundays
ATTACH;FMTTYPE=image/jpeg:https://riverarts.org/wp-content/uploads/2021/06/IMG_20210603_145036-1.jpg
ORGANIZER;CN="RiverArts":MAILTO:info@riverarts.org
END:VEVENT
BEGIN:VEVENT
DTSTART;TZID=UTC:20210520T200000
DTEND;TZID=UTC:20210520T213000
DTSTAMP:20260423T193200
CREATED:20210404T160815Z
LAST-MODIFIED:20210507T172607Z
UID:7033-1621540800-1621546200@riverarts.org
SUMMARY:Open Mic Night
DESCRIPTION:Be part of our virtual open mic community!\n			\n				Register for Open Mic Night\n			\n				\n				\n				\n				\n				Spring Cleaning.Finding new life in songs we have forgotten.\nPlease join RiverArts Music Tour Producer Adam Hart for the third of three virtual open mic nights this Spring! Come to hang\, listen\, and perform if you are a professional or just like to play — just come to be part of this supportive and welcoming community of local musicians and music lovers! \nSpectators must also register for access to this event. Bring a friend or two and enjoy some music by your creative neighbors! \nRULES\nThe registration deadline is 7:30 PM EDT on the date of the open mic of your choice. You’ll have an opportunity to play two songs in a “circle of song” Zoom format (we’ll perform around the Zoom grid). \nWe welcome musicians performing all genres. Originals and covers are both welcome. Solo artists\, duos\, full bands — perform however you’d like! Spoken word performers are also welcome. \nFOR MORE INFO EMAIL: info@riverarts.org \n  \nABOUT ADAM HART \nAdam is a folk and folk rock singer-songwriter\, performer\, and educator. He teaches guitar and voice privately\, and he also teaches a guitar workshop at PS 75 on 96th Street in NYC. He has been active in a folk-rock group “Riverrun” for 19 years. On the political side\, Adam is a Democratic District Leader in Hastings-on-Hudson\, NY and is committed to saving what’s left of our environment and seeking out justice for good people. Visit adamhartmusic.com for more information about Adam. \n  \n  \n			\n				Register for Open Mic Night
URL:https://riverarts.org/event/open-mic-night-5-20/
LOCATION:Virtual Event
CATEGORIES:Music
ATTACH;FMTTYPE=image/gif:https://riverarts.org/wp-content/uploads/2021/04/OpenMic_Photo-FB-05-20.gif
END:VEVENT
BEGIN:VEVENT
DTSTART;TZID=America/New_York:20210508T200000
DTEND;TZID=America/New_York:20210508T210000
DTSTAMP:20260423T193200
CREATED:20210403T012922Z
LAST-MODIFIED:20210507T173637Z
UID:6961-1620504000-1620507600@riverarts.org
SUMMARY:Imprint of Light:  A Dance\, Music & Video Collaboration
DESCRIPTION:Imprint of Light – video livestream with post-performance Q & A with the artists  \n			\n				Register for Event\n			\n				\n				\n				\n				\n				Saturday\, May 8th 8:00 pm Zoom broadcast followed by live artist Q&A | $15 Recorded broadcast available from 5/10–5/23 | $10 \nTicking for live event ends Saturday\, May 8th at 12 noon. You will continue to be able to purchase the recording through May 23rd\, available for viewing May10-23. \nRiverArts is proud to debut Imprint of Light\, a dance\, music & video collaboration that will be broadcast on Zoom. Choreographer/Dancer Maxine Sherman and Composer/Videographer Steven Brent collaborate in this new work weaving dance\, music and layered imagery to create an innovative experience at the cutting edge of performance art and film. \nImprint of Light is a magical journey within the imagination\, toward the illumination of the human spirit and its relationship to the 4 elements of the earth. Sometimes mesmerizing\, hypnotic and funny we all curiously travel to unknown places in the vehicle of our own body. We might land on familiar shores\, but a mischievous impulse gives us a 360 degree view of new light. \nThere will be a Zoom broadcast of the video on Saturday May 8th at 8pm followed by a live Q&A session with both artists directly afterwards. A recording of the broadcast and Q&A will be available to view for the two weeks following the broadcast. Tickets to both the live broadcast and recording can be purchased at www.riverarts.org.  \nFOR MORE INFORMATION EMAIL: info@riverarts.org \n			\n				Register for Event
URL:https://riverarts.org/event/imprint-of-light/
LOCATION:Virtual Event
CATEGORIES:Dance,Zoom Performance with Q&A
ATTACH;FMTTYPE=image/gif:https://riverarts.org/wp-content/uploads/2021/04/Imprint-of-Light_MainGraphic.gif
END:VEVENT
BEGIN:VEVENT
DTSTART;TZID=America/New_York:20210502T150000
DTEND;TZID=America/New_York:20210502T160000
DTSTAMP:20260423T193200
CREATED:20210429T201308Z
LAST-MODIFIED:20210609T022720Z
UID:7313-1619967600-1619971200@riverarts.org
SUMMARY:Virtual Salon Sundays - Artist Studio Tour with Monica Shulman
DESCRIPTION:Virtual Salon Sundays \n			\n				Register for Event\n			\n				\n				\n				\n				\n				Sunday\, May 2nd 3:00-3:45 pm Livestream on RiverArts Instagram \nFREE EVENT- Please register. \nRiverArts’ now offers a virtual spin on this historic tradition and are featuring artists every other Sunday from 3 pm to 4 pm.  Each artist will live-stream a brief studio tour and take questions from the audience in the last ten minutes. This is a great opportunity to gain insights in to their creative process\, learn about techniques in a variety of media and participate in a live Q&A with these two artists.  \nMonica Shulman is a self-taught contemporary artist whose brand of gestural abstraction is a form of story-telling. Her intuitive work is process-oriented and she learns through experimentation. Her world is best described as colorful and rhythmic. A first generation American of Cuban and Argentinian descent\, who left her career as an attorney to focus on her art practice full-time\, Monica lives and works in the lower Hudson Valley with her husband and their children. \nMonica has been featured in various publications including Popular Photography\, Westchester Magazine\, and the Huffington Post.  In 2019\, the Director of PULSE Art Fair in Miami invited Monica to participate in the “Next Generation” exhibit to celebrate the fair’s 15th anniversary. Her work has been shown at the American Academy of Arts and Letters in New York City\, Photo LA\, Art Market Hamptons\, PULSE Art Fair\, and the New York Mercantile Exchange\, among others. \nHow to watch Instagram Live:\nOne watches a live broadcast on the Instagram app on your mobile device or on Instagram.com. RiverArts’ profile picture will appear at the top of Feed with a colorful ring around it and the word Live. Tap or click their profile picture to view the live broadcast. \nGet a jump on the tour and check out their work on IG ahead of time! \nMonica Shulman Instagram \nFOR MORE INFORMATION EMAIL: info@riverarts.org \n			\n				Register for Event
URL:https://riverarts.org/event/virtual-salon-sundays-may-2/
LOCATION:Virtual Event
CATEGORIES:Art,Instagram Live,Salon Sundays
ATTACH;FMTTYPE=image/jpeg:https://riverarts.org/wp-content/uploads/2021/04/03_FB-Monica.jpg
ORGANIZER;CN="RiverArts":MAILTO:info@riverarts.org
END:VEVENT
BEGIN:VEVENT
DTSTART;TZID=UTC:20210429T200000
DTEND;TZID=UTC:20210429T213000
DTSTAMP:20260423T193200
CREATED:20210224T202528Z
LAST-MODIFIED:20210427T064706Z
UID:6605-1619726400-1619731800@riverarts.org
SUMMARY:Open Mic Night
DESCRIPTION:Be part of our virtual open mic community!\n			\n				Register for Open Mic Night\n			\n				\n				\n				\n				\n				RENEWAL. SONGS FOR LIFTING US UP!\nPlease join RiverArts Music Tour Producer Adam Hart for the second of three virtual open mic nights this Spring! Come to hang\, listen\, and perform if you are a professional or just like to play — just come to be part of this supportive and welcoming community of local musicians and music lovers! \nSpectators must also register for access to this event. Bring a friend or two and enjoy some music by your creative neighbors! \n \nSpecial Themes for our Spring Open Mics!  \n• Thursday\, March 25th\, 8–9:30 pm (Virtual) Musical Madness. the End of a Long Winter. \n• Thursday\, April 29th\, 8–9:30 pm (Virtual) Renewal. Songs for lifting us up. \n• Thursday\, May 20th 8 – 9:30pm (Virtual) : Spring Cleaning. Finding new life in songs we have forgotten. \nRULES\nThe registration deadline is 7:30 PM EDT on the date of the open mic of your choice. \nYou’ll have an opportunity to play two songs in a “circle of song” Zoom format (we’ll perform around the Zoom grid). \nWe welcome musicians performing all genres. Originals and covers are both welcome. Solo artists\, duos\, full bands — perform however you’d like! Spoken word performers are also welcome. \nFOR MORE INFO EMAIL: info@riverarts.org \n  \nABOUT ADAM HART \nAdam is a folk and folk rock singer-songwriter\, performer\, and educator. He teaches guitar and voice privately\, and he also teaches a guitar workshop at PS 75 on 96th Street in NYC. He has been active in a folk-rock group “Riverrun” for 19 years. On the political side\, Adam is a Democratic District Leader in Hastings-on-Hudson\, NY and is committed to saving what’s left of our environment and seeking out justice for good people. Visit adamhartmusic.com for more information about Adam. \n  \n  \n			\n				Register for Open Mic Night
URL:https://riverarts.org/event/open-mic-night-4-29/
LOCATION:Virtual Event
CATEGORIES:Music
ATTACH;FMTTYPE=image/jpeg:https://riverarts.org/wp-content/uploads/2021/02/OpenMic_Photo-FB-04-29-scaled.jpg
END:VEVENT
BEGIN:VEVENT
DTSTART;TZID=America/New_York:20210428T200000
DTEND;TZID=America/New_York:20210428T213000
DTSTAMP:20260423T193200
CREATED:20210402T235143Z
LAST-MODIFIED:20210930T042757Z
UID:6943-1619640000-1619645400@riverarts.org
SUMMARY:Making a Mural for BLM - Artist Conversation with Yonkers Arts
DESCRIPTION:Artist Conversation – Yonkers Arts BLM Mural\n			\n				Register for Event\n			\n				\n				\n				\n				\n				Wednesday\, April 28th8:00-9:30 pmEvent is free but you must register to joinvia Zoom \nJoin us for video tour and a live conversation with Ray Wilcox and Evan Bishop of Yonkers Arts about the organization’s Black Lives Matter Mural. In August of 2020\, Yonkers Arts\, together with community support\, created a Black Lives Matter mural on S. Broadway outside of City Hall in Yonkers.  \nHear about the inspiration for the mural\, the process of getting the mural approved and created\, and the plans for its future. Listen in as Ray and Evan talk about goals for Yonkers Arts\, their role in community building through the arts\, and what it means to serve a city of 200\,000.  At-home audience members will have an opportunity to ask questions in the chat.  \n\nYonkers Arts was founded in 2007 by a group of community leaders from Yonkers who recognized the need for an all encompassing arts organization for a city the size of Yonkers. Under the guidance of these community leaders\, Yonkers Arts hopes to promote a collaborative network for artists and community members. Yonkers Arts is dedicated to providing empowering resources to artists and educational resources for community members. \n\nFOR MORE INFORMATION EMAIL: info@riverarts.org \n			\n				Register for Event
URL:https://riverarts.org/event/artist-conversation-blm-mural/
LOCATION:Virtual Event
CATEGORIES:Art,Discussion: Social Equity
ATTACH;FMTTYPE=image/jpeg:https://riverarts.org/wp-content/uploads/2021/04/BLM-Mural.jpg
END:VEVENT
BEGIN:VEVENT
DTSTART;TZID=America/New_York:20210424T190000
DTEND;TZID=America/New_York:20210424T200000
DTSTAMP:20260423T193200
CREATED:20210407T050716Z
LAST-MODIFIED:20210419T173541Z
UID:7079-1619290800-1619294400@riverarts.org
SUMMARY:Up Close & Virtual: Honoring Doug Coe
DESCRIPTION:Register for Event\n			\n				\n				\n				\n				\n				Up Close & Virtual: Honoring Doug Coe\n			\n				\n				\n				\n				\n				Saturday\, April 24th7:00 pm Online Event \nOn April 24th RiverArts celebrates the immense achievements and contributions to our community of former Executive and Artistic Director\, Doug Coe. Please join us as we honor Doug’s achievements and share memories through video\, performance and conversation in this special gala event.  \nFeaturing Performances by: Kat Gang & Phil Palombi\, Ursula Hansberry\, Tara Linhardt & Scott Giambusso\, Peter Seidenberg & Hui-Mei Lin\, and more! \n\n\nAdmission is free • Donations are welcome • Proceeds benefit The Doug Coe Fund for Artistic Excellence.  \nPlease register by Thursday\, April 22 • All guests must register to receive link for viewing.  \n\n\nFOR MORE INFORMATION EMAIL: info@riverarts.org \n			\n				Register for Event
URL:https://riverarts.org/event/up-close-and-virtual/
LOCATION:Virtual Event
CATEGORIES:Livestream
ATTACH;FMTTYPE=image/gif:https://riverarts.org/wp-content/uploads/2021/04/Up-Close-Virtural-WEB-1200x630-1.gif
END:VEVENT
BEGIN:VEVENT
DTSTART;TZID=America/New_York:20210411T150000
DTEND;TZID=America/New_York:20210411T160000
DTSTAMP:20260423T193200
CREATED:20210404T144101Z
LAST-MODIFIED:20210406T012843Z
UID:7005-1618153200-1618156800@riverarts.org
SUMMARY:Virtual Salon Sundays - Artist Studio Tours with Jane Kang Lawrence & Monica Carrier
DESCRIPTION:Virtual Salon Sundays \n			\n				Register for Event\n			\n				\n				\n				\n				\n				Sunday April 11th 3:00 pm Livestream on RiverArts Instagram \nFree Event \nRiverArts’ now offers a virtual spin on this historic tradition and are featuring two artist every other Sunday from 3 pm to 4 pm.  Each artist will live-stream a brief studio tour and take questions from the audience in the last ten minutes.   \nOur first event is with artists Jane Kang Lawrence and Monica Carrier. This is a great opportunity to gain insights in to their creative process\, learn about techniques in a variety of media and participate in a live Q&A with these two artists.  \nHow to watch Instagram Live:One watches a live broadcast on the Instagram app on your mobile device or on Instagram.com. RiverArts’ profile picture will appear at the top of Feed with a colorful ring around it and the word Live. Tap or click their profile picture to view the live broadcast. \nGet a jump on the tour and check out their work on IG ahead of time! \nJane Kang Lawrence Instagram \nMonica Carrier Instagram \nFOR MORE INFORMATION EMAIL: info@riverarts.org \n			\n				Register for Event
URL:https://riverarts.org/event/virtual-salon-sundays-4-11/
LOCATION:Virtual Event
CATEGORIES:Art,Instagram Live,Salon Sundays
ATTACH;FMTTYPE=image/jpeg:https://riverarts.org/wp-content/uploads/2021/04/Monica.jpg
ORGANIZER;CN="RiverArts":MAILTO:info@riverarts.org
END:VEVENT
BEGIN:VEVENT
DTSTART;TZID=America/New_York:20210325T200000
DTEND;TZID=America/New_York:20210325T213000
DTSTAMP:20260423T193200
CREATED:20210224T202234Z
LAST-MODIFIED:20210313T220522Z
UID:6601-1616702400-1616707800@riverarts.org
SUMMARY:Open Mic Night
DESCRIPTION:Be part of our virtual open mic community!\n			\n				Register for Open Mic Night\n			\n				\n				\n				\n				\n				Please join RiverArts Music Tour Producer Adam Hart for three virtual open mic nights this Spring! Come to hang\, listen\, and perform if you are a professional or just like to play — just come to be part of this supportive and welcoming community of local musicians and music lovers! \nSpectators must also register for access to this event. Bring a friend or two and enjoy some music by your creative neighbors! \nSPECIAL THEMES FOR OUR SPRING OPEN MICS\nMarch: Musical Madness. The end of a long winter  \nApril: Renewal. Songs for lifting us up  \nMay: Spring Cleaning. Finding new life in songs we have forgotten  \nRULES\nThe registration deadline is 7:30 PM EDT on the date of the open mic of your choice. \nYou’ll have an opportunity to play two songs in a “circle of song” Zoom format (we’ll perform around the Zoom grid). \nWe welcome musicians performing all genres. Originals and covers are both welcome. Solo artists\, duos\, full bands — perform however you’d like! Spoken word performers are also welcome. \nFOR MORE INFO EMAIL: info@riverarts.org \n  \nABOUT ADAM HART\nAdam is a folk and folk rock singer-songwriter\, performer\, and educator. He teaches guitar and voice privately\, and he also teaches a guitar workshop at PS 75 on 96th Street in NYC. He has been active in a folk-rock group “Riverrun” for 19 years. On the political side\, Adam is a Democratic District Leader in Hastings-on-Hudson\, NY and is committed to saving what’s left of our environment and seeking out justice for good people. Visit adamhartmusic.com for more information about Adam. \n  \n 
URL:https://riverarts.org/event/open-mic-night-3-25/
LOCATION:Virtual Event
CATEGORIES:Music
ATTACH;FMTTYPE=image/jpeg:https://riverarts.org/wp-content/uploads/2021/02/GettyImages-1227122192.jpg
END:VEVENT
BEGIN:VEVENT
DTSTART;TZID=America/New_York:20210324T193000
DTEND;TZID=America/New_York:20210324T210000
DTSTAMP:20260423T193200
CREATED:20210313T213721Z
LAST-MODIFIED:20210321T220004Z
UID:6734-1616614200-1616619600@riverarts.org
SUMMARY:“The Emperor Jones” — A Conversation About Race and Film
DESCRIPTION:“The Emperor Jones” — A Conversation About Race and Film\n			\n				Register for Discussion\n			\n				\n				\n				\n				\n				We encourage you to join us for this important conversation on the intersectionality of race and cinema.\n Wednesday\, March 24th7:30-9:00 pmEvent is free but you must register to joinvia Zoom \nRiverArts\, in conjunction with the Hastings and the Dobbs Ferry Public Libraries is hosting a discussion of the 1933 film The Emperor Jones\, based on the play by Eugene O’Neill and starring Paul Robeson. \nTanya McKinnon\, Dobbs Ferry resident\, literary agent and former RiverArts Board member\, will moderate the conversation. You are encouraged to watch the film and two short documentaries PRIOR to the discussion here. \nPresented by the The Finger Lakes Film Trail\, this program is part of a Humanities New York funded project: Race Films/Race Matters. “Race films” were produced between the 1910s and the early 1940s and were created by Black film companies for Black audiences. They starred Black actors and emphasized Black-oriented issues and themes. The program uses race films as a starting point for necessary\, informative\, and provocative conversations about race\, racial tension\, and racial discrimination in America today. For more information on the Race Films/Race Matters series click here. \nFOR MORE INFORMATION EMAIL: info@riverarts.org \n			\n				Register for Discussion
URL:https://riverarts.org/event/the-emperor-jones/
LOCATION:Virtual Event
CATEGORIES:Discussion: Social Equity
ATTACH;FMTTYPE=image/jpeg:https://riverarts.org/wp-content/uploads/2021/03/EmpJones_web-1.jpg
END:VEVENT
BEGIN:VEVENT
DTSTART;TZID=America/New_York:20210321T150000
DTEND;TZID=America/New_York:20210321T163000
DTSTAMP:20260423T193200
CREATED:20210224T202823Z
LAST-MODIFIED:20210313T221838Z
UID:6609-1616338800-1616344200@riverarts.org
SUMMARY:Quilling with Vicky Youngman
DESCRIPTION:Register for Paper Quilling\n			\n				\n				\n				\n				\n				Quilling is an ancient art where paper is rolled\, twisted\, shaped\, and pinched into infinite stunning and unexpected shapes. Shapes like spirals\, S curves\, stars\, tear drops\, and more are combined to form larger images and environments. Artist Vicky Youngman will lead the class. Quilling is fun\, addicting\, relaxing\, and easy to learn. \nBefore you know it\, you’ll be creating all sorts of crafts for your friends and family. Great as gifts for Mother’s Day\, Easter or “Just thinking of you!” Come see what you can create! \nSUPPLIES\n\n\n\n\n\nSeveral sheets of colorful construction paper\, medium or heavy weight OR pre-cut quilling paper strips\nScissors\nTweezers\nEither a tooth pick\, skewer\, thin handled paint brush OR a quilling needle (to roll the paper strips around)\nPencil and ruler if you are going to cut your own strips\nWhite glue\, a plastic lid to hold a small amount at a time and small paint brush to apply it OR a glue applicator with a narrow tip\n\n\n\n\n\n			\n				\n				\n				\n				\n				ABOUT VICKY YOUNGMAN\nVicky Youngman has a Master of Professional Studies in Creative Arts Therapy from the Pratt Institute in Brooklyn\, NY\, and worked as an Art Therapist and administrator in healthcare settings for 23 years.  She taught art therapy for seven of those years at the School of Visual Arts in Manhattan and for a short time at College of New Rochelle. Her second career as a ceramic artist has enable her to exhibit and sell her work and continue her love of teaching. As a Professional Teaching Artist through ArtsWestchester since 2008 she has conducted ceramic arts residencies in schools and community sites and most recently Teen Tuesdays\, Family Arts Bash and Arts Mobile workshops. Youngman is also an Adjunct Assistant Professor at Pace University\, Pleasantville campus\, where she has taught ceramics since 2011. In addition she enjoys teaching a variety of pottery classes at Senior Centers\, preschools\, afterschool programs and summer camps throughout the region\, including The Clay Art Center in Port Chester\, NY. \n			\n				Register for Paper Quilling
URL:https://riverarts.org/event/quilling-with-vicky-youngman/
LOCATION:Virtual Event
CATEGORIES:Instruction
ATTACH;FMTTYPE=image/jpeg:https://riverarts.org/wp-content/uploads/2021/02/GettyImages-163271673.jpg
END:VEVENT
END:VCALENDAR