BEGIN:VCALENDAR
VERSION:2.0
PRODID:-//RiverArts - ECPv6.15.20//NONSGML v1.0//EN
CALSCALE:GREGORIAN
METHOD:PUBLISH
X-WR-CALNAME:RiverArts
X-ORIGINAL-URL:https://riverarts.org
X-WR-CALDESC:Events for RiverArts
REFRESH-INTERVAL;VALUE=DURATION:PT1H
X-Robots-Tag:noindex
X-PUBLISHED-TTL:PT1H
BEGIN:VTIMEZONE
TZID:America/New_York
BEGIN:DAYLIGHT
TZOFFSETFROM:-0500
TZOFFSETTO:-0400
TZNAME:EDT
DTSTART:20210314T070000
END:DAYLIGHT
BEGIN:STANDARD
TZOFFSETFROM:-0400
TZOFFSETTO:-0500
TZNAME:EST
DTSTART:20211107T060000
END:STANDARD
BEGIN:DAYLIGHT
TZOFFSETFROM:-0500
TZOFFSETTO:-0400
TZNAME:EDT
DTSTART:20220313T070000
END:DAYLIGHT
BEGIN:STANDARD
TZOFFSETFROM:-0400
TZOFFSETTO:-0500
TZNAME:EST
DTSTART:20221106T060000
END:STANDARD
BEGIN:DAYLIGHT
TZOFFSETFROM:-0500
TZOFFSETTO:-0400
TZNAME:EDT
DTSTART:20230312T070000
END:DAYLIGHT
BEGIN:STANDARD
TZOFFSETFROM:-0400
TZOFFSETTO:-0500
TZNAME:EST
DTSTART:20231105T060000
END:STANDARD
BEGIN:DAYLIGHT
TZOFFSETFROM:-0500
TZOFFSETTO:-0400
TZNAME:EDT
DTSTART:20240310T070000
END:DAYLIGHT
BEGIN:STANDARD
TZOFFSETFROM:-0400
TZOFFSETTO:-0500
TZNAME:EST
DTSTART:20241103T060000
END:STANDARD
BEGIN:DAYLIGHT
TZOFFSETFROM:-0500
TZOFFSETTO:-0400
TZNAME:EDT
DTSTART:20250309T070000
END:DAYLIGHT
BEGIN:STANDARD
TZOFFSETFROM:-0400
TZOFFSETTO:-0500
TZNAME:EST
DTSTART:20251102T060000
END:STANDARD
BEGIN:DAYLIGHT
TZOFFSETFROM:-0500
TZOFFSETTO:-0400
TZNAME:EDT
DTSTART:20260308T070000
END:DAYLIGHT
BEGIN:STANDARD
TZOFFSETFROM:-0400
TZOFFSETTO:-0500
TZNAME:EST
DTSTART:20261101T060000
END:STANDARD
END:VTIMEZONE
BEGIN:VEVENT
DTSTART;TZID=America/New_York:20250605T190000
DTEND;TZID=America/New_York:20250605T203000
DTSTAMP:20260423T185001
CREATED:20250501T221718Z
LAST-MODIFIED:20250502T193910Z
UID:14128-1749150000-1749155400@riverarts.org
SUMMARY:Artist Conversation: Intricate Fabric of Life with Susan Richman and Rachel Weatherford Whitlow
DESCRIPTION:Thursday\, June 57-8:30pmUpstream Gallery8 Main StreetHastings on Hudson\, NY \n			\n				\n				\n				\n				\n				How does anyone cope with constant flux\, with a steady stream of near emergency\, with the knowledge that what once was\, is gone? Illness\, death\, upheaval of most kinds necessitates an anchor. When we feel this way\, some of us look to nature. \n\n“The shore is an ancient world\, for as long as there has been an earth and sea there has been this place of the meeting of land and water. Yet it is a world that keeps alive the sense of continuing creation and of the relentless drive of life. Each time that I enter it\, I gain some new awareness of its beauty and its deeper meanings\, sensing that intricate fabric of life by which one creature is linked with another\, and each with its surroundings.” Rachel Carson \n\nIn this conversation we will explore the liminal space of change and connection as we dive into the works of artists Susan Richman and Rachel Weatherford Whitlow. Each artist has a unique relationship with nature both as a source of inspiration and a medium from which to create\, seeking her anchor in the uncertainty of nature and creating images in which that “intricate fabric of life “is revealed. \n			\n				Purchase Tickets\n			\n				\n				\n				\n				\n				ABOUT THE ARTISTS\n\n            \n            \n             \n			\n				Purchase Tickets
URL:https://riverarts.org/event/richman-whitlow/
LOCATION:Upstream gallery\, 8 Main Street\, Hastings-on-Hudson\, NY\, 10706
CATEGORIES:Art,Artist Conversation,Chamber Music,In-person,Readings and Conversations
ATTACH;FMTTYPE=image/png:https://riverarts.org/wp-content/uploads/2025/05/Website-Banner-for-Homepage.png
ORGANIZER;CN="RiverArts":MAILTO:info@riverarts.org
END:VEVENT
BEGIN:VEVENT
DTSTART;TZID=America/New_York:20230415T200000
DTEND;TZID=America/New_York:20230415T200000
DTSTAMP:20260423T185001
CREATED:20230216T162441Z
LAST-MODIFIED:20230216T163343Z
UID:11541-1681588800-1681588800@riverarts.org
SUMMARY:Live at the Upstream | Folklore Urbano Trio
DESCRIPTION:Live at the Upstream\nSaturday\, April 15th8:00pmUpstream Gallery8 Main Street Hastings-on-Hudson\, NY 10706 \n			\n				Tickets for April Performance\n			\n				\n				\n				\n				\n				Folklore Urbano Trio \nNodding to his widely acclaimed debut album Aviso with Andy González on bass\, Colombian pianist and composer Pablo Mayor presents the most intimate\, jazz version of his renowned Colombian establishment Folklore Urbano. The fresh sound of the group combines Pablo’s in-depth study of the rhythms of the Caribbean and the music of his native country of Colombia\, with an extensive background in jazz composition ranging from trio to big band.  The ensemble features the long-standing rhythm section of the renowned Folklore Urbano Orchestra: Franco Pinna on drum set and Dave Hertzberg on bass. Franco Pinna brings a sensitivity\, groove\, and unique sound that comes from his highly innovative set-up\, combining multi-cultural sounds from a variety of percussion instruments. Dave Hertzberg brings a deep musicality\, swing\, and versatility ranging from his experience with everything from Cuban timba to klezmer and bluegrass. Folklore Urbano has been heard throughout the USA\, Canada\, and Colombia. \n			\n				Tickets for April Performance
URL:https://riverarts.org/event/live-at-the-upstream-april/
LOCATION:Upstream gallery\, 8 Main Street\, Hastings-on-Hudson\, NY\, 10706
CATEGORIES:In-person,Music
ATTACH;FMTTYPE=image/png:https://riverarts.org/wp-content/uploads/2023/02/UpstreamLiveEVENT-April.png
ORGANIZER;CN="RiverArts":MAILTO:info@riverarts.org
END:VEVENT
BEGIN:VEVENT
DTSTART;TZID=America/New_York:20230318T200000
DTEND;TZID=America/New_York:20230318T200000
DTSTAMP:20260423T185001
CREATED:20230216T161939Z
LAST-MODIFIED:20230216T175237Z
UID:11534-1679169600-1679169600@riverarts.org
SUMMARY:Live at the Upstream | Two Acts!
DESCRIPTION:Live at the Upstream\nSaturday\, March 18th8:00pmUpstream Gallery8 Main Street Hastings-on-Hudson\, NY 10706 \n			\n				Tickets for March Performance\n			\n				\n				\n				\n				\n				8:00 pm Either Or: Middle Eastern Rhythms and Melodies \nInterpreting classic\, plaintive Arabic and Turkish songs with modern compositions\, combining Jazz with traditional Middle Eastern rhythms. What brings the quartet together? A shared love of World music\, a belief in the power of music—especially percussion—to change lives\, and a desire to bring beauty and light to the world. \n8:50 pm Jeanne Velonis: Accordion\, classical\, folk\, Western “early music” \nAccordionist\, Jeanne Velonis specializes in contemporary-classical music\, folk music\, Western “early music”\, and the intersections of all these.  She is a member is the Bachtopus Accordion Ensemble\, a quartet whose foci are music by living composers and by J.S. Bach. \nJeanne made her performance debut on the accordion as part of a large ensemble created by the Kronos Quartet to perform Terry Riley’s “In C” at Carnegie Hall.  \n \n			\n				Tickets for March Performance
URL:https://riverarts.org/event/live-at-the-upstream-march/
LOCATION:Upstream gallery\, 8 Main Street\, Hastings-on-Hudson\, NY\, 10706
CATEGORIES:In-person,Music
ATTACH;FMTTYPE=image/png:https://riverarts.org/wp-content/uploads/2023/02/UpstreamLiveEVENT-March.png
ORGANIZER;CN="RiverArts":MAILTO:info@riverarts.org
END:VEVENT
BEGIN:VEVENT
DTSTART;TZID=America/New_York:20230114T200000
DTEND;TZID=America/New_York:20230114T200000
DTSTAMP:20260423T185001
CREATED:20230106T182909Z
LAST-MODIFIED:20230106T220319Z
UID:11250-1673726400-1673726400@riverarts.org
SUMMARY:Live at the Upstream | Blicker Blues Band
DESCRIPTION:Live at the Upstream\nSaturday\, January 14th8:00pmUpstream Gallery8 Main Street Hastings-on-Hudson\, NY 10706 \n			\n				Tickets for January Performance\n			\n				\n				\n				\n				\n				Blicker Blues Band with Erik Blicker\, guitar and vocals; Bill Reeve\, drums; Kevin Farrell\, bass; Steve Horelick\, keys \n			\n				\n				\n				\n				\n				\n            \n            \n            \n			\n				Tickets for January Performance
URL:https://riverarts.org/event/live-at-the-upstream-jan/
LOCATION:Upstream gallery\, 8 Main Street\, Hastings-on-Hudson\, NY\, 10706
CATEGORIES:In-person,Music
ATTACH;FMTTYPE=image/png:https://riverarts.org/wp-content/uploads/2023/01/Event_Upstream_Erick-Blicker-Blues_Web.png
ORGANIZER;CN="RiverArts":MAILTO:info@riverarts.org
END:VEVENT
BEGIN:VEVENT
DTSTART;TZID=America/New_York:20221217T200000
DTEND;TZID=America/New_York:20221217T200000
DTSTAMP:20260423T185001
CREATED:20221202T172127Z
LAST-MODIFIED:20221207T144033Z
UID:11034-1671307200-1671307200@riverarts.org
SUMMARY:Live at the Upstream | The John Lang Trio
DESCRIPTION:Live at the Upstream\nSaturday\, December 17th8:00pmUpstream Gallery8 Main Street Hastings-on-Hudson\, NY 10706 \n			\n				Tickets for December Performance\n			\n				\n				\n				\n				\n				The John Lang Trio presents A Charlie Brown Christmas featuring Roberta Piket and Tom Melito: What better way to enjoy the Holiday season than a trip through one of the best Christmas albums ever recorded. Please join the John Lang Trio as they recreate the magic of a Charlie Brown Christmas. \n			\n				\n				\n				\n				\n				\n            \n            \n            \n			\n				Tickets for December Performance
URL:https://riverarts.org/event/live-at-the-upstream-dec/
LOCATION:Upstream gallery\, 8 Main Street\, Hastings-on-Hudson\, NY\, 10706
CATEGORIES:In-person,Music
ATTACH;FMTTYPE=image/png:https://riverarts.org/wp-content/uploads/2022/12/Event-Graphic_Live-at-the-Upstream-Dec-REV.png
ORGANIZER;CN="RiverArts":MAILTO:info@riverarts.org
END:VEVENT
BEGIN:VEVENT
DTSTART;TZID=America/New_York:20221119T200000
DTEND;TZID=America/New_York:20221119T200000
DTSTAMP:20260423T185001
CREATED:20221020T021239Z
LAST-MODIFIED:20221214T232900Z
UID:10936-1668888000-1668888000@riverarts.org
SUMMARY:Live at the Upstream | The Charles Rhyner Quartet
DESCRIPTION:Live at the Upstream\nSaturday\, November 198:00pmUpstream Gallery8 Main Street Hastings-on-Hudson\, NY 10706 \n			\n				Tickets for Performance\n			\n				\n				\n				\n				\n				Featuring The Charles Rhyner Quartet
URL:https://riverarts.org/event/live-at-the-upstream-nov/
LOCATION:Upstream gallery\, 8 Main Street\, Hastings-on-Hudson\, NY\, 10706
CATEGORIES:In-person,Music
ATTACH;FMTTYPE=image/png:https://riverarts.org/wp-content/uploads/2022/10/Event-Graphic_Live-at-the-Upstream-Nov.png
ORGANIZER;CN="RiverArts":MAILTO:info@riverarts.org
END:VEVENT
BEGIN:VEVENT
DTSTART;TZID=America/New_York:20221015T200000
DTEND;TZID=America/New_York:20221015T200000
DTSTAMP:20260423T185002
CREATED:20220930T215308Z
LAST-MODIFIED:20221012T005658Z
UID:10831-1665864000-1665864000@riverarts.org
SUMMARY:Live at the Upstream | Steven Brent and Jon Hatch
DESCRIPTION:Live at the Upstream\nSaturday\, September 24\n8:00pm\nUpstream Gallery\n8 Main Street Hastings-on-Hudson\, NY 10706\n			\n				Tickets for Performance\n			\n				\n				\n				\n				\n				\nPresenting electronica phenoms Steven Brent and Jon Hatch.
URL:https://riverarts.org/event/live-at-the-upstream-oct/
LOCATION:Upstream gallery\, 8 Main Street\, Hastings-on-Hudson\, NY\, 10706
CATEGORIES:In-person,Music
ATTACH;FMTTYPE=image/png:https://riverarts.org/wp-content/uploads/2022/09/Event-Graphic_Live-at-the-Upstream-October.png
ORGANIZER;CN="RiverArts":MAILTO:info@riverarts.org
END:VEVENT
BEGIN:VEVENT
DTSTART;TZID=America/New_York:20220924T200000
DTEND;TZID=America/New_York:20220924T200000
DTSTAMP:20260423T185002
CREATED:20220909T041441Z
LAST-MODIFIED:20220930T220426Z
UID:10713-1664049600-1664049600@riverarts.org
SUMMARY:Live at the Upstream | Ursula Hansberry +  John Henry
DESCRIPTION:Live at the Upstream\nSaturday\, September 248:00pmUpstream Gallery8 Main Street Hastings-on-Hudson\, NY 10706 \n			\n				Tickets for Performance\n			\n				\n				\n				\n				\n				Presenting singer/songwriters Ursula Hansberry and John Henry. \n \n 
URL:https://riverarts.org/event/live-at-the-upstream-sep/
LOCATION:Upstream gallery\, 8 Main Street\, Hastings-on-Hudson\, NY\, 10706
CATEGORIES:In-person,Music
ATTACH;FMTTYPE=image/png:https://riverarts.org/wp-content/uploads/2022/09/Graphic_Live-at-the-Upstream.png
ORGANIZER;CN="RiverArts":MAILTO:info@riverarts.org
END:VEVENT
BEGIN:VEVENT
DTSTART;TZID=America/New_York:20220522T120000
DTEND;TZID=America/New_York:20220522T160000
DTSTAMP:20260423T185002
CREATED:20220425T122833Z
LAST-MODIFIED:20220513T210938Z
UID:9996-1653220800-1653235200@riverarts.org
SUMMARY:Salon Sundays |  Susan Richman
DESCRIPTION:Sunday\, May 21 \nSusan Richman | PhotographyUpstream Gallery8 Main Street\, Hastings-on-Hudson \nWebsite | Instagram \n			\n				\n				\n				\n				\n				Artist Statement: The alarming decrease of insect\, bird and small animal populations are an omen that the fabric of ecosystem is unraveling and motivated me to create Environmental Memento Mori. With each photo\, I memorialize my subjects whose troubling decline makes their recognition important and poignant. \n			\n				\n				\n				\n				\n				\n			\n				\n				\n				\n				\n				\n			\n				\n				\n				\n				\n				\n			\n				\n				\n				\n				\n				Artists who are interested in participating in Salon Sundays 2022:\n			\n				Register Here\n			\n				\n				\n				\n				\n				Salon Sundays | In-studio\nExplore Art in the Rivertowns this Spring with RiverArts’ Salon Sundays. Salon Sundays invite visitors to tour local artists’ studios and gain an inside view of their work and inspiration. An exciting opportunity to gain insights into the creative process\, learn about techniques in a variety of media and interact with artists here in the Rivertowns community. \nIn April\, May and June\, Salon Sundays will be in-person. \nSalon Sundays are inspired by the French salons founded in the 18th century as a means for new and emerging artists to gather and show their works in large numbers. Artists filled the walls\, floor to ceiling\, exhibiting anything and everything for the public and each other. Salons drew intellectuals\, writers\, poets\, sculptors\, painters\, printmakers\, supporters\, and those interested in engaging with the creative community. \n“We strongly encourage anyone attending a Salon Sunday to come with their curiosity peaked\, ask questions\, and learn who’s who in the local art community. It’s powerful to interact with artists in their space. We’re hoping this event will increase community involvement and provide a chance to meet one-on-one with area artists and experience art up close.” Jeff Dietz\, Producer\, Salon Sundays. \n			\n				\n				\n				\n				\n				To ensure the safety of our audience and artists\, proof of vaccination and masks are required for the in-person events. \nFOR MORE INFORMATION EMAIL:\nJeff Dietz\, Salon Sundays Producer\,  SalonSundays@riverarts.org \n			\n				\n				\n				\n				\n				#SalonSundays #SusanRichman
URL:https://riverarts.org/event/salon-sundays-susan-richman/
LOCATION:Upstream gallery\, 8 Main Street\, Hastings-on-Hudson\, NY\, 10706
CATEGORIES:Art,In-person,Salon Sundays
ATTACH;FMTTYPE=image/png:https://riverarts.org/wp-content/uploads/2022/04/Event-Graphic_Salon-Sundays-SusanRichman_WebEvent.png
ORGANIZER;CN="RiverArts":MAILTO:info@riverarts.org
END:VEVENT
END:VCALENDAR