BEGIN:VCALENDAR
VERSION:2.0
PRODID:-//RiverArts - ECPv6.15.20//NONSGML v1.0//EN
CALSCALE:GREGORIAN
METHOD:PUBLISH
X-ORIGINAL-URL:https://riverarts.org
X-WR-CALDESC:Events for RiverArts
REFRESH-INTERVAL;VALUE=DURATION:PT1H
X-Robots-Tag:noindex
X-PUBLISHED-TTL:PT1H
BEGIN:VTIMEZONE
TZID:America/New_York
BEGIN:DAYLIGHT
TZOFFSETFROM:-0500
TZOFFSETTO:-0400
TZNAME:EDT
DTSTART:20230312T070000
END:DAYLIGHT
BEGIN:STANDARD
TZOFFSETFROM:-0400
TZOFFSETTO:-0500
TZNAME:EST
DTSTART:20231105T060000
END:STANDARD
BEGIN:DAYLIGHT
TZOFFSETFROM:-0500
TZOFFSETTO:-0400
TZNAME:EDT
DTSTART:20240310T070000
END:DAYLIGHT
BEGIN:STANDARD
TZOFFSETFROM:-0400
TZOFFSETTO:-0500
TZNAME:EST
DTSTART:20241103T060000
END:STANDARD
BEGIN:DAYLIGHT
TZOFFSETFROM:-0500
TZOFFSETTO:-0400
TZNAME:EDT
DTSTART:20250309T070000
END:DAYLIGHT
BEGIN:STANDARD
TZOFFSETFROM:-0400
TZOFFSETTO:-0500
TZNAME:EST
DTSTART:20251102T060000
END:STANDARD
BEGIN:DAYLIGHT
TZOFFSETFROM:-0500
TZOFFSETTO:-0400
TZNAME:EDT
DTSTART:20260308T070000
END:DAYLIGHT
BEGIN:STANDARD
TZOFFSETFROM:-0400
TZOFFSETTO:-0500
TZNAME:EST
DTSTART:20261101T060000
END:STANDARD
END:VTIMEZONE
BEGIN:VEVENT
DTSTART;TZID=America/New_York:20251102T150000
DTEND;TZID=America/New_York:20251102T170000
DTSTAMP:20260423T193305
CREATED:20250619T132225Z
LAST-MODIFIED:20251007T131238Z
UID:14341-1762095600-1762102800@riverarts.org
SUMMARY:RiverArts Studio Tour Preview Show - Tarrytown
DESCRIPTION:Preview Show\nSunday\, November 2\, 3-5pmShames JCC371 S. Broadway\, Tarrytown \nThe RiverArts Studio Tour will return this November for a weekend celebration of art throughout the Rivertowns on Saturday\, November 8\, 11am–5pm and Sunday\, November 9\, 11am–3pm \nThis multi-village adventure offers a veritable treasure hunt through industrial lofts\, home studios\, outdoor installations\, storefronts\, and galleries stretching from Hastings-on-Hudson to Tarrytown. The Studio Tour offers an opportunity to engage with local artists in an intimate setting\, learn about their process and inspiration\, and meet plenty of art lovers along the way. Participants can explore a wide range of mediums and unique works\, and if you are lucky\, you’ll bring home something to treasure for years to come. \nIn addition to the main Tour weekend\, RiverArts will host two preview exhibitions of works by participating artists. On Sunday\, October 27 from 3-5pm\, a preview show featuring works by Hastings\, Dobbs Ferry\, and Ardsley artists on the Tour will be shown at Hastings Village Hall Gallery. On Sunday\, November 2 from 3-5pm\, a preview show featuring works by Tarrytown\, Sleepy Hollow\, and Irvington artists on the Tour will be shown at Shames JCC.  \n			\n				RSVP Here
URL:https://riverarts.org/event/studio-tour-preview-tarrytown-2025/
LOCATION:Shames JCC\, 371 S. Broadway\, Tarrytown\, NY\, 10591\, United States
CATEGORIES:Art,In-person
ATTACH;FMTTYPE=image/png:https://riverarts.org/wp-content/uploads/2025/06/Website-Feature-Event-Image-2.png
ORGANIZER;CN="RiverArts":MAILTO:info@riverarts.org
END:VEVENT
BEGIN:VEVENT
DTSTART;TZID=America/New_York:20250208T190000
DTEND;TZID=America/New_York:20250208T210000
DTSTAMP:20260423T193305
CREATED:20241218T192338Z
LAST-MODIFIED:20250106T165703Z
UID:13784-1739041200-1739048400@riverarts.org
SUMMARY:River Readings | a curated evening of play readings
DESCRIPTION:Saturday\, February 8The Ark at Shames JCC371 S. Broadway\, Tarrytown\, NY 10591 \n7–9PM\, doors open 6:30PM \nTickets: $35 \n			\n				Tickets\n			\n				\n				\n				\n				\n				RiverArts presents River Readings ~ a curated evening of play readings. \nJoin us for an evening of new play readings by accomplished playwrights\, read by talented actors\, followed by a talk-back with the playwrights. Enjoy a captivating night out and experience the creative process! \nAppendix by Paul AllmanAn unemployed cartoonist and his wife find themselves living on a back porch and slipping from the grasp of civilization \nThe Red Gene by Mariana Carreño KingWhen Leticia\, confined to her basement under house arrest for failing mandatory conversion therapy\, receives an unexpected visit from Rose\, a by-the-book government official\, a locked door leaves them trapped together with dwindling supplies. As their forced proximity chips away at Rose’s rigid beliefs and Leticia’s protective walls\, both women must confront whether their true prison is the basement—or the society that put them there. \nIn Good Conscience by Derek RolandWhen Jack and Jackie discover that their long-time friends and neighbors Sam and Sammy are having a baby and plan to raise it as a future Conventionalist voter\, it sets off an intensely competitive breeding war between the two couples in a fight for the future of the country. \n  \nRiver Readings 2025 is directed by Sara Wolkowitz\, produced by Lauren Orkus\, with special thanks to Nicole Novy Schneider \n \n			\n				Tickets\n			\n				\n				\n				\n				\n				MEET THE PLAYWRIGHTS
URL:https://riverarts.org/event/river-readings-2025/
LOCATION:Shames JCC\, 371 S. Broadway\, Tarrytown\, NY\, 10591\, United States
CATEGORIES:In-person,Theater
ATTACH;FMTTYPE=image/png:https://riverarts.org/wp-content/uploads/2025/01/RA_RiverReadings_2025-WEB_1920x670-2.png
ORGANIZER;CN="RiverArts":MAILTO:info@riverarts.org
END:VEVENT
BEGIN:VEVENT
DTSTART;TZID=America/New_York:20241027T150000
DTEND;TZID=America/New_York:20241027T170000
DTSTAMP:20260423T193305
CREATED:20230928T051259Z
LAST-MODIFIED:20241012T011457Z
UID:12618-1730041200-1730048400@riverarts.org
SUMMARY:RiverArts Studio Tour Preview Show - Tarrytown
DESCRIPTION:Preview Show\nSunday\, October 27 3-5pmShames JCC371 S. Broadway\, Tarrytown \nThe RiverArts Studio Tour will return this November for a weekend celebration of art throughout the Rivertowns on Saturday\, November 2\, 11am–5pm and Sunday\, November 3\, 11am–3pm \nThis multi-village adventure offers a veritable treasure hunt through industrial lofts\, home studios\, outdoor installations\, storefronts\, and galleries stretching from Hastings-on-Hudson to Tarrytown. The Studio Tour offers an opportunity to engage with local artists in an intimate setting\, learn about their process and inspiration\, and meet plenty of art lovers along the way. Participants can explore a wide range of mediums and unique works\, and if you are lucky\, you’ll bring home something to treasure for years to come. \nIn addition to the main Tour weekend\, RiverArts will host two preview exhibitions of works by participating artists. On Sunday\, October 20th from 3-5pm\, a preview show featuring works by Hastings\, Dobbs Ferry\, and Ardsley artists on the Tour will be shown at Hastings Village Hall Gallery. On Sunday\, October 27th from 3-5pm\, a preview show featuring works by Tarrytown\, Sleepy Hollow\, and Irvington artists on the Tour will be shown at Shames JCC.  \n  \n 
URL:https://riverarts.org/event/2023-studio-tour-preview-show-tarrytown/
LOCATION:Shames JCC\, 371 S. Broadway\, Tarrytown\, NY\, 10591\, United States
CATEGORIES:Art,In-person
ATTACH;FMTTYPE=image/png:https://riverarts.org/wp-content/uploads/2023/09/RA_StudioTour_PreviewShow_Brd.png
ORGANIZER;CN="RiverArts":MAILTO:info@riverarts.org
END:VEVENT
END:VCALENDAR