BEGIN:VCALENDAR
VERSION:2.0
PRODID:-//RiverArts - ECPv6.15.20//NONSGML v1.0//EN
CALSCALE:GREGORIAN
METHOD:PUBLISH
X-ORIGINAL-URL:https://riverarts.org
X-WR-CALDESC:Events for RiverArts
REFRESH-INTERVAL;VALUE=DURATION:PT1H
X-Robots-Tag:noindex
X-PUBLISHED-TTL:PT1H
BEGIN:VTIMEZONE
TZID:America/New_York
BEGIN:DAYLIGHT
TZOFFSETFROM:-0500
TZOFFSETTO:-0400
TZNAME:EDT
DTSTART:20200308T070000
END:DAYLIGHT
BEGIN:STANDARD
TZOFFSETFROM:-0400
TZOFFSETTO:-0500
TZNAME:EST
DTSTART:20201101T060000
END:STANDARD
BEGIN:DAYLIGHT
TZOFFSETFROM:-0500
TZOFFSETTO:-0400
TZNAME:EDT
DTSTART:20210314T070000
END:DAYLIGHT
BEGIN:STANDARD
TZOFFSETFROM:-0400
TZOFFSETTO:-0500
TZNAME:EST
DTSTART:20211107T060000
END:STANDARD
BEGIN:DAYLIGHT
TZOFFSETFROM:-0500
TZOFFSETTO:-0400
TZNAME:EDT
DTSTART:20220313T070000
END:DAYLIGHT
BEGIN:STANDARD
TZOFFSETFROM:-0400
TZOFFSETTO:-0500
TZNAME:EST
DTSTART:20221106T060000
END:STANDARD
END:VTIMEZONE
BEGIN:VEVENT
DTSTART;TZID=America/New_York:20210619T073000
DTEND;TZID=America/New_York:20210705T235900
DTSTAMP:20260423T201623
CREATED:20210619T053330Z
LAST-MODIFIED:20210619T054351Z
UID:7738-1624087800-1625529540@riverarts.org
SUMMARY:Serene Spring | Chamber Music Recording
DESCRIPTION:Serene Spring – Chamber Music Recording \n			\n				Purchase Recording Here\n			\n				\n				\n				\n				\n				Access to the recording through Monday July 5th  Reording | $5 \nRiverArts is proud to offer an encore recording of our recent chamber music concert\, “Serene Spring” featuring The Solace Trio from the June 11th performace at St. Barnabas Episcopal Church in Ardsley. \nThe Solace Trio – April Johnson (Violin)\, Peter Seidenberg (Cello) and Tomoko Uchino (Piano) delivered a wonderful program of music from a variety of composers to turn the page on the last year and look forward to all that lies ahead.  \nOpening with “Mozart-Adagio for Piano Trio” by Arvo Part\, the program continues with “Sonatina for Violin and Piano\, Op. 100” by Dvorak\, “Air for Cello and Piano” by Aaron J. Kernis and ends with Beethoven’s “Piano Trio in Eflat Op. 70 no. 2.” \n____ \nChamber Music Artistic Director Peter Seidenberg and Producer Doug Coe put together a program that sought to encapsulate the moment in time we all currently inhabit. Seidenberg commented that “We chose music that reflects the emotions of the unusual time we live in: dissonant but serene\, dark but earthy\, heartaching but hopeful\, challenging but affirming.“ \nArtistic Director Kate Ashby commented “RiverArts is delighted to present this uplifting musical program which celebrates the renewed spirit of springtime and the power of music to encourage\, to invigorate and to restore.” \nAbout the Musicians\nApril Johnson – April Johnson has performed throughout the US with the Oracle Trio and the New York Chamber Soloists. She is a former Concertmaster for the Jupiter Symphony\, Canton Ohio Symphony\, Galatea Ensemble\, Queens Oratorio; and Associate Concertmaster for the Norwalk Symphony. Having performed in Europe and Asia\, she has also recorded on Dorian and Lyrichord. A member of the Hoff-Barthelson Music School who also teaches Suzuki Violin\, she earned a BM from Oberlin College and Advanced Studies at Brooklyn College Conservatory. \nPeter Seidenberg – “Totally enchanting\, inspired performances\, brimming with natural\, spontaneous musicianship”\, raves Gramophone Magazine about cellist Peter Seidenberg. Mr. Seidenberg has played in major halls throughout the US\, Europe and Asia\, and served as principal cellist with the Century Orchestra of Osaka. He was a founding member of the critically acclaimed Elements Quartet which created groundbreaking commissioning projects of 30 composers. He has collaborated with members of the Cleveland\, Tokyo\, Juilliard and Emerson Quartets and participated in the Marlboro\, Aspen\, Caramoor\, and Casals festivals. He is the cellist for the Oracle Trio\, the Queen’s Chamber Band\, and the New York Chamber Soloists. \nTomoko Uchino – Ms. Uchino received awards at the Ettlingen International Piano Competition and the Takahiro Sonoda Piano Award International Competitions. She has performed at major concert halls throughout the United States\, Europe\, Japan and Thailand\, as well as at chamber music festivals. A member of Solace Ensemble\, THUD and Jang/Uchino Violin-Piano Duo\, she has been on the accompanying staff of the Juilliard School\, Heifetz International Music Institute as well as others. She earned a BM High Honors at the U of Michigan\, MM from Peabody Conservatory\, and Doctoral of Musical Arts from U of Arizona. She received a graduate diploma from the Juilliard School. \nFOR MORE INFORMATION EMAIL: info@riverarts.org \n			\n				Purchase Recording Here
URL:https://riverarts.org/event/serene-spring-chamber-music-recording/
LOCATION:Recorded Event
CATEGORIES:Chamber Music,Recorded Event
ATTACH;FMTTYPE=image/jpeg:https://riverarts.org/wp-content/uploads/2021/06/The-Solace-Trio-2.jpg
END:VEVENT
BEGIN:VEVENT
DTSTART;TZID=America/New_York:20210510T120000
DTEND;TZID=America/New_York:20210523T000000
DTSTAMP:20260423T201624
CREATED:20210507T174913Z
LAST-MODIFIED:20210507T181518Z
UID:7446-1620648000-1621728000@riverarts.org
SUMMARY:Imprint of Light | A Dance\, Music & Video Collaboration | Recorded Event
DESCRIPTION:RECORDED EVENT | Imprint of Light – video livestream with post-performance Q & A with the artists  \n			\n				Register for Recording of Event\n			\n				\n				\n				\n				\n				Recorded broadcast of Saturday\, May 8th event with artist Q&A.  \nAvailable from 5/10–5/23 | $10 \nRiverArts was proud to debut Imprint of Light\, a dance\, music & video collaboration that was broadcasted on May 8th via Zoom. Choreographer/Dancer Maxine Sherman and Composer/Videographer Steven Brent collaborate in this new work weaving dance\, music and layered imagery to create an innovative experience at the cutting edge of performance art and film. \nImprint of Light is a magical journey within the imagination\, toward the illumination of the human spirit and its relationship to the 4 elements of the earth. Sometimes mesmerizing\, hypnotic and funny we all curiously travel to unknown places in the vehicle of our own body. We might land on familiar shores\, but a mischievous impulse gives us a 360 degree view of new light. \nThere was a Zoom broadcast of the video on Saturday May 8th at 8pm followed by a live Q&A session with both artists. A recording of the broadcast and Q&A will be available to view for the two weeks following the broadcast.  \nFOR MORE INFORMATION EMAIL: info@riverarts.org \n			\n				Register for Recording of Event
URL:https://riverarts.org/event/imprint-of-light-recorded-event/
LOCATION:Recorded Event
CATEGORIES:Dance,Zoom Performance with Q&A
ATTACH;FMTTYPE=image/gif:https://riverarts.org/wp-content/uploads/2021/04/Imprint-of-Light_MainGraphic.gif
END:VEVENT
END:VCALENDAR