BEGIN:VCALENDAR
VERSION:2.0
PRODID:-//RiverArts - ECPv6.15.20//NONSGML v1.0//EN
CALSCALE:GREGORIAN
METHOD:PUBLISH
X-ORIGINAL-URL:https://riverarts.org
X-WR-CALDESC:Events for RiverArts
REFRESH-INTERVAL;VALUE=DURATION:PT1H
X-Robots-Tag:noindex
X-PUBLISHED-TTL:PT1H
BEGIN:VTIMEZONE
TZID:America/New_York
BEGIN:DAYLIGHT
TZOFFSETFROM:-0500
TZOFFSETTO:-0400
TZNAME:EDT
DTSTART:20210314T070000
END:DAYLIGHT
BEGIN:STANDARD
TZOFFSETFROM:-0400
TZOFFSETTO:-0500
TZNAME:EST
DTSTART:20211107T060000
END:STANDARD
BEGIN:DAYLIGHT
TZOFFSETFROM:-0500
TZOFFSETTO:-0400
TZNAME:EDT
DTSTART:20220313T070000
END:DAYLIGHT
BEGIN:STANDARD
TZOFFSETFROM:-0400
TZOFFSETTO:-0500
TZNAME:EST
DTSTART:20221106T060000
END:STANDARD
BEGIN:DAYLIGHT
TZOFFSETFROM:-0500
TZOFFSETTO:-0400
TZNAME:EDT
DTSTART:20230312T070000
END:DAYLIGHT
BEGIN:STANDARD
TZOFFSETFROM:-0400
TZOFFSETTO:-0500
TZNAME:EST
DTSTART:20231105T060000
END:STANDARD
END:VTIMEZONE
BEGIN:VEVENT
DTSTART;TZID=America/New_York:20220501T150000
DTEND;TZID=America/New_York:20220501T150000
DTSTAMP:20260423T215224
CREATED:20220324T002035Z
LAST-MODIFIED:20220404T141456Z
UID:9774-1651417200-1651417200@riverarts.org
SUMMARY:Beethoven’s (Belated) Birthday Bash\, Part B | Late works
DESCRIPTION:Beethoven’s (Belated) Birthday Bash\nSaturday\, April 30 7:00pm Part A | Early works \nSunday\, May 1 at 3:00pm Part B | Late works\nIrvington Presbyterian Church\n25 N Broadway\nIrvington\, NY 10533 \nComplete Works for Cello and Piano\, in two concerts\nPeter Seidenberg\, cello and Hui-Mei Lin\, piano \nTickets:\n$40 for single concert [only Part A or Part B]\n$70 for both concerts [Part A and Part B] \n\n			\n				Tickets for Performances\n			\n				\n				\n				\n				\n				  \nThese two concerts\, originally scheduled for 2020 to coincide with Beethoven’s 250th birthday\, were postponed due to the pandemic. We will now celebrate the 252nd year of his birth. Cellist Peter Seidenberg and pianist Hui-Mei Lin will bring this sparkling repertoire vividly to life. \nFrom 1795 to 1816 Beethoven composed five sonatas and three sets of variations for cello and piano. Each piece unto itself is a beautiful gem\, written with unusual compositional cleverness\, defying norms of Classical Style. Taken as a whole these pieces create an autobiographical arc exemplifying each one of Beethoven’s compositional periods. The two concerts encompass all these pieces\, in chronological order\, offering the listener an experience of the biographical span of Beethoven’s life. \nPart A jumps immediately into the world of Beethoven as a virtuosic star throughout Europe. Life is optimistic. Part B explores the heroic aspects of Beethoven’s compositions\, he’s at the height of his artistic power. Then we delve into the deeply personal\, almost diary-like compositions of his late period.  Through each concert\, listeners will journey through Beethoven’s life and compositional evolution. They will hear not only his maturation as a composer but also his developing treatment of the partnership between cello and piano. \nAs appropriate for a Viennese birthday celebration\, each concert will be followed by cake and a champagne toast! Let’s Party!!\n			\n				Tickets for Performances\n			\n				\n				\n				\n				\n				All attendees will be required to show proof of vaccination at the door. Until further notice\, attendees will be required to wear masks at all indoor RiverArts events. \nFOR MORE INFORMATION EMAIL: info@riverarts.org\n			\n				\n				\n				\n				\n				#RiverArtsChamberMusic\n#BeethovensBirthday\n			\n				\n				\n				\n				\n				—\nPerformers
URL:https://riverarts.org/event/beethoven-sun/
LOCATION:Irvington Presbyterian Church\, 25 N Broadway\, Irvington\, 10533\, United States
CATEGORIES:Chamber Music,In-person
ATTACH;FMTTYPE=image/png:https://riverarts.org/wp-content/uploads/2022/03/Event-Graphic_Beethoven-Rev.png
ORGANIZER;CN="RiverArts":MAILTO:info@riverarts.org
END:VEVENT
BEGIN:VEVENT
DTSTART;TZID=America/New_York:20220430T190000
DTEND;TZID=America/New_York:20220430T190000
DTSTAMP:20260423T215224
CREATED:20220322T124331Z
LAST-MODIFIED:20220401T163054Z
UID:9716-1651345200-1651345200@riverarts.org
SUMMARY:Beethoven’s (Belated) Birthday Bash\, Part A | Early works
DESCRIPTION:Beethoven’s (Belated) Birthday Bash\nSaturday\, April 30 7:00pm Part A | Early works\nSunday\, May 1 at 3:00pm Part B | Late works\nIrvington Presbyterian Church\n25 N Broadway\nIrvington\, NY 10533 \nComplete Works for Cello and Piano\, in two concerts\nPeter Seidenberg\, cello and Hui-Mei Lin\, piano \nTickets:\n$40 for single concert [only Part A or Part B]\n$70 for both concerts [Part A and Part B] \n\n			\n				Tickets for Performances\n			\n				\n				\n				\n				\n				  \nThese two concerts\, originally scheduled for 2020 to coincide with Beethoven’s 250th birthday\, were postponed due to the pandemic. We will now celebrate the 252nd year of his birth. Cellist Peter Seidenberg and pianist Hui-Mei Lin will bring this sparkling repertoire vividly to life. \nFrom 1795 to 1816 Beethoven composed five sonatas and three sets of variations for cello and piano. Each piece unto itself is a beautiful gem\, written with unusual compositional cleverness\, defying norms of Classical Style. Taken as a whole these pieces create an autobiographical arc exemplifying each one of Beethoven’s compositional periods. The two concerts encompass all these pieces\, in chronological order\, offering the listener an experience of the biographical span of Beethoven’s life. \nPart A jumps immediately into the world of Beethoven as a virtuosic star throughout Europe. Life is optimistic. Part B explores the heroic aspects of Beethoven’s compositions\, he’s at the height of his artistic power. Then we delve into the deeply personal\, almost diary-like compositions of his late period.  Through each concert\, listeners will journey through Beethoven’s life and compositional evolution. They will hear not only his maturation as a composer but also his developing treatment of the partnership between cello and piano. \nAs appropriate for a Viennese birthday celebration\, each concert will be followed by cake and a champagne toast! Let’s Party!!\n			\n				Tickets for Performances\n			\n				\n				\n				\n				\n				All attendees will be required to show proof of vaccination at the door. Until further notice\, attendees will be required to wear masks at all indoor RiverArts events. \nFOR MORE INFORMATION EMAIL: info@riverarts.org\n			\n				\n				\n				\n				\n				#RiverArtsChamberMusic\n#BeethovensBirthday\n			\n				\n				\n				\n				\n				—\nPerformers
URL:https://riverarts.org/event/beethoven-sat/
LOCATION:Irvington Presbyterian Church\, 25 N Broadway\, Irvington\, 10533\, United States
CATEGORIES:Chamber Music,In-person
ATTACH;FMTTYPE=image/png:https://riverarts.org/wp-content/uploads/2022/03/Event-Graphic_Beethoven-Rev.png
ORGANIZER;CN="RiverArts":MAILTO:info@riverarts.org
END:VEVENT
END:VCALENDAR