BEGIN:VCALENDAR
VERSION:2.0
PRODID:-//RiverArts - ECPv6.15.20//NONSGML v1.0//EN
CALSCALE:GREGORIAN
METHOD:PUBLISH
X-ORIGINAL-URL:https://riverarts.org
X-WR-CALDESC:Events for RiverArts
REFRESH-INTERVAL;VALUE=DURATION:PT1H
X-Robots-Tag:noindex
X-PUBLISHED-TTL:PT1H
BEGIN:VTIMEZONE
TZID:America/New_York
BEGIN:DAYLIGHT
TZOFFSETFROM:-0500
TZOFFSETTO:-0400
TZNAME:EDT
DTSTART:20210314T070000
END:DAYLIGHT
BEGIN:STANDARD
TZOFFSETFROM:-0400
TZOFFSETTO:-0500
TZNAME:EST
DTSTART:20211107T060000
END:STANDARD
BEGIN:DAYLIGHT
TZOFFSETFROM:-0500
TZOFFSETTO:-0400
TZNAME:EDT
DTSTART:20220313T070000
END:DAYLIGHT
BEGIN:STANDARD
TZOFFSETFROM:-0400
TZOFFSETTO:-0500
TZNAME:EST
DTSTART:20221106T060000
END:STANDARD
BEGIN:DAYLIGHT
TZOFFSETFROM:-0500
TZOFFSETTO:-0400
TZNAME:EDT
DTSTART:20230312T070000
END:DAYLIGHT
BEGIN:STANDARD
TZOFFSETFROM:-0400
TZOFFSETTO:-0500
TZNAME:EST
DTSTART:20231105T060000
END:STANDARD
BEGIN:DAYLIGHT
TZOFFSETFROM:-0500
TZOFFSETTO:-0400
TZNAME:EDT
DTSTART:20240310T070000
END:DAYLIGHT
BEGIN:STANDARD
TZOFFSETFROM:-0400
TZOFFSETTO:-0500
TZNAME:EST
DTSTART:20241103T060000
END:STANDARD
BEGIN:DAYLIGHT
TZOFFSETFROM:-0500
TZOFFSETTO:-0400
TZNAME:EDT
DTSTART:20250309T070000
END:DAYLIGHT
BEGIN:STANDARD
TZOFFSETFROM:-0400
TZOFFSETTO:-0500
TZNAME:EST
DTSTART:20251102T060000
END:STANDARD
BEGIN:DAYLIGHT
TZOFFSETFROM:-0500
TZOFFSETTO:-0400
TZNAME:EDT
DTSTART:20260308T070000
END:DAYLIGHT
BEGIN:STANDARD
TZOFFSETFROM:-0400
TZOFFSETTO:-0500
TZNAME:EST
DTSTART:20261101T060000
END:STANDARD
END:VTIMEZONE
BEGIN:VEVENT
DTSTART;TZID=America/New_York:20251026T150000
DTEND;TZID=America/New_York:20251026T170000
DTSTAMP:20260425T162208
CREATED:20250619T132535Z
LAST-MODIFIED:20251007T130944Z
UID:14345-1761490800-1761498000@riverarts.org
SUMMARY:RiverArts Studio Tour Preview Show - Hastings
DESCRIPTION:Preview Show\nSunday\, October 26\, 3-5pmHastings Village Hall Gallery7 Maple Ave\, Hastings \nThe RiverArts Studio Tour will return this November for a weekend celebration of art throughout the Rivertowns on Saturday\, November 8\, 11am–5pm and Sunday\, November 9\, 11am–3pm \nThis multi-village adventure offers a veritable treasure hunt through industrial lofts\, home studios\, outdoor installations\, storefronts\, and galleries stretching from Hastings-on-Hudson to Tarrytown. The Studio Tour offers an opportunity to engage with local artists in an intimate setting\, learn about their process and inspiration\, and meet plenty of art lovers along the way. Participants can explore a wide range of mediums and unique works\, and if you are lucky\, you’ll bring home something to treasure for years to come. \nIn addition to the main Tour weekend\, RiverArts will host two preview exhibitions of works by participating artists. On Sunday\, October 26 from 3-5pm\, a preview show featuring works by Hastings\, Dobbs Ferry\, and Ardsley artists on the Tour will be shown at Hastings Village Hall Gallery. On Sunday\, November 2 from 3-5pm\, a preview show featuring works by Tarrytown\, Sleepy Hollow\, and Irvington artists on the Tour will be shown at Shames JCC.  \n			\n				RSVP Here
URL:https://riverarts.org/event/studio-tour-preview-hastings-2025/
LOCATION:Hastings Village Hall Gallery\, 7 Maple Avenue\, Hastings-on-Hudson\, NY\, 10706\, United States
CATEGORIES:Art,In-person
ATTACH;FMTTYPE=image/png:https://riverarts.org/wp-content/uploads/2025/06/Website-Feature-Event-Image-1.png
ORGANIZER;CN="RiverArts":MAILTO:info@riverarts.org
END:VEVENT
BEGIN:VEVENT
DTSTART;TZID=America/New_York:20241020T150000
DTEND;TZID=America/New_York:20241020T170000
DTSTAMP:20260425T162208
CREATED:20230928T050246Z
LAST-MODIFIED:20241012T011645Z
UID:12613-1729436400-1729443600@riverarts.org
SUMMARY:RiverArts Studio Tour Preview Show - Hastings
DESCRIPTION:Preview Show\nSunday\, October 15 3-5pmHastings Village Hall Gallery7 Maple Avenue\, Hastings-On-Hudson \nThe RiverArts Studio Tour will return this November for a weekend celebration of art throughout the Rivertowns on Saturday\, November 2\, 11am–5pm and Sunday\, November 3\, 11am–3pm \nThis multi-village adventure offers a veritable treasure hunt through industrial lofts\, home studios\, outdoor installations\, storefronts\, and galleries stretching from Hastings-on-Hudson to Tarrytown. The Studio Tour offers an opportunity to engage with local artists in an intimate setting\, learn about their process and inspiration\, and meet plenty of art lovers along the way. Participants can explore a wide range of mediums and unique works\, and if you are lucky\, you’ll bring home something to treasure for years to come. \nIn addition to the main Tour weekend\, RiverArts will host two preview exhibitions of works by participating artists. On Sunday\, October 20th from 3-5pm\, a preview show featuring works by Hastings\, Dobbs Ferry\, and Ardsley artists on the Tour will be shown at Hastings Village Hall Gallery. On Sunday\, October 27th from 3-5pm\, a preview show featuring works by Tarrytown\, Sleepy Hollow\, and Irvington artists on the Tour will be shown at Shames JCC.  \n  \n 
URL:https://riverarts.org/event/2023-studio-tour-preview-show-hastings/
LOCATION:Hastings Village Hall Gallery\, 7 Maple Avenue\, Hastings-on-Hudson\, NY\, 10706\, United States
CATEGORIES:Art,In-person
ATTACH;FMTTYPE=image/png:https://riverarts.org/wp-content/uploads/2023/09/RA_StudioTour_PreviewShow_Brd.png
ORGANIZER;CN="RiverArts":MAILTO:info@riverarts.org
END:VEVENT
BEGIN:VEVENT
DTSTART;TZID=America/New_York:20221030T140000
DTEND;TZID=America/New_York:20221030T170000
DTSTAMP:20260425T162208
CREATED:20220907T040657Z
LAST-MODIFIED:20221024T180914Z
UID:10631-1667138400-1667149200@riverarts.org
SUMMARY:RiverArts Studio Tour Preview Show
DESCRIPTION:Preview Show Opening Reception \nSunday\, October 30th\, 2–5pmHastings Village Hall Gallery7 Maple Avenue\, Hastings-on-Hudson \nWe are delighted to announce that the RiverArts Studio Tour will return this November for a weekend celebration of art throughout the Rivertowns on Saturday\, November 5\, 11am–6pm and Sunday\, November 6\, 11am–6pm. \nIn advance of the Tour\, RiverArts and the Hastings Village Arts Commission will be hosting a Preview Show on Sunday 10/30 from 2-5 in front of the Hastings Village Hall (7 Maple Avenue). Please come join us at this free reception to get a sneak peek at some of the artists that will be opening their studios during the Tour\, enjoy the live sounds of Kat Gang and have a drink or two on us! 
URL:https://riverarts.org/event/riverarts-studio-tour-preview-show-hastings/
LOCATION:Hastings Village Hall Gallery\, 7 Maple Avenue\, Hastings-on-Hudson\, NY\, 10706\, United States
CATEGORIES:Art,In-person
ATTACH;FMTTYPE=image/png:https://riverarts.org/wp-content/uploads/2022/08/Event-Graphic_StudioTour22-REV_Preview-Dobbs.png
END:VEVENT
END:VCALENDAR