BEGIN:VCALENDAR
VERSION:2.0
PRODID:-//RiverArts - ECPv6.15.20//NONSGML v1.0//EN
CALSCALE:GREGORIAN
METHOD:PUBLISH
X-ORIGINAL-URL:https://riverarts.org
X-WR-CALDESC:Events for RiverArts
REFRESH-INTERVAL;VALUE=DURATION:PT1H
X-Robots-Tag:noindex
X-PUBLISHED-TTL:PT1H
BEGIN:VTIMEZONE
TZID:America/New_York
BEGIN:DAYLIGHT
TZOFFSETFROM:-0500
TZOFFSETTO:-0400
TZNAME:EDT
DTSTART:20210314T070000
END:DAYLIGHT
BEGIN:STANDARD
TZOFFSETFROM:-0400
TZOFFSETTO:-0500
TZNAME:EST
DTSTART:20211107T060000
END:STANDARD
BEGIN:DAYLIGHT
TZOFFSETFROM:-0500
TZOFFSETTO:-0400
TZNAME:EDT
DTSTART:20220313T070000
END:DAYLIGHT
BEGIN:STANDARD
TZOFFSETFROM:-0400
TZOFFSETTO:-0500
TZNAME:EST
DTSTART:20221106T060000
END:STANDARD
BEGIN:DAYLIGHT
TZOFFSETFROM:-0500
TZOFFSETTO:-0400
TZNAME:EDT
DTSTART:20230312T070000
END:DAYLIGHT
BEGIN:STANDARD
TZOFFSETFROM:-0400
TZOFFSETTO:-0500
TZNAME:EST
DTSTART:20231105T060000
END:STANDARD
END:VTIMEZONE
BEGIN:VEVENT
DTSTART;TZID=America/New_York:20220602T193000
DTEND;TZID=America/New_York:20220602T220000
DTSTAMP:20260425T115310
CREATED:20220527T010808Z
LAST-MODIFIED:20220527T195005Z
UID:10235-1654198200-1654207200@riverarts.org
SUMMARY:Drink & Draw
DESCRIPTION:Drink & Draw \n			\n				\n				\n				\n				\n				June 2\, 7:30–10:pm \nHastings Public LibraryOrr Room\, Lower level 7 Maple Avenue Hastings-on-Hudson  \nAdmission: $20 per session; Register below. You must register and pay in advance below for each session. No payments will be accepted at the door.   \nDrink & Draw is a modern twist on the classic artistic practice of life drawing. Artists of all experience levels and backgrounds are welcome\, especially those that have always wanted to try their hand.  \n			\n				\n				\n				\n				\n				In this non-instructional event\, we aim to create a relaxing\, social and inclusive environment for the community to come together for a fun night of drawing.  After some mingling with fellow guests\, participants will have an opportunity to capture the human body in poses of different lengths\, with breaks for refreshments in between.   \nThere’s wine\, crackers\, cheese and cookies to enjoy\, and our host curates a playlist to keep your energy flowing.  The evening lasts about 2 ½ hours\, and participants leave with a collection of their new works… and maybe some new friends too. \nRiverArts is proud to be able to provide this unique opportunity right here in our Rivertowns\, an opportunity which is often only accessible to art students or by traveling into New York City\, with a significant investment of time and tuition.  Drink & Draw offers a perfect entry-level for the amateur artist\, and we have seen beginners improve significantly as their skills develop in subsequent sessions and they draw on their experience and learn from others.   \nModel provided. Please bring your own art supplies and arrive on time. Must be over 18 to attend. Wine for those 21+Proof of vaccination is required for attendance and we will ask everyone but the model to be masked. \nFOR MORE INFORMATION EMAIL: info@riverarts.org \n#DrinkAndDraw \n			\n				\n				\n				\n				\n				 Fill out my Wufoo form!
URL:https://riverarts.org/event/drink-and-draw-june/
LOCATION:Hastings Public Library\, Orr Room\, Lower Level\, 7 Maple Avenue\, Hastings-on-Hudson\, NY\, 10706\, United States
CATEGORIES:Art,Figure Drawing,In-person
ATTACH;FMTTYPE=image/png:https://riverarts.org/wp-content/uploads/2022/05/Event-Graphic_DrinkDraw-_June.png
ORGANIZER;CN="RiverArts":MAILTO:info@riverarts.org
END:VEVENT
BEGIN:VEVENT
DTSTART;TZID=America/New_York:20220505T193000
DTEND;TZID=America/New_York:20220505T220000
DTSTAMP:20260425T115310
CREATED:20220527T010834Z
LAST-MODIFIED:20220527T010834Z
UID:10236-1651779000-1651788000@riverarts.org
SUMMARY:Drink & Draw Copy
DESCRIPTION:Drink & Draw \n			\n				\n				\n				\n				\n				Thursday\, May 5145 Palisade Street Hudson River Landing \nAdmission: $20 per session; Register below. You must register and pay in advance below for each session. No payments will be accepted at the door.   \nDrink & Draw is a modern twist on the classic artistic practice of life drawing. Artists of all experience levels and backgrounds are welcome\, especially those that have always wanted to try their hand.   \nIn this non-instructional event\, we aim to create a relaxing\, social and inclusive environment for the community to come together for a fun night of drawing.  After some mingling with fellow guests\, participants will have an opportunity to capture the human body in poses of different lengths\, with breaks for refreshments in between.   \nThere’s wine\, crackers\, cheese and cookies to enjoy\, and our host curates a playlist to keep your energy flowing.  The evening lasts about 2 ½ hours\, and participants leave with a collection of their new works… and maybe some new friends too. \nRiverArts is proud to be able to provide this unique opportunity right here in our Rivertowns\, an opportunity which is often only accessible to art students or by traveling into New York City\, with a significant investment of time and tuition.  Drink & Draw offers a perfect entry-level for the amateur artist\, and we have seen beginners improve significantly as their skills develop in subsequent sessions and they draw on their experience and learn from others.   \n*Model provided. Please bring your own art supplies and arrive on time. **Must be over 18 to attend. Wine for those 21+***Until COVID-19 numbers come back down\, proof of vaccination is required for attendance and we will ask everyone but the model to be masked. \nFOR MORE INFORMATION EMAIL: info@riverarts.org \n#DrinkAndDraw \n			\n				\n				\n				\n				\n				 Fill out my Wufoo form!
URL:https://riverarts.org/event/drink-and-draw-may-copy-2/
LOCATION:Hastings Public Library\, Orr Room\, Lower Level\, 7 Maple Avenue\, Hastings-on-Hudson\, NY\, 10706\, United States
CATEGORIES:Art,Figure Drawing,In-person
ATTACH;FMTTYPE=image/png:https://riverarts.org/wp-content/uploads/2022/01/Event_DrinkDraw_REV_May.png
ORGANIZER;CN="RiverArts":MAILTO:info@riverarts.org
END:VEVENT
BEGIN:VEVENT
DTSTART;TZID=America/New_York:20220505T193000
DTEND;TZID=America/New_York:20220505T220000
DTSTAMP:20260425T115310
CREATED:20220120T025442Z
LAST-MODIFIED:20220405T013005Z
UID:8812-1651779000-1651788000@riverarts.org
SUMMARY:Drink & Draw
DESCRIPTION:Drink & Draw \n			\n				\n				\n				\n				\n				Thursday\, May 5145 Palisade Street Hudson River Landing \nAdmission: $20 per session; Register below. You must register and pay in advance below for each session. No payments will be accepted at the door.   \nDrink & Draw is a modern twist on the classic artistic practice of life drawing. Artists of all experience levels and backgrounds are welcome\, especially those that have always wanted to try their hand.   \nIn this non-instructional event\, we aim to create a relaxing\, social and inclusive environment for the community to come together for a fun night of drawing.  After some mingling with fellow guests\, participants will have an opportunity to capture the human body in poses of different lengths\, with breaks for refreshments in between.   \nThere’s wine\, crackers\, cheese and cookies to enjoy\, and our host curates a playlist to keep your energy flowing.  The evening lasts about 2 ½ hours\, and participants leave with a collection of their new works… and maybe some new friends too. \nRiverArts is proud to be able to provide this unique opportunity right here in our Rivertowns\, an opportunity which is often only accessible to art students or by traveling into New York City\, with a significant investment of time and tuition.  Drink & Draw offers a perfect entry-level for the amateur artist\, and we have seen beginners improve significantly as their skills develop in subsequent sessions and they draw on their experience and learn from others.   \n*Model provided. Please bring your own art supplies and arrive on time. **Must be over 18 to attend. Wine for those 21+***Until COVID-19 numbers come back down\, proof of vaccination is required for attendance and we will ask everyone but the model to be masked. \nFOR MORE INFORMATION EMAIL: info@riverarts.org \n#DrinkAndDraw \n			\n				\n				\n				\n				\n				 Fill out my Wufoo form!
URL:https://riverarts.org/event/drink-and-draw-may/
LOCATION:Hastings Public Library\, Orr Room\, Lower Level\, 7 Maple Avenue\, Hastings-on-Hudson\, NY\, 10706\, United States
CATEGORIES:Art,Figure Drawing,In-person
ATTACH;FMTTYPE=image/png:https://riverarts.org/wp-content/uploads/2022/01/Event_DrinkDraw_REV_May.png
ORGANIZER;CN="RiverArts":MAILTO:info@riverarts.org
END:VEVENT
BEGIN:VEVENT
DTSTART;TZID=America/New_York:20220407T193000
DTEND;TZID=America/New_York:20220407T220000
DTSTAMP:20260425T115310
CREATED:20220120T025209Z
LAST-MODIFIED:20220405T012900Z
UID:8809-1649359800-1649368800@riverarts.org
SUMMARY:Drink & Draw
DESCRIPTION:Drink & Draw \n			\n				\n				\n				\n				\n				Thursday\, April 7145 Palisade Street Hudson River Landing \nAdmission: $20 per session; Register below. You must register and pay in advance below for each session. No payments will be accepted at the door.   \nDrink & Draw is a modern twist on the classic artistic practice of life drawing. Artists of all experience levels and backgrounds are welcome\, especially those that have always wanted to try their hand.   \nIn this non-instructional event\, we aim to create a relaxing\, social and inclusive environment for the community to come together for a fun night of drawing.  After some mingling with fellow guests\, participants will have an opportunity to capture the human body in poses of different lengths\, with breaks for refreshments in between.   \nThere’s wine\, crackers\, cheese and cookies to enjoy\, and our host curates a playlist to keep your energy flowing.  The evening lasts about 2 ½ hours\, and participants leave with a collection of their new works… and maybe some new friends too. \nRiverArts is proud to be able to provide this unique opportunity right here in our Rivertowns\, an opportunity which is often only accessible to art students or by traveling into New York City\, with a significant investment of time and tuition.  Drink & Draw offers a perfect entry-level for the amateur artist\, and we have seen beginners improve significantly as their skills develop in subsequent sessions and they draw on their experience and learn from others.   \n*Model provided. Please bring your own art supplies and arrive on time. **Must be over 18 to attend. Wine for those 21+***Until COVID-19 numbers come back down\, proof of vaccination is required for attendance and we will ask everyone but the model to be masked. \nFOR MORE INFORMATION EMAIL: info@riverarts.org \n#DrinkAndDraw \n			\n				\n				\n				\n				\n				 Fill out my Wufoo form!
URL:https://riverarts.org/event/drink-and-draw-april/
LOCATION:Hastings Public Library\, Orr Room\, Lower Level\, 7 Maple Avenue\, Hastings-on-Hudson\, NY\, 10706\, United States
CATEGORIES:Art,Figure Drawing,In-person
ATTACH;FMTTYPE=image/png:https://riverarts.org/wp-content/uploads/2022/01/Event_DrinkDraw_REV_April.png
ORGANIZER;CN="RiverArts":MAILTO:info@riverarts.org
END:VEVENT
BEGIN:VEVENT
DTSTART;TZID=America/New_York:20220303T193000
DTEND;TZID=America/New_York:20220303T220000
DTSTAMP:20260425T115310
CREATED:20220120T024746Z
LAST-MODIFIED:20220223T065440Z
UID:8802-1646335800-1646344800@riverarts.org
SUMMARY:Drink & Draw
DESCRIPTION:Drink & Draw \n			\n				\n				\n				\n				\n				Thursday\, March 3Hastings Public LibraryOrr Room\, enter in the lower level7 Maple Avenue Hastings–on–Hudson \nAdmission: $20 per session; Register below. You must register and pay in advance below for each session. No payments will be accepted at the door.  \nDrink & Draw is a modern twist on the classic artistic practice of life drawing. Artists of all experience levels and backgrounds are welcome\, especially those that have always wanted to try their hand.   \nIn this non-instructional event\, we aim to create a relaxing\, social and inclusive environment for the community to come together for a fun night of drawing.  After some mingling with fellow guests\, participants will have an opportunity to capture the human body in poses of different lengths\, with breaks for refreshments in between.   \nThere’s wine\, crackers\, cheese and cookies to enjoy\, and our host curates a playlist to keep your energy flowing.  The evening lasts about 2 ½ hours\, and participants leave with a collection of their new works… and maybe some new friends too. \nRiverArts is proud to be able to provide this unique opportunity right here in our Rivertowns\, an opportunity which is often only accessible to art students or by traveling into New York City\, with a significant investment of time and tuition.  Drink & Draw offers a perfect entry-level for the amateur artist\, and we have seen beginners improve significantly as their skills develop in subsequent sessions and they draw on their experience and learn from others.   \n*Model provided. Please bring your own art supplies and arrive on time. **Must be over 18 to attend. Wine for those 21+***Until COVID-19 numbers come back down\, proof of vaccination is required for attendance and we will ask everyone but the model to be masked. \nFOR MORE INFORMATION EMAIL: info@riverarts.org \n#DrinkAndDraw \n			\n				\n				\n				\n				\n				 Fill out my Wufoo form!
URL:https://riverarts.org/event/drink-and-draw-march/
LOCATION:Hastings Public Library\, Orr Room\, Lower Level\, 7 Maple Avenue\, Hastings-on-Hudson\, NY\, 10706\, United States
CATEGORIES:Art,Figure Drawing,In-person
ATTACH;FMTTYPE=image/png:https://riverarts.org/wp-content/uploads/2022/01/Event-Graphic_DrinkDraw__March-2.png
ORGANIZER;CN="RiverArts":MAILTO:info@riverarts.org
END:VEVENT
BEGIN:VEVENT
DTSTART;TZID=America/New_York:20220203T193000
DTEND;TZID=America/New_York:20220203T220000
DTSTAMP:20260425T115310
CREATED:20220122T042704Z
LAST-MODIFIED:20220405T012322Z
UID:8907-1643916600-1643925600@riverarts.org
SUMMARY:Drink & Draw
DESCRIPTION:Drink & Draw \n			\n				\n				\n				\n				\n				Thursday\, March 3145 Palisade Street Hudson River Landing \nAdmission: $20 per session; You must register and pay in advance below for each session. No payments will be accepted at the door.  \nDrink & Draw is a modern twist on the classic artistic practice of life drawing. Artists of all experience levels and backgrounds are welcome\, especially those that have always wanted to try their hand.   \nIn this non-instructional event\, we aim to create a relaxing\, social and inclusive environment for the community to come together for a fun night of drawing.  After some mingling with fellow guests\, participants will have an opportunity to capture the human body in poses of different lengths\, with breaks for refreshments in between.   \nThere’s wine\, crackers\, cheese and cookies to enjoy\, and our host curates a playlist to keep your energy flowing.  The evening lasts about 2 ½ hours\, and participants leave with a collection of their new works… and maybe some new friends too. \nRiverArts is proud to be able to provide this unique opportunity right here in our Rivertowns\, an opportunity which is often only accessible to art students or by traveling into New York City\, with a significant investment of time and tuition.  Drink & Draw offers a perfect entry-level for the amateur artist\, and we have seen beginners improve significantly as their skills develop in subsequent sessions and they draw on their experience and learn from others.   \n*Model provided. Please bring your own art supplies and arrive on time. **Must be over 18 to attend. Wine for those 21+***Until COVID-19 numbers come back down\, proof of vaccination is required for attendance and we will ask everyone but the model to be masked. \nFOR MORE INFORMATION EMAIL: info@riverarts.org \n#DrinkAndDraw \n  \n			\n				\n				\n				\n				\n				 Fill out my Wufoo form!
URL:https://riverarts.org/event/drink-and-draw-feb/
LOCATION:Hastings Public Library\, Orr Room\, Lower Level\, 7 Maple Avenue\, Hastings-on-Hudson\, NY\, 10706\, United States
CATEGORIES:Art,Figure Drawing,In-person
ATTACH;FMTTYPE=image/png:https://riverarts.org/wp-content/uploads/2022/01/Event-Graphic_DrinkDraw__Feb-1.png
ORGANIZER;CN="RiverArts":MAILTO:info@riverarts.org
END:VEVENT
END:VCALENDAR