BEGIN:VCALENDAR
VERSION:2.0
PRODID:-//RiverArts - ECPv6.15.20//NONSGML v1.0//EN
CALSCALE:GREGORIAN
METHOD:PUBLISH
X-WR-CALNAME:RiverArts
X-ORIGINAL-URL:https://riverarts.org
X-WR-CALDESC:Events for RiverArts
REFRESH-INTERVAL;VALUE=DURATION:PT1H
X-Robots-Tag:noindex
X-PUBLISHED-TTL:PT1H
BEGIN:VTIMEZONE
TZID:America/New_York
BEGIN:DAYLIGHT
TZOFFSETFROM:-0500
TZOFFSETTO:-0400
TZNAME:EDT
DTSTART:20200308T070000
END:DAYLIGHT
BEGIN:STANDARD
TZOFFSETFROM:-0400
TZOFFSETTO:-0500
TZNAME:EST
DTSTART:20201101T060000
END:STANDARD
BEGIN:DAYLIGHT
TZOFFSETFROM:-0500
TZOFFSETTO:-0400
TZNAME:EDT
DTSTART:20210314T070000
END:DAYLIGHT
BEGIN:STANDARD
TZOFFSETFROM:-0400
TZOFFSETTO:-0500
TZNAME:EST
DTSTART:20211107T060000
END:STANDARD
BEGIN:DAYLIGHT
TZOFFSETFROM:-0500
TZOFFSETTO:-0400
TZNAME:EDT
DTSTART:20220313T070000
END:DAYLIGHT
BEGIN:STANDARD
TZOFFSETFROM:-0400
TZOFFSETTO:-0500
TZNAME:EST
DTSTART:20221106T060000
END:STANDARD
BEGIN:DAYLIGHT
TZOFFSETFROM:-0500
TZOFFSETTO:-0400
TZNAME:EDT
DTSTART:20230312T070000
END:DAYLIGHT
BEGIN:STANDARD
TZOFFSETFROM:-0400
TZOFFSETTO:-0500
TZNAME:EST
DTSTART:20231105T060000
END:STANDARD
END:VTIMEZONE
BEGIN:VEVENT
DTSTART;TZID=America/New_York:20221012T180000
DTEND;TZID=America/New_York:20221012T210000
DTSTAMP:20260425T144056
CREATED:20220907T042032Z
LAST-MODIFIED:20220930T215129Z
UID:10640-1665597600-1665608400@riverarts.org
SUMMARY:RiverArts Studio Tour Preview Show
DESCRIPTION:Preview Show Opening Reception\nWednesday\, October 12th 6–9pm\nDobbs Ferry Library\n55 Main Street\, Dobbs Ferry \nWe are delighted to announce that the RiverArts Studio Tour will return this November for a weekend celebration of art throughout the Rivertowns on Saturday\, November 5\, 11am–6pm and Sunday\, November 6\, 11am–6pm \nThis multi-village adventure offers a veritable treasure hunt through industrial lofts\, home studios\, outdoor installations\, storefronts\, and galleries stretching from Hastings-on-Hudson to Tarrytown. The Studio Tour offers an opportunity to engage with local artists in an intimate setting\, learn about their process and inspiration\, and meet plenty of art lovers along the way. Participants can explore a wide range of mediums and unique works\, and if you are lucky\, you’ll bring home something to treasure for years to come.
URL:https://riverarts.org/event/riverarts-studio-tour-preview-show-dobbs/
LOCATION:Dobbs Ferry Public Library\, 55 Main Street\, Dobbs Ferry\, NY\, 10522\, United States
CATEGORIES:Art,In-person
ATTACH;FMTTYPE=image/png:https://riverarts.org/wp-content/uploads/2022/08/Event-Graphic_StudioTour22-REV_Preview-HoH.png
END:VEVENT
BEGIN:VEVENT
DTSTART;TZID=America/New_York:20211007T180000
DTEND;TZID=America/New_York:20211007T200000
DTSTAMP:20260425T144056
CREATED:20210930T033718Z
LAST-MODIFIED:20210930T034236Z
UID:8189-1633629600-1633636800@riverarts.org
SUMMARY:Studio Tour Preview Show | Opening Reception
DESCRIPTION:Thursday\, October 7th\, 6–8pm | Dobbs Ferry Public Library\n			\n				\n				\n				\n				\n				On view from October 7–29 at the Dobbs Ferry Public Library. Join us for one of our two opening receptions for the Studio Tour’s preview show. Over 40 artists will be showing in Hastings and 17 artists in Dobbs Ferry. \n\nMasks must be worn within Hastings Village Hall Gallery and the Dobbs Ferry Public Library.\n No RSVPs necessary.\n\nStudio Tour | October 23 \nAn inspiring weekend of artist open studios\, throughout the Rivertown villages of Hastings-on-Hudson\, Dobbs Ferry\, Ardsley\, Irvington\, Tarrytown\, & Sleepy Hollow from 11am – 6pm. \nFor more information: RiverArtsStudioTour.com \nCovid Safety: Your safety is our priority! The Studio Tour will follow current NY State Covid-19 safety protocols to ensure the safety of artists and visitors. Details will be updated on our website as the event approaches. Covid-19 -related refunds available for artists if cancellation is necessary. Please contact studiotour@riverarts.org for any questions.
URL:https://riverarts.org/event/studio-tour-preview-show-dobbs/
LOCATION:Dobbs Ferry Public Library\, 55 Main Street\, Dobbs Ferry\, NY\, 10522\, United States
CATEGORIES:Art
ATTACH;FMTTYPE=image/jpeg:https://riverarts.org/wp-content/uploads/2021/09/StudioTour_Website-Event-Dobbs-1.jpg
END:VEVENT
END:VCALENDAR