BEGIN:VCALENDAR
VERSION:2.0
PRODID:-//RiverArts - ECPv6.15.20//NONSGML v1.0//EN
CALSCALE:GREGORIAN
METHOD:PUBLISH
X-WR-CALNAME:RiverArts
X-ORIGINAL-URL:https://riverarts.org
X-WR-CALDESC:Events for RiverArts
REFRESH-INTERVAL;VALUE=DURATION:PT1H
X-Robots-Tag:noindex
X-PUBLISHED-TTL:PT1H
BEGIN:VTIMEZONE
TZID:America/New_York
BEGIN:DAYLIGHT
TZOFFSETFROM:-0500
TZOFFSETTO:-0400
TZNAME:EDT
DTSTART:20210314T070000
END:DAYLIGHT
BEGIN:STANDARD
TZOFFSETFROM:-0400
TZOFFSETTO:-0500
TZNAME:EST
DTSTART:20211107T060000
END:STANDARD
BEGIN:DAYLIGHT
TZOFFSETFROM:-0500
TZOFFSETTO:-0400
TZNAME:EDT
DTSTART:20220313T070000
END:DAYLIGHT
BEGIN:STANDARD
TZOFFSETFROM:-0400
TZOFFSETTO:-0500
TZNAME:EST
DTSTART:20221106T060000
END:STANDARD
BEGIN:DAYLIGHT
TZOFFSETFROM:-0500
TZOFFSETTO:-0400
TZNAME:EDT
DTSTART:20230312T070000
END:DAYLIGHT
BEGIN:STANDARD
TZOFFSETFROM:-0400
TZOFFSETTO:-0500
TZNAME:EST
DTSTART:20231105T060000
END:STANDARD
END:VTIMEZONE
BEGIN:VEVENT
DTSTART;TZID=America/New_York:20220522T120000
DTEND;TZID=America/New_York:20220522T160000
DTSTAMP:20260424T003424
CREATED:20220425T175244Z
LAST-MODIFIED:20220513T210656Z
UID:10013-1653220800-1653235200@riverarts.org
SUMMARY:Salon Sundays |  Mary Fennell
DESCRIPTION:Sunday\, May 21 \nMary Fennell | Mixed Media145 Palisade Street\, Studio 415Dobbs Ferry \nMasks are required for this studio visit. \nWebsite | Instagram \n			\n				\n				\n				\n				\n				Artist Statement: I am an artist living and working in the Rivertowns. In my creative pursuits\, I’ve always found myself split between the two disciplines of photography and mixed media. My photographic images reflect the light\, forms\, and textures of world around me.  They have been my eye looking outward. My mixed media work\, on the other hand\, has been my eye looking inward\, a means of visual storytelling\, and a vehicle for expressing my personal philosophy. \n			\n				\n				\n				\n				\n				\n			\n				\n				\n				\n				\n				\n			\n				\n				\n				\n				\n				\n			\n				\n				\n				\n				\n				Artists who are interested in participating in Salon Sundays 2022:\n			\n				Register Here\n			\n				\n				\n				\n				\n				Salon Sundays | In-studio\nExplore Art in the Rivertowns this Spring with RiverArts’ Salon Sundays. Salon Sundays invite visitors to tour local artists’ studios and gain an inside view of their work and inspiration. An exciting opportunity to gain insights into the creative process\, learn about techniques in a variety of media and interact with artists here in the Rivertowns community. \nIn April\, May and June\, Salon Sundays will be in-person. \nSalon Sundays are inspired by the French salons founded in the 18th century as a means for new and emerging artists to gather and show their works in large numbers. Artists filled the walls\, floor to ceiling\, exhibiting anything and everything for the public and each other. Salons drew intellectuals\, writers\, poets\, sculptors\, painters\, printmakers\, supporters\, and those interested in engaging with the creative community. \n“We strongly encourage anyone attending a Salon Sunday to come with their curiosity peaked\, ask questions\, and learn who’s who in the local art community. It’s powerful to interact with artists in their space. We’re hoping this event will increase community involvement and provide a chance to meet one-on-one with area artists and experience art up close.” Jeff Dietz\, Producer\, Salon Sundays. \n			\n				\n				\n				\n				\n				To ensure the safety of our audience and artists\, proof of vaccination and masks are required for the in-person events. \nFOR MORE INFORMATION EMAIL:\nJeff Dietz\, Salon Sundays Producer\,  SalonSundays@riverarts.org \n			\n				\n				\n				\n				\n				#SalonSundays #MaryFennell
URL:https://riverarts.org/event/salon-sundays-mary-fennell/
LOCATION:145 Palisade St. Studio 415\, Dobbs Ferry
CATEGORIES:Art,In-person,Salon Sundays
ATTACH;FMTTYPE=image/png:https://riverarts.org/wp-content/uploads/2022/04/Event-Graphic_Salon-Sundays-MaryFennell_WebEvent.png
ORGANIZER;CN="RiverArts":MAILTO:info@riverarts.org
END:VEVENT
END:VCALENDAR