BEGIN:VCALENDAR
VERSION:2.0
PRODID:-//RiverArts - ECPv6.15.20//NONSGML v1.0//EN
CALSCALE:GREGORIAN
METHOD:PUBLISH
X-WR-CALNAME:RiverArts
X-ORIGINAL-URL:https://riverarts.org
X-WR-CALDESC:Events for RiverArts
REFRESH-INTERVAL;VALUE=DURATION:PT1H
X-Robots-Tag:noindex
X-PUBLISHED-TTL:PT1H
BEGIN:VTIMEZONE
TZID:America/New_York
BEGIN:DAYLIGHT
TZOFFSETFROM:-0500
TZOFFSETTO:-0400
TZNAME:EDT
DTSTART:20250309T070000
END:DAYLIGHT
BEGIN:STANDARD
TZOFFSETFROM:-0400
TZOFFSETTO:-0500
TZNAME:EST
DTSTART:20251102T060000
END:STANDARD
BEGIN:DAYLIGHT
TZOFFSETFROM:-0500
TZOFFSETTO:-0400
TZNAME:EDT
DTSTART:20260308T070000
END:DAYLIGHT
BEGIN:STANDARD
TZOFFSETFROM:-0400
TZOFFSETTO:-0500
TZNAME:EST
DTSTART:20261101T060000
END:STANDARD
BEGIN:DAYLIGHT
TZOFFSETFROM:-0500
TZOFFSETTO:-0400
TZNAME:EDT
DTSTART:20270314T070000
END:DAYLIGHT
BEGIN:STANDARD
TZOFFSETFROM:-0400
TZOFFSETTO:-0500
TZNAME:EST
DTSTART:20271107T060000
END:STANDARD
END:VTIMEZONE
BEGIN:VEVENT
DTSTART;TZID=America/New_York:20260503T160000
DTEND;TZID=America/New_York:20260503T173000
DTSTAMP:20260423T134833
CREATED:20260323T140645Z
LAST-MODIFIED:20260414T131236Z
UID:15195-1777824000-1777829400@riverarts.org
SUMMARY:Spring Chamber Music Concert: String Quintets
DESCRIPTION:Sunday\, May 3\, 20264:00 – 5:30 PM  \nSt. Barnabas Episcopal Church2 Revolutionary RoadArdsley\, New York \nParking is available onsite but is limited and requires the use of stairs. We recommend carpooling if possible\, and/or arriving early. There is parking on adjacent streets. \n			\n				Purchase Tickets\n			\n				\n				\n				\n				\n				\n			\n				\n				\n				\n				\n				The third chamber music concert of the 2025-2026 season will include three extraordinary string quintets and a world premiere. All pieces are known as “viola” quintets\, in that they are written for a typical string quartet configuration [two violins\, viola\, and cello] with an additional viola. This type of scoring allows for soaring melodies in all registers and complex inner voices. \nMozart’s Quintet No 5 in D Major was written just one year before his death and is widely considered to be one of his final chamber masterpieces. Mendelssohn’s Quintet in Bb major was also written towards the end of his life- two years before his death- and wasn’t published until a number of years after his death. In Brahms’ own words in a letter to Clara Schumann he stated that it “is one of [his] finest works”. This piece is often called the  “Spring” quintet\, particularly apt to our May concert. \nThe world premiere is a quintet commissioned for this concert from Manhattan School of Music composer and Ossining resident David Macdonald. It is a four movement work based on four different hymn tunes. Some in our audience will remember his music from our original performance piece “Braiding” performed in 2018. \nABOUT THE MUSICIANS \nMuneko Otani [violin] As the first violinist of the Cassatt String Quartet Muneko Otani has appeared in the US\, Canada and Mexico as well as in Europe and Asia. Major venues have included Lincoln Center\, the Kennedy Center\, the Library of Congress\, Palacio de Bellas Artes and the Bastille Opera House. The quartet has over 40 recordings\, and were named three times to Alex Ross’ 10 best classical recordings of the year in The New Yorker magazine. Her numerous awards with the Cassatt Quartet include the Wardwell Chamber Music Fellowship at Yale (where they served as teaching assistants to the Tokyo Quartet)\, two top prizes at the Banff International String Quartet Competition\, two CMA/ASCAP Awards for Adventurous Programming\, a recording grant from the Mary Flagler Cary Charitable Trust\, and commissioning grants from Meet the Composer and the National Endowment for the Arts. As a chamber musician\, she has collaborated with Paul Katz\, Colin Carr\, Ursula Oppens\, Eliot Fisk\, Walter Trampler\, Martin Lovett\, Marc Johnson\, Kazuhide Isomura\, Masuko Ushioda and Lawrence Lesser. \nMiranda Cuckson [violin] delights audiences with her playing of a great range of music and styles\, from older eras to the very newest creations. An internationally acclaimed soloist and collaborator\, violinist and violist\, she performs at venues large and small\, from casual spaces to concert halls. She has been a featured artist at the Berlin Philharmonie\, Suntory Hall\, Casa da Musica Porto\, Teatro Colón\, Cleveland Museum\, Art Institute of Chicago\, Strathmore\, St. Paul Chamber Orchestra’s Liquid Music\, 92nd St Y\, National Sawdust\, and the Ojai\, Bard\, Marlboro\, Portland\, Music Mountain\, West Cork\, Grafenegg\, Wien Modern\, Frequency\, and LeGuessWho festivals. Miranda made her Carnegie Hall debut playing Piston’s Concerto No. 1 with the American Symphony Orchestra. She recently premiered Georg Friedrich Haas’ Violin Concerto No. 2 at the Vienna Musikverein and with orchestras in Japan\, Portugal and Germany\, and the Violin Concerto by Marcela Rodriguez with the Orquesta Sinfónica Nacional de México. Miranda is a member of interdisciplinary collective AMOC and director of non-profit Nunc. Her albums include Világ featuring the Bartok Solo Sonata; the Ligeti\, Korngold and Ponce concertos; music by 20th century American composers; Bartók/Schnittke/Lutoslawski sonatas; Melting the Darkness\, an album of microtonal/electronic music; and Nono’s La lontananza nostalgica utopica futura\, named a Recording of the Year by the New York Times. She studied at Juilliard and is on faculty at Mannes School of Music. \nLawrence Neuman [viola] has been a member of the Chicago Symphony Orchestra since 1991. Before coming to Chicago he was violist with the Miami String Quartet. As a chamber musician he frequently is heard throughout the Chicago area and has performed across the United States and in Europe. He has appeared at festivals and chamber music series in Boston\, Marlboro\, La Jolla\, Madison\, Napa\, Portland and Davenport. Chamber music collaborators have included such artists as Daniel Barenboim\, Pinchas Zukerman\, Yefim Bronfman\, Lydia Artymiw\, Gil Shaham and Aaron Rosand. During the 1998-99 season Neuman took a leave of absence from the CSO to serve as principal viola of the Saint Paul Chamber Orchestra. For several years he has taught viola and chamber music at the Chicago College of Performing Arts at Roosevelt University. \nDaniel Panner [viola] enjoys a varied career as a performer and teacher. As violist of the Mendelssohn String Quartet\, he has concertized extensively throughout the United States and Israel. He has performed at music festivals in Marlboro\, Tanglewood\, Aspen\, and on National Public Radio’s Performance Today\, and has collaborated with members of the Cleveland\, Emerson\, Guarneri\, and Juilliard String Quartets. As a member of the Whitman String Quartet\, Panner received the 1998 Walter W. Naumburg Chamber Music Award. He currently teaches at The Juilliard School\, the Mannes College of Music\, SUNY Stonybrook\, and the Queens College Conservatory of Music. He has performed with the Chamber Music Society of Lincoln Center\, Musicians from Marlboro\, and the Orpheus Chamber Orchestra. He has served as the principal violist of such orchestras as the New York City Opera and the Mostly Mozart Festival Orchestra. An active performer of new music\, he is a member of Sequitur and the Locrian Ensemble and has performed as a guest artist with Speculum Musicae\, the Da Capo Chamber Players\, and Transit Circle. \nPeter Seidenberg [cello and Artistic Director] “Totally enchanting\, inspired performances\, brimming with natural\, spontaneous musicianship”\, raves Gramophone Magazine about cellist Peter Seidenberg. Mr. Seidenberg has played in major halls throughout the US\, Europe\, and Asia\, and served as principal cellist with the Century Orchestra of Osaka. He was a founding member of the critically acclaimed Elements Quartet which created groundbreaking commissioning projects involving over 30 composers. He has collaborated with members of the Cleveland\, Tokyo\, Juilliard and Emerson Quartets and has participated in the Marlboro\, Aspen\, Caramoor\, Casals and Norfolk festivals. Currently\, he is the cellist for the Oracle Trio\, the Queen’s Chamber Band\, and the New York Chamber Soloists. Peter concertizes frequently in collaboration with pianist Hui-Mei Lin. The duo have performed together throughout the US to much acclaim. \n			\n				Purchase Tickets
URL:https://riverarts.org/event/spring-chamber-music-concert-string-quartets/
LOCATION:Andrus on Hudson\, 185 Old Broadway\, Hastings on Hudson\, 10706\, United States
CATEGORIES:Chamber Music,In-person,Music
ATTACH;FMTTYPE=image/png:https://riverarts.org/wp-content/uploads/2026/03/Website-Banner-for-Homepage-4.png
ORGANIZER;CN="RiverArts":MAILTO:info@riverarts.org
END:VEVENT
BEGIN:VEVENT
DTSTART;TZID=America/New_York:20260513T190000
DTEND;TZID=America/New_York:20260513T210000
DTSTAMP:20260423T134833
CREATED:20260202T182332Z
LAST-MODIFIED:20260219T194105Z
UID:15026-1778698800-1778706000@riverarts.org
SUMMARY:2026 Spring Benefit
DESCRIPTION:Join us for a night of friends\, fun\, and jazz to support the arts!\nHonoringPeter SeidenbergArtistic Director\, Chamber Music Series \nJoanna Riesman & Michael Tremonte \n			\n				\n				\n				\n				\n				Gather with friends and neighbors to celebrate the power of the arts! \nYou’ll enjoy a wine and beer reception\, live music\, and an art-filled silent auction as we pay tribute to this year’s distinguished honorees: Peter Seidenberg\, Artistic Director of RiverArts Chamber Music Series for the last decade\, and Joanna Riesman and Michael Tremonte whose generosity—both as volunteers and supporters—have contributed to the success of RiverArts’ Chamber Music program and beyond. \nAll proceeds benefit RiverArts’ artistic and educational programs including free community-wide Music and Studio Tours\, performances in dance\, music\, and theater\, and children’s music and art education. \n			\n				Purchase Tickets\n			\n				\n				\n				\n				\n				About Our Honorees\n			\n				\n				\n				\n				\n				Peter SeidenbergArtistic Director\, Chamber Music Series \nGrammy-nominated cellist Peter Seidenberg has been the Artistic Director of RiverArts’ Chamber Music Series for the last decade\, in collaboration with co-Producer Doug Coe. Peter has performed in major halls throughout the U.S.\, Europe\, and Asia. He made his solo debut with the Chicago Symphony and has since appeared as a soloist with many orchestras\, including the Century Orchestra of Osaka\, Japan\, the New American Chamber Orchestra\, the De Paul Chamber Orchestra\, New York Chamber Soloists\, and the Eastman Rochester Philharmonic. For four years\, he served as principal cellist with the Century Orchestra of Osaka. He was a founding member of the critically acclaimed Elements Quartet\, which created groundbreaking commissioning projects involving over 30 composers. He has collaborated with members of the Cleveland\, Tokyo\, Juilliard\, and Emerson Quartets\, and has participated in the Marlboro\, Aspen\, Caramoor\, Casals\, and Norfolk Festivals. In addition to his work with RiverArts\, Peter is the cellist for the Oracle Trio\, the Queen’s Chamber Band\, and the New York Chamber Soloists and Artistic Director of the HBMS Contemporary Music Festival. \nJoanna Riesman & Michael Tremonte \nHastings residents Joanna Riesman and Michael Tremonte have been ardent supporters and volunteers at RiverArts and throughout their Rivertowns community.  Joanna served as a Board Member at RiverArts from 2019-2025\, and is the Producer of RiverArts’ Figure Drawing program that has expanded under her direction to bi-monthly gatherings welcoming art enthusiasts of all experience levels.  Joanna and her husband Michael have provided generous underwriting for our Chamber Music program\, allowing RiverArts to bring dozens of world-class musicians to perform in this community.  In addition to her work with RiverArts\, Joanna has devoted many years to the Hastings Public Library and to the Friends of the Old Croton Aqueduct. Michael is the co-founder of Sher Termonte LLP\, a litigation boutique in New York City.  He previously served as an Assistant U.S. Attorney in the Eastern District of New York. Before law school\, Michael pursued graduate studies in Classics. \n			\n				Purchase Tickets
URL:https://riverarts.org/event/2026-spring-benefit/
LOCATION:Jazz Forum\, 1 Dixon Lane\, Tarrytown\, NY\, 10591\, United States
CATEGORIES:Benefit Event,In-person
ATTACH;FMTTYPE=image/png:https://riverarts.org/wp-content/uploads/2026/02/FY26-Spring-Benefit_web-hero.png
ORGANIZER;CN="RiverArts":MAILTO:info@riverarts.org
END:VEVENT
BEGIN:VEVENT
DTSTART;TZID=America/New_York:20260520T193000
DTEND;TZID=America/New_York:20260520T210000
DTSTAMP:20260423T134833
CREATED:20260204T150206Z
LAST-MODIFIED:20260204T150232Z
UID:15092-1779305400-1779310800@riverarts.org
SUMMARY:Figure Drawing - May 20
DESCRIPTION:Artists of all experience levels and backgrounds are welcome to join us for monthly life drawing sessions with a nude model. \nIn this non-instructional program we create a relaxing\, social\, and inclusive environment for the community to come together for a fun night of drawing. Participants can capture the human body in short and long poses. \nWe provide the live model\, you bring your creative energy! \nThere are tables to work at but you may bring your own easels to work from if you wish.Participants are responsible for providing their own supplies. \nWe ask that you arrive early to setup before the session begins at 7:30pm; if you are running late\, please wait to come in during the first break (around 7:50). \nAdvanced registration and pre-payment is required. Each session is limited to 30 participants. Suitable for ages 18+ \nHastings Public LibraryOrr Room\, Lower level7 Maple AvenueHastings-on-Hudson \n7:30–9:30pm\, twice monthly September through June \nFOR MORE INFORMATION EMAIL: jriesman@riverarts.org \n			\n				Register Now!
URL:https://riverarts.org/event/figure-drawing-may-20/
LOCATION:Hastings Public Library\, Orr Room\, Lower Level\, 7 Maple Avenue\, Hastings-on-Hudson\, NY\, 10706\, United States
CATEGORIES:Art,Figure Drawing,In-person
ATTACH;FMTTYPE=image/jpeg:https://riverarts.org/wp-content/uploads/2024/12/lavi-perchik-jLB1FRQKP-I-unsplash_16x9-1-scaled.jpg
ORGANIZER;CN="RiverArts":MAILTO:info@riverarts.org
END:VEVENT
BEGIN:VEVENT
DTSTART;TZID=America/New_York:20260604T193000
DTEND;TZID=America/New_York:20260604T210000
DTSTAMP:20260423T134833
CREATED:20260204T150353Z
LAST-MODIFIED:20260204T150421Z
UID:15095-1780601400-1780606800@riverarts.org
SUMMARY:Figure Drawing - June 4
DESCRIPTION:Artists of all experience levels and backgrounds are welcome to join us for monthly life drawing sessions with a nude model. \nIn this non-instructional program we create a relaxing\, social\, and inclusive environment for the community to come together for a fun night of drawing. Participants can capture the human body in short and long poses. \nWe provide the live model\, you bring your creative energy! \nThere are tables to work at but you may bring your own easels to work from if you wish.Participants are responsible for providing their own supplies. \nWe ask that you arrive early to setup before the session begins at 7:30pm; if you are running late\, please wait to come in during the first break (around 7:50). \nAdvanced registration and pre-payment is required. Each session is limited to 30 participants. Suitable for ages 18+ \nHastings Public LibraryOrr Room\, Lower level7 Maple AvenueHastings-on-Hudson \n7:30–9:30pm\, twice monthly September through June \nFOR MORE INFORMATION EMAIL: jriesman@riverarts.org \n			\n				Register Now!
URL:https://riverarts.org/event/figure-drawing-june-4/
LOCATION:Hastings Public Library\, Orr Room\, Lower Level\, 7 Maple Avenue\, Hastings-on-Hudson\, NY\, 10706\, United States
CATEGORIES:Art,Figure Drawing,In-person
ATTACH;FMTTYPE=image/jpeg:https://riverarts.org/wp-content/uploads/2024/12/lavi-perchik-jLB1FRQKP-I-unsplash_16x9-1-scaled.jpg
ORGANIZER;CN="RiverArts":MAILTO:info@riverarts.org
END:VEVENT
BEGIN:VEVENT
DTSTART;TZID=America/New_York:20260606T110000
DTEND;TZID=America/New_York:20260606T210000
DTSTAMP:20260423T134833
CREATED:20251216T171807Z
LAST-MODIFIED:20260202T190629Z
UID:14850-1780743600-1780779600@riverarts.org
SUMMARY:2026 RiverArts Music Tour
DESCRIPTION:RiverArts 2026 MUSIC TOUR | Free Music Festival\n			\n				\n				\n				\n				\n				SAVE THE DATE\nRiverArts is excited to present the 2026 Music Tour on SATURDAY\, JUNE 6*. Now in it’s 11th year\, the Music Tour is largest\, family-friendly\, FREE event for music lovers in lower Westchester County and truly offers something for everyone—from classical and jazz to folk\, rock\, alternative\, urban and world music. \nEnjoy music by hundreds of performers throughout the Rivertowns in a mix of fun venues in backyards\, gardens\, businesses\, churches community centers and open green spaces on the banks of the Hudson River. \n			\n				\n				\n				\n				\n				CALL FOR PERFORMERS\nWe invite regional acts to register to be part of this special\, one-day\, grassroots celebration of music! \nREGISTER YOUR BAND/ENSEMBLE THROUGH SUNDAY\, APRIL 19. \n			\n			\n				\n				\n				\n				\n			\n				\n				\n				\n				\n				\n				\n				RSVP to the Music Tour!\n			\n			\n				\n				\n				\n				\n				\n				Register Your Band/Ensemble Here
URL:https://riverarts.org/event/music-tour-26/
LOCATION:Throughout the Rivertowns\, Throughout Rivertowns
CATEGORIES:In-person,Music
ATTACH;FMTTYPE=image/png:https://riverarts.org/wp-content/uploads/2023/02/MusicTour-Banner-23-Web.png
ORGANIZER;CN="RiverArts":MAILTO:info@riverarts.org
END:VEVENT
BEGIN:VEVENT
DTSTART;TZID=America/New_York:20260617T193000
DTEND;TZID=America/New_York:20260617T193000
DTSTAMP:20260423T134833
CREATED:20260204T150532Z
LAST-MODIFIED:20260204T150605Z
UID:15097-1781724600-1781724600@riverarts.org
SUMMARY:Figure Drawing - June 17
DESCRIPTION:Artists of all experience levels and backgrounds are welcome to join us for monthly life drawing sessions with a nude model. \nIn this non-instructional program we create a relaxing\, social\, and inclusive environment for the community to come together for a fun night of drawing. Participants can capture the human body in short and long poses. \nWe provide the live model\, you bring your creative energy! \nThere are tables to work at but you may bring your own easels to work from if you wish.Participants are responsible for providing their own supplies. \nWe ask that you arrive early to setup before the session begins at 7:30pm; if you are running late\, please wait to come in during the first break (around 7:50). \nAdvanced registration and pre-payment is required. Each session is limited to 30 participants. Suitable for ages 18+ \nHastings Public LibraryOrr Room\, Lower level7 Maple AvenueHastings-on-Hudson \n7:30–9:30pm\, twice monthly September through June \nFOR MORE INFORMATION EMAIL: jriesman@riverarts.org \n			\n				Register Now!
URL:https://riverarts.org/event/figure-drawing-june-17/
LOCATION:Hastings Public Library\, Orr Room\, Lower Level\, 7 Maple Avenue\, Hastings-on-Hudson\, NY\, 10706\, United States
CATEGORIES:Art,Figure Drawing,In-person
ATTACH;FMTTYPE=image/jpeg:https://riverarts.org/wp-content/uploads/2024/12/lavi-perchik-jLB1FRQKP-I-unsplash_16x9-1-scaled.jpg
ORGANIZER;CN="RiverArts":MAILTO:info@riverarts.org
END:VEVENT
BEGIN:VEVENT
DTSTART;TZID=America/New_York:20260803T090000
DTEND;TZID=America/New_York:20260807T150000
DTSTAMP:20260423T134833
CREATED:20260415T142551Z
LAST-MODIFIED:20260415T143520Z
UID:15289-1785747600-1786114800@riverarts.org
SUMMARY:SummerArts Camp | Week 1
DESCRIPTION:SummerArts\n			\n				\n				\n				\n				\n				Week 1: August 3-7Week 2: August 10-14Week 3: August 17-21 \nTIME: Monday – Friday 9:00 – 3:00 \n			\n				Find full details and register for SummerArts here!\n			\n				\n				\n				\n				\n				Channel your kids’ energy into the arts this summer! SummerArts offers four weeks of multi–arts workshops for children entering grades 3-9. Each week\, students take part in a wide variety of artistic activities with daily sessions in visual arts\, music and movement/theater\, led by teaching artists who are experts in their field. \nIn between classes kids can play outside\, spend time with friends or work on a project at their own pace. Workshops for older students are more intensive and provide an opportunity for more sophisticated exploration and execution. \nThe SummerArts program is specially designed  to provide kids with a deeply creative\, artistic experience.  Themes and activities vary each week\, giving students the chance to explore art in many forms and diverse media. Many campers are introduced to new artistic expressions and media that they never knew they loved!  Classes are perfect for beginners as well as more seasoned creators.   \nFor more information\, please email the Director: summerarts@riverarts.org
URL:https://riverarts.org/event/summerarts-2026-week1/
LOCATION:First Reformed Church\, 18 Farragut Ave\, Hastings-on-Hudson\, 10706
CATEGORIES:Day Camp,In-person
ATTACH;FMTTYPE=image/png:https://riverarts.org/wp-content/uploads/2026/04/SUMMERARTS-AFFORDABLE-Artist-Led-Camps-for-grades-3-9-8.png
ORGANIZER;CN="RiverArts":MAILTO:info@riverarts.org
END:VEVENT
BEGIN:VEVENT
DTSTART;TZID=America/New_York:20260810T090000
DTEND;TZID=America/New_York:20260814T150000
DTSTAMP:20260423T134833
CREATED:20260415T142916Z
LAST-MODIFIED:20260415T143416Z
UID:15293-1786352400-1786719600@riverarts.org
SUMMARY:SummerArts Camp | Week 2
DESCRIPTION:SummerArts\n			\n				\n				\n				\n				\n				Week 1: August 3-7Week 2: August 10-14Week 3: August 17-21 \nTIME: Monday – Friday 9:00 – 3:00 \n			\n				Find full details and register for SummerArts here!\n			\n				\n				\n				\n				\n				Channel your kids’ energy into the arts this summer! SummerArts offers four weeks of multi–arts workshops for children entering grades 3-9. Each week\, students take part in a wide variety of artistic activities with daily sessions in visual arts\, music and movement/theater\, led by teaching artists who are experts in their field. \nIn between classes kids can play outside\, spend time with friends or work on a project at their own pace. Workshops for older students are more intensive and provide an opportunity for more sophisticated exploration and execution. \nThe SummerArts program is specially designed  to provide kids with a deeply creative\, artistic experience.  Themes and activities vary each week\, giving students the chance to explore art in many forms and diverse media. Many campers are introduced to new artistic expressions and media that they never knew they loved!  Classes are perfect for beginners as well as more seasoned creators.   \nFor more information\, please email the Director: summerarts@riverarts.org
URL:https://riverarts.org/event/summerarts-2026-week2/
LOCATION:First Reformed Church\, 18 Farragut Ave\, Hastings-on-Hudson\, 10706
CATEGORIES:Day Camp,In-person
ATTACH;FMTTYPE=image/png:https://riverarts.org/wp-content/uploads/2026/04/SUMMERARTS-AFFORDABLE-Artist-Led-Camps-for-grades-3-9-8.png
ORGANIZER;CN="RiverArts":MAILTO:info@riverarts.org
END:VEVENT
BEGIN:VEVENT
DTSTART;TZID=America/New_York:20260817T090000
DTEND;TZID=America/New_York:20260821T150000
DTSTAMP:20260423T134833
CREATED:20260415T143029Z
LAST-MODIFIED:20260415T143318Z
UID:15295-1786957200-1787324400@riverarts.org
SUMMARY:SummerArts Camp | Week 3
DESCRIPTION:SummerArts\n			\n				\n				\n				\n				\n				Week 1: August 3-7Week 2: August 10-14Week 3: August 17-21 \nTIME: Monday – Friday 9:00 – 3:00 \n			\n				Find full details and register for SummerArts here!\n			\n				\n				\n				\n				\n				Channel your kids’ energy into the arts this summer! SummerArts offers four weeks of multi–arts workshops for children entering grades 3-9. Each week\, students take part in a wide variety of artistic activities with daily sessions in visual arts\, music and movement/theater\, led by teaching artists who are experts in their field. \nIn between classes kids can play outside\, spend time with friends or work on a project at their own pace. Workshops for older students are more intensive and provide an opportunity for more sophisticated exploration and execution. \nThe SummerArts program is specially designed  to provide kids with a deeply creative\, artistic experience.  Themes and activities vary each week\, giving students the chance to explore art in many forms and diverse media. Many campers are introduced to new artistic expressions and media that they never knew they loved!  Classes are perfect for beginners as well as more seasoned creators.   \nFor more information\, please email the Director: summerarts@riverarts.org
URL:https://riverarts.org/event/summerarts-2026-week3/
LOCATION:First Reformed Church\, 18 Farragut Ave\, Hastings-on-Hudson\, 10706
CATEGORIES:Day Camp,In-person
ATTACH;FMTTYPE=image/png:https://riverarts.org/wp-content/uploads/2026/04/SUMMERARTS-AFFORDABLE-Artist-Led-Camps-for-grades-3-9-8.png
ORGANIZER;CN="RiverArts":MAILTO:info@riverarts.org
END:VEVENT
END:VCALENDAR