BEGIN:VCALENDAR
VERSION:2.0
PRODID:-//RiverArts - ECPv6.15.20//NONSGML v1.0//EN
CALSCALE:GREGORIAN
METHOD:PUBLISH
X-WR-CALNAME:RiverArts
X-ORIGINAL-URL:https://riverarts.org
X-WR-CALDESC:Events for RiverArts
REFRESH-INTERVAL;VALUE=DURATION:PT1H
X-Robots-Tag:noindex
X-PUBLISHED-TTL:PT1H
BEGIN:VTIMEZONE
TZID:UTC
BEGIN:STANDARD
TZOFFSETFROM:+0000
TZOFFSETTO:+0000
TZNAME:UTC
DTSTART:20210101T000000
END:STANDARD
END:VTIMEZONE
BEGIN:VEVENT
DTSTART;TZID=UTC:20220521T183000
DTEND;TZID=UTC:20220521T220000
DTSTAMP:20260423T235159
CREATED:20240924T153253Z
LAST-MODIFIED:20240924T153704Z
UID:13582-1653157800-1653170400@riverarts.org
SUMMARY:Swing Night! Presented by Amanda Kupillas Dance + RiverArts Copy
DESCRIPTION:Swing Night! \nMusic: Vince Giordano and The Mini HawksDance: Gaby Cook\, Professional lindy hopper and instructor \nSaturday\, May 21The Good Witch Coffee Barat Train Station\, 134 Southside AveHastings-on-Hudson \nTickets: Full Evening with Dance Instruction 7–10pm  $40 per personMusic and Open Dance (no instruction) 8–10pm  $30 per person \n			\n				Tickets for Event\n			\n				\n				\n				\n				\n				Join RiverArts and Amanda Kupillas Dance for an exhilarating evening of music and dancing outdoors at the Good Witch Coffee Bar in Hastings-on-Hudson. Featuring Grammy-winning musician and bandleader Vince Giordano and his band The Mini Hawks and swing dance with professional lindy hopper\, Gaby Cook. \nBegin your evening at 7pm with Swing Dance instruction from Gaby Cook and her partner\, who will guide you through all the steps you need to make an impression on the dance floor! (Dance will be taught with partners\, however you do not need to have a partner to sign up!) \nLive music begins at 8pm as Vince Giordano and the band transport you to another time under the stars\, with NYC and the Palisades as your backdrop. \nThe Good Witch Coffee Bar will be open at 6:30 with wine\, beverages\, and other goodies for purchase. \nSchedule \n\n6:30pm: Check-in and grab a drink at The Good Witch• 7:00-8:00pm: Swing Dance Group Lesson with Gaby Cook • 8:00-10:00pm: Vince Giordano and The Mini Hawks play and dance floor opens up to public\n\n			\n				Tickets for Event\n			\n				\n				\n				\n				\n				#RiverArtsDance#AmandaKupillasDance
URL:https://riverarts.org/event/swing-night-copy/
LOCATION:The Good Witch Coffee Bar\, 134 Southside Ave\, Hastings-on-Hudson\, NY\, 10706\, United States
CATEGORIES:Dance,In-person,In-Person Instruction
ATTACH;FMTTYPE=image/png:https://riverarts.org/wp-content/uploads/2022/03/SwingNight_WebEvent.png
ORGANIZER;CN="RiverArts":MAILTO:info@riverarts.org
END:VEVENT
BEGIN:VEVENT
DTSTART;TZID=UTC:20220521T183000
DTEND;TZID=UTC:20220521T220000
DTSTAMP:20260423T235159
CREATED:20220330T224937Z
LAST-MODIFIED:20220513T211132Z
UID:9857-1653157800-1653170400@riverarts.org
SUMMARY:Swing Night! Presented by Amanda Kupillas Dance + RiverArts
DESCRIPTION:Swing Night! \nMusic: Vince Giordano and The Mini HawksDance: Gaby Cook\, Professional lindy hopper and instructor \nSaturday\, May 21The Good Witch Coffee Barat Train Station\, 134 Southside AveHastings-on-Hudson \nTickets: Full Evening with Dance Instruction 7–10pm  $40 per personMusic and Open Dance (no instruction) 8–10pm  $30 per person \n			\n				Tickets for Event\n			\n				\n				\n				\n				\n				Join RiverArts and Amanda Kupillas Dance for an exhilarating evening of music and dancing outdoors at the Good Witch Coffee Bar in Hastings-on-Hudson. Featuring Grammy-winning musician and bandleader Vince Giordano and his band The Mini Hawks and swing dance with professional lindy hopper\, Gaby Cook. \nBegin your evening at 7pm with Swing Dance instruction from Gaby Cook and her partner\, who will guide you through all the steps you need to make an impression on the dance floor! (Dance will be taught with partners\, however you do not need to have a partner to sign up!) \nLive music begins at 8pm as Vince Giordano and the band transport you to another time under the stars\, with NYC and the Palisades as your backdrop. \nThe Good Witch Coffee Bar will be open at 6:30 with wine\, beverages\, and other goodies for purchase. \nSchedule \n\n6:30pm: Check-in and grab a drink at The Good Witch• 7:00-8:00pm: Swing Dance Group Lesson with Gaby Cook • 8:00-10:00pm: Vince Giordano and The Mini Hawks play and dance floor opens up to public\n\n			\n				\n				\n				\n				\n				\n            \n            \n            \n			\n				Tickets for Event\n			\n				\n				\n				\n				\n				#RiverArtsDance#AmandaKupillasDance
URL:https://riverarts.org/event/swing-night/
LOCATION:The Good Witch Coffee Bar\, 134 Southside Ave\, Hastings-on-Hudson\, NY\, 10706\, United States
CATEGORIES:Dance,In-person,In-Person Instruction
ATTACH;FMTTYPE=image/png:https://riverarts.org/wp-content/uploads/2022/03/SwingNight_WebEvent.png
ORGANIZER;CN="RiverArts":MAILTO:info@riverarts.org
END:VEVENT
END:VCALENDAR