BEGIN:VCALENDAR
VERSION:2.0
PRODID:-//RiverArts - ECPv6.15.20//NONSGML v1.0//EN
CALSCALE:GREGORIAN
METHOD:PUBLISH
X-WR-CALNAME:RiverArts
X-ORIGINAL-URL:https://riverarts.org
X-WR-CALDESC:Events for RiverArts
REFRESH-INTERVAL;VALUE=DURATION:PT1H
X-Robots-Tag:noindex
X-PUBLISHED-TTL:PT1H
BEGIN:VTIMEZONE
TZID:America/New_York
BEGIN:DAYLIGHT
TZOFFSETFROM:-0500
TZOFFSETTO:-0400
TZNAME:EDT
DTSTART:20220313T070000
END:DAYLIGHT
BEGIN:STANDARD
TZOFFSETFROM:-0400
TZOFFSETTO:-0500
TZNAME:EST
DTSTART:20221106T060000
END:STANDARD
BEGIN:DAYLIGHT
TZOFFSETFROM:-0500
TZOFFSETTO:-0400
TZNAME:EDT
DTSTART:20230312T070000
END:DAYLIGHT
BEGIN:STANDARD
TZOFFSETFROM:-0400
TZOFFSETTO:-0500
TZNAME:EST
DTSTART:20231105T060000
END:STANDARD
BEGIN:DAYLIGHT
TZOFFSETFROM:-0500
TZOFFSETTO:-0400
TZNAME:EDT
DTSTART:20240310T070000
END:DAYLIGHT
BEGIN:STANDARD
TZOFFSETFROM:-0400
TZOFFSETTO:-0500
TZNAME:EST
DTSTART:20241103T060000
END:STANDARD
END:VTIMEZONE
BEGIN:VEVENT
DTSTART;TZID=America/New_York:20231104T110000
DTEND;TZID=America/New_York:20231104T170000
DTSTAMP:20260425T142541
CREATED:20230828T022602Z
LAST-MODIFIED:20230928T053508Z
UID:12531-1699095600-1699117200@riverarts.org
SUMMARY:RiverArts Studio Tour
DESCRIPTION:The RiverArts Studio Tour offers an opportunity for art lovers to engage with local artists in their own studios. This two-day tour will be held on the first weekend of November. \nSaturday\, November 4\, 11am–5pmSunday\, November 5\, 11am–3pm \nFULL ARTIST LIST AND MAP HERE\nThis multi-village adventure offers a veritable treasure hunt through industrial lofts\, home studios\, outdoor installations\, storefronts\, and galleries stretching from Hastings-on-Hudson to Tarrytown. The Studio Tour offers an opportunity to engage with local artists in an intimate setting\, learn about their process and inspiration\, and meet plenty of art lovers along the way. Participants can explore a wide range of mediums and unique works\, and if you are lucky\, you’ll bring home something to treasure for years to come. \nIn addition to the main Tour weekend\, RiverArts will host two preview exhibitions of works by participating artists. On Sunday\, October 15th from 3-5pm\, a preview show featuring works by Hastings\, Dobbs Ferry\, and Ardsley artists on the Tour will be shown at Hastings Village Hall Gallery. On Sunday\, October 22nd from 3-5pm\, a preview show featuring works by Tarrytown\, Sleepy Hollow\, and Irvington artists on the Tour will be shown at Shames JCC.  \n 
URL:https://riverarts.org/event/studio-tour-saturday-2023/
LOCATION:Throughout the Rivertowns\, Throughout Rivertowns
CATEGORIES:Art,In-person
ATTACH;FMTTYPE=image/png:https://riverarts.org/wp-content/uploads/2023/08/Social-StudioTour_1080x1080_LogoText.png
ORGANIZER;CN="RiverArts":MAILTO:info@riverarts.org
END:VEVENT
BEGIN:VEVENT
DTSTART;TZID=America/New_York:20231105T110000
DTEND;TZID=America/New_York:20231105T150000
DTSTAMP:20260425T142541
CREATED:20230828T033045Z
LAST-MODIFIED:20230928T053716Z
UID:12553-1699182000-1699196400@riverarts.org
SUMMARY:RiverArts Studio Tour
DESCRIPTION:The RiverArts Studio Tour offers an opportunity for art lovers to engage with local artists in their own studios. This two-day tour will be held on the first weekend of November. \nSaturday\, November 4\, 11am–5pmSunday\, November 5\, 11am–3pm \nFULL ARTIST LIST AND MAP HERE\nThis multi-village adventure offers a veritable treasure hunt through industrial lofts\, home studios\, outdoor installations\, storefronts\, and galleries stretching from Hastings-on-Hudson to Tarrytown. The Studio Tour offers an opportunity to engage with local artists in an intimate setting\, learn about their process and inspiration\, and meet plenty of art lovers along the way. Participants can explore a wide range of mediums and unique works\, and if you are lucky\, you’ll bring home something to treasure for years to come. \nIn addition to the main Tour weekend\, RiverArts will host two preview exhibitions of works by participating artists. On Sunday\, October 15th from 3-5pm\, a preview show featuring works by Hastings\, Dobbs Ferry\, and Ardsley artists on the Tour will be shown at Hastings Village Hall Gallery. On Sunday\, October 22nd from 3-5pm\, a preview show featuring works by Tarrytown\, Sleepy Hollow\, and Irvington artists on the Tour will be shown at Shames JCC.  \n  \n 
URL:https://riverarts.org/event/studio-tour-sunday-2023/
LOCATION:Throughout the Rivertowns\, Throughout Rivertowns
CATEGORIES:Art,In-person
ATTACH;FMTTYPE=image/png:https://riverarts.org/wp-content/uploads/2023/08/Social-StudioTour_1080x1080_LogoText.png
ORGANIZER;CN="RiverArts":MAILTO:info@riverarts.org
END:VEVENT
END:VCALENDAR