BEGIN:VCALENDAR
VERSION:2.0
PRODID:-//RiverArts - ECPv6.15.20//NONSGML v1.0//EN
CALSCALE:GREGORIAN
METHOD:PUBLISH
X-ORIGINAL-URL:https://riverarts.org
X-WR-CALDESC:Events for RiverArts
REFRESH-INTERVAL;VALUE=DURATION:PT1H
X-Robots-Tag:noindex
X-PUBLISHED-TTL:PT1H
BEGIN:VTIMEZONE
TZID:America/New_York
BEGIN:DAYLIGHT
TZOFFSETFROM:-0500
TZOFFSETTO:-0400
TZNAME:EDT
DTSTART:20230312T070000
END:DAYLIGHT
BEGIN:STANDARD
TZOFFSETFROM:-0400
TZOFFSETTO:-0500
TZNAME:EST
DTSTART:20231105T060000
END:STANDARD
BEGIN:DAYLIGHT
TZOFFSETFROM:-0500
TZOFFSETTO:-0400
TZNAME:EDT
DTSTART:20240310T070000
END:DAYLIGHT
BEGIN:STANDARD
TZOFFSETFROM:-0400
TZOFFSETTO:-0500
TZNAME:EST
DTSTART:20241103T060000
END:STANDARD
BEGIN:DAYLIGHT
TZOFFSETFROM:-0500
TZOFFSETTO:-0400
TZNAME:EDT
DTSTART:20250309T070000
END:DAYLIGHT
BEGIN:STANDARD
TZOFFSETFROM:-0400
TZOFFSETTO:-0500
TZNAME:EST
DTSTART:20251102T060000
END:STANDARD
END:VTIMEZONE
BEGIN:VEVENT
DTSTART;TZID=America/New_York:20240614T180000
DTEND;TZID=America/New_York:20240614T193000
DTSTAMP:20260425T113242
CREATED:20240610T161017Z
LAST-MODIFIED:20240610T163943Z
UID:13417-1718388000-1718393400@riverarts.org
SUMMARY:Music Program Student Recital | Students of Dr. Barbara Podgurski
DESCRIPTION:Music Program Student Recital | Students of Dr. Barbara Podgurski\n			\n				\n				\n				\n				\n				Friday\, June 14 6:00 – 7:30 PMGrace Episcopal Church 78 Main StreetHastings-on-Hudson\, NYFree Admission \n			\n				\n				\n				\n				\n				Join us as we celebrate the achievements of our students’ musical instruction at our end of year recitals! \n			\n				Learn about the RiverArts Music Program
URL:https://riverarts.org/event/student-recital-june-14/
LOCATION:Grace Episcopal Church\, 78 Main Street\, Hastings-on-Hudson\, NY\, 10706\, United States
CATEGORIES:In-person,Music
ATTACH;FMTTYPE=image/jpeg:https://riverarts.org/wp-content/uploads/2024/06/Music-Recital-Event-Banner.jpg
ORGANIZER;CN="RiverArts":MAILTO:info@riverarts.org
END:VEVENT
BEGIN:VEVENT
DTSTART;TZID=America/New_York:20240616T190000
DTEND;TZID=America/New_York:20240616T203000
DTSTAMP:20260425T113243
CREATED:20240610T164018Z
LAST-MODIFIED:20240610T164312Z
UID:13427-1718564400-1718569800@riverarts.org
SUMMARY:Music Program Student Recital | Students of Mary Thombs
DESCRIPTION:Music Program Student Recital | Students of Mary Thombs\n			\n				\n				\n				\n				\n				Sunday\, June 167:00 – 8:30 PMFirst Reformed Church18 Farragut AveHastings-on-Hudson\, NYFree Admission \n			\n				\n				\n				\n				\n				Join us as we celebrate the achievements of our students’ musical instruction at our end of year recitals! \n			\n				Learn about the RiverArts Music Program
URL:https://riverarts.org/event/student-recital-june-16/
LOCATION:First Reformed Church\, 18 Farragut Ave\, Hastings-on-Hudson\, 10706
CATEGORIES:In-person,Music
ATTACH;FMTTYPE=image/jpeg:https://riverarts.org/wp-content/uploads/2024/06/Music-Recital-Event-Banner-2.jpg
ORGANIZER;CN="RiverArts":MAILTO:info@riverarts.org
END:VEVENT
BEGIN:VEVENT
DTSTART;TZID=America/New_York:20240619T190000
DTEND;TZID=America/New_York:20240619T203000
DTSTAMP:20260425T113243
CREATED:20240610T164349Z
LAST-MODIFIED:20240610T164757Z
UID:13432-1718823600-1718829000@riverarts.org
SUMMARY:Music Program Student Recital
DESCRIPTION:Music Program Student Recital \n			\n				\n				\n				\n				\n				Wednesday\, June 197:00 – 8:30 PMGrace Episcopal Church78 Main StreetHastings-on-Hudson\, NYFree Admission \n			\n				\n				\n				\n				\n				Join us as we celebrate the achievements of our students’ musical instruction at our end of year recitals! \n			\n				Learn about the RiverArts Music Program
URL:https://riverarts.org/event/student-recital-june-19/
LOCATION:Grace Episcopal Church\, 78 Main Street\, Hastings-on-Hudson\, NY\, 10706\, United States
CATEGORIES:In-person,Music
ATTACH;FMTTYPE=image/jpeg:https://riverarts.org/wp-content/uploads/2024/06/Music-Recital-Event-Banner-4.jpg
ORGANIZER;CN="RiverArts":MAILTO:info@riverarts.org
END:VEVENT
BEGIN:VEVENT
DTSTART;TZID=America/New_York:20240621T190000
DTEND;TZID=America/New_York:20240621T203000
DTSTAMP:20260425T113243
CREATED:20240610T171629Z
LAST-MODIFIED:20240610T171823Z
UID:13438-1718996400-1719001800@riverarts.org
SUMMARY:Music Program Student Recital
DESCRIPTION:Music Program Student Recital \n			\n				\n				\n				\n				\n				Friday\, June 217:00 – 8:30 PMGrace Episcopal Church78 Main StreetHastings-on-Hudson\, NYFree Admission \n			\n				\n				\n				\n				\n				Join us as we celebrate the achievements of our students’ musical instruction at our end of year recitals! \n			\n				Learn about the RiverArts Music Program
URL:https://riverarts.org/event/student-recital-june-21/
LOCATION:Grace Episcopal Church\, 78 Main Street\, Hastings-on-Hudson\, NY\, 10706\, United States
CATEGORIES:In-person,Music
ATTACH;FMTTYPE=image/jpeg:https://riverarts.org/wp-content/uploads/2024/06/Music-Recital-Event-Banner-3.jpg
ORGANIZER;CN="RiverArts":MAILTO:info@riverarts.org
END:VEVENT
END:VCALENDAR