BEGIN:VCALENDAR
VERSION:2.0
PRODID:-//RiverArts - ECPv6.15.20//NONSGML v1.0//EN
CALSCALE:GREGORIAN
METHOD:PUBLISH
X-ORIGINAL-URL:https://riverarts.org
X-WR-CALDESC:Events for RiverArts
REFRESH-INTERVAL;VALUE=DURATION:PT1H
X-Robots-Tag:noindex
X-PUBLISHED-TTL:PT1H
BEGIN:VTIMEZONE
TZID:America/New_York
BEGIN:DAYLIGHT
TZOFFSETFROM:-0500
TZOFFSETTO:-0400
TZNAME:EDT
DTSTART:20240310T070000
END:DAYLIGHT
BEGIN:STANDARD
TZOFFSETFROM:-0400
TZOFFSETTO:-0500
TZNAME:EST
DTSTART:20241103T060000
END:STANDARD
BEGIN:DAYLIGHT
TZOFFSETFROM:-0500
TZOFFSETTO:-0400
TZNAME:EDT
DTSTART:20250309T070000
END:DAYLIGHT
BEGIN:STANDARD
TZOFFSETFROM:-0400
TZOFFSETTO:-0500
TZNAME:EST
DTSTART:20251102T060000
END:STANDARD
BEGIN:DAYLIGHT
TZOFFSETFROM:-0500
TZOFFSETTO:-0400
TZNAME:EDT
DTSTART:20260308T070000
END:DAYLIGHT
BEGIN:STANDARD
TZOFFSETFROM:-0400
TZOFFSETTO:-0500
TZNAME:EST
DTSTART:20261101T060000
END:STANDARD
END:VTIMEZONE
BEGIN:VEVENT
DTSTART;TZID=America/New_York:20251123T130000
DTEND;TZID=America/New_York:20251123T150000
DTSTAMP:20260423T233423
CREATED:20250619T130656Z
LAST-MODIFIED:20251001T163813Z
UID:14327-1763902800-1763910000@riverarts.org
SUMMARY:2025 Chamber Music Benefit
DESCRIPTION:SAVE THE DATE2025 Chamber Music Benefit\nSunday November 231–3pmThe Newington-Cropsey Foundation25 Cropsey Lane Hastings-on-Hudson\, NY 10706Advanced ticket sales only\, not available at-the-door \n			\n				Tickets\n			\n				\n				\n				\n				\n				  \nWe are delighted to invite you to our 10th annual Chamber Music Benefit Concert! Enjoy a wonderful afternoon of music\, followed by a cocktail reception\, at the unique\, art-filled venue of the Newington Cropsey Foundation in Hastings. \nPlease join us to hear the beauty of Mozart and Dvořák Piano Quartets amidst the splendor of the paintings of Jasper Cropsey. This unique venue has become a much anticipated annual event for RA Chamber Music enthusiasts\, and Artistic Director Peter Seidenberg has assembled an amazing group of musicians including violinist Muneko Otani\, violist Daniel Panner\, and pianist Hui-Mei Lin. The Cropsey Foundation provides a sumptuous reception following the concert. \nThe program opens with Mozart’s Piano Quartet in g minor K478. Franz Anton Hoffmeister commissioned a series of three piano quartets from Mozart. Both his recently opened publishing house\, and the piano quartet as a musical form\, were new on the scene. Hoffmeister hoped that Mozart would provide popular music\, playable by amateurs\, “easy\, instantly gratifying\, and marketable.” Instead\, Mozart created music that was dramatic and filled with complexity- not at all suitable for amateur musicians. Sales were poor and Hoffmeister cancelled his order for the additional quartets. We\, however\, were blessed with what has become one of Mozart’s most popular chamber music compositions. It should be noted that G minor is a key that Mozart reserved for the dramatic\, often expressing intense and/or dark emotions. (Other famous Mozart compositions in this key include the Symphony #40\, and the String Quintet K\, 516 which we heard a year and a half ago on our concert of Mozart String Quintets.) \nWhile working on his Piano Quartet Op 87\, in the summer of 1889\, Dvořák wrote “My head is so full\, if a human being could only write it all down straight away! […] It is unexpectedly easy and the melodies simply flow towards me. Thanks be to God!”. This work indeed overflows with melodic richness and is one of Dvořák’s glorious chamber pieces. Programming these two piano quartets in one afternoon gives us an opportunity to hear Mozart’s\, who practically “invented” the form\, and Dvořák’s skilled and exciting handling of the same ensemble 100 years later. \n  \n\n\nAbout the Artists:Muneko Otani [violin] As the first violinist of the Cassatt String Quartet Muneko Otani has appeared in the US\, Canada and Mexico as well as in Europe and Asia. Major venues have included Lincoln Center\, the Kennedy Center\, the Library of Congress\, Palacio de Bellas Artes and the Bastille Opera House. The quartet has over 40 recordings\, and were named three times to Alex Ross’ 10 best classical recordings of the year in The New Yorker magazine. Her numerous awards with the Cassatt Quartet include the Wardwell Chamber Music Fellowship at Yale (where they served as teaching assistants to the Tokyo Quartet)\, two top prizes at the Banff International String Quartet Competition\, two CMA/ASCAP Awards for Adventurous Programming\, a recording grant from the Mary Flagler Cary Charitable Trust\, and commissioning grants from Meet the Composer and the National Endowment for the Arts. As a chamber musician\, she has collaborated with Paul Katz\, Colin Carr\, Ursula Oppens\, Eliot Fisk\, Walter Trampler\, Martin Lovett\, Marc Johnson\, Kazuhide Isomura\, Masuko Ushioda and Lawrence Lesser. \nDaniel Panner [viola] enjoys a varied career as a performer and teacher. As violist of the Mendelssohn String Quartet\, he has concertized extensively throughout the United States and Israel. He has performed at music festivals in Marlboro\, Tanglewood\, Aspen\, and on National Public Radio’s Performance Today\, and has collaborated with members of the Cleveland\, Emerson\, Guarneri\, and Juilliard String Quartets. As a member of the Whitman String Quartet\, Panner received the 1998 Walter W. Naumburg Chamber Music Award. He currently teaches at The Juilliard School\, the Mannes College of Music\, SUNY Stonybrook\, and the Queens College Conservatory of Music. He has performed with the Chamber Music Society of Lincoln Center\, Musicians from Marlboro\, and the Orpheus Chamber Orchestra. He has served as the principal violist of such orchestras as the New York City Opera and the Mostly Mozart Festival Orchestra. An active performer of new music\, he is a member of Sequitur and the Locrian Ensemble and has performed as a guest artist with Speculum Musicae\, the Da Capo Chamber Players\, and Transit Circle. \nPeter Seidenberg [cello and Artistic Director] “Totally enchanting\, inspired performances\, brimming with natural\, spontaneous musicianship”\, raves Gramophone Magazine about cellist Peter Seidenberg. Mr. Seidenberg has played in major halls throughout the US\, Europe\, and Asia\, and served as principal cellist with the Century Orchestra of Osaka. He was a founding member of the critically acclaimed Elements Quartet which created groundbreaking commissioning projects involving over 30 composers. He has collaborated with members of the Cleveland\, Tokyo\, Juilliard and Emerson Quartets and has participated in the Marlboro\, Aspen\, Caramoor\, Casals and Norfolk festivals. Currently\, he is the cellist for the Oracle Trio\, the Queen’s Chamber Band\, and the New York Chamber Soloists. Peter concertizes frequently in collaboration with pianist Hui-Mei Lin. The duo have performed together throughout the US to much acclaim. \nHui-Mei Lin [piano]\, a native of Taiwan\, made her New York solo debut at the Weill Recital Hall at Carnegie Hall as the winner of the Artists International Audition. She was described by the New York Times as “an excellent pianist throughout” and the Taiwan News as “a sensitive and powerful pianist.” With long-time cello partner\, Peter Seidenberg\, Hui Mei has toured throughout the East coast\, New Mexico\, Chicago\, and Taiwan. She has appeared in solo programs at Alice Tully Hall\, the Caramoor Music Festival\, and The Steinway Society of the Bay Area\, among other venues. Her media broadcasts include solo performances at PBS (Maryland)\, WQXR (New York City) and Taiwan Television. \nAbout The Newington-Cropsey FoundationThe Newington-Cropsey Foundation was founded in 1977 by Barbara and John Newington to collect and promote works of Barbara’s great-grandfather\, Hudson River School artist Jasper Cropsey. The Foundation hosts a large collection of paintings and is considered the leading authority on Jasper Cropsey. Along with the Gallery of Art completed in the mid ’90’s\, the foundation maintains Cropsey’s final home\, Ever Rest\, on the property. They graciously host an annual Chamber Music benefit for RiverArts in the gallery.   \nAbout RiverArts Chamber SeriesFounded in 2016\, the RiverArts Chamber Music Series under the Artistic Direction of Peter Seidenberg and producer Doug Coe\, is devoted to bringing the finest Chamber Music\, both classical and contemporary\, to the Rivertowns. The Series consists of three concerts each season\, with one being a gala hosted by The Newington-Cropsey Foundation. \nVisit the Chamber Music Series site to learn more and see past and current programming.https://riverarts.org/programs/music/chamber-music-series/  \n\n\n			\n				Tickets
URL:https://riverarts.org/event/chamberbenefit2025/
LOCATION:Newington-Cropsey Foundation\, 25 Cropsey Lane\, Hastings-on-Hudson\, NY\, 10706\, United States
CATEGORIES:Chamber Music,In-person,Music
ATTACH;FMTTYPE=image/png:https://riverarts.org/wp-content/uploads/2025/06/Chamber-Benefit-Website-Banner-for-Homepage.png
ORGANIZER;CN="RiverArts":MAILTO:info@riverarts.org
END:VEVENT
END:VCALENDAR