BEGIN:VCALENDAR
VERSION:2.0
PRODID:-//RiverArts - ECPv6.15.20//NONSGML v1.0//EN
CALSCALE:GREGORIAN
METHOD:PUBLISH
X-ORIGINAL-URL:https://riverarts.org
X-WR-CALDESC:Events for RiverArts
REFRESH-INTERVAL;VALUE=DURATION:PT1H
X-Robots-Tag:noindex
X-PUBLISHED-TTL:PT1H
BEGIN:VTIMEZONE
TZID:America/New_York
BEGIN:DAYLIGHT
TZOFFSETFROM:-0500
TZOFFSETTO:-0400
TZNAME:EDT
DTSTART:20240310T070000
END:DAYLIGHT
BEGIN:STANDARD
TZOFFSETFROM:-0400
TZOFFSETTO:-0500
TZNAME:EST
DTSTART:20241103T060000
END:STANDARD
BEGIN:DAYLIGHT
TZOFFSETFROM:-0500
TZOFFSETTO:-0400
TZNAME:EDT
DTSTART:20250309T070000
END:DAYLIGHT
BEGIN:STANDARD
TZOFFSETFROM:-0400
TZOFFSETTO:-0500
TZNAME:EST
DTSTART:20251102T060000
END:STANDARD
BEGIN:DAYLIGHT
TZOFFSETFROM:-0500
TZOFFSETTO:-0400
TZNAME:EDT
DTSTART:20260308T070000
END:DAYLIGHT
BEGIN:STANDARD
TZOFFSETFROM:-0400
TZOFFSETTO:-0500
TZNAME:EST
DTSTART:20261101T060000
END:STANDARD
END:VTIMEZONE
BEGIN:VEVENT
DTSTART;TZID=America/New_York:20250124T200000
DTEND;TZID=America/New_York:20250124T210000
DTSTAMP:20260424T154418
CREATED:20241210T060016Z
LAST-MODIFIED:20250117T021324Z
UID:13715-1737748800-1737752400@riverarts.org
SUMMARY:Channels: Kaki King
DESCRIPTION:Channels: Kaki King\n			\n				\n				\n				\n				\n				SOLD OUT!\nFriday\, January 24\, 20258 PM; Doors open at 7 PM \nHosted by Hudco145 Palisade Street\, Suite 200Dobbs Ferry\, NY 10522 \nAges 12+ \n$30 Adult$20 Student (21 and under) \n			\n				\n				\n				\n				\n				Join us on Friday\, January 24\, for an unforgettable evening with renowned musician and composer Kaki King. \nDubbed by Rolling Stone as “a genre unto herself\,” Brooklyn\, NY-based Kaki King has proven to be just that. Her career has taken her all over the world\, sharing stages with Dave Grohl of Foo Fighters\, contributing music to award-winning films (Sean Penn’s Into The Wild)\, and performing at the Kennedy Center\, the London Jazz Festival\, and the Paris Les Femmes s’en Melent. \nHer explorations into the guitar and multimedia have led to the creation of groundbreaking work such as The Neck Is A Bridge To The Body\, Modern Yesterdays\, SEI\, and her newest show for audiences of all ages\, BUGS. Kaki continues to create\, perform\, and lend her musical voice to the forefront of contemporary music. \nTickets must be purchased in advance. \nArtist’s Instagram \nAbout Channels \nA new music series that defies boundaries and celebrates the river as a means of travel\, exploration\, and source of new ideas – Channels presents adventurous music in unique Rivertown settings. The mission of the series is to bring together artists and audiences in the spirit of connectivity and discovery\, by taking advantage of one of the area’s greatest resources—its location.
URL:https://riverarts.org/event/channels-kaki-king/
LOCATION:HudCo\, 145 Palisade Street\, Dobbs Ferry\, NY\, 10522\, United States
CATEGORIES:In-person,Music
ATTACH;FMTTYPE=image/jpeg:https://riverarts.org/wp-content/uploads/2024/12/Kaki-King-Official-Pic-2-Summer-2024_16x9-scaled.jpg
ORGANIZER;CN="RiverArts":MAILTO:info@riverarts.org
END:VEVENT
END:VCALENDAR