BEGIN:VCALENDAR
VERSION:2.0
PRODID:-//RiverArts - ECPv6.15.20//NONSGML v1.0//EN
CALSCALE:GREGORIAN
METHOD:PUBLISH
X-ORIGINAL-URL:https://riverarts.org
X-WR-CALDESC:Events for RiverArts
REFRESH-INTERVAL;VALUE=DURATION:PT1H
X-Robots-Tag:noindex
X-PUBLISHED-TTL:PT1H
BEGIN:VTIMEZONE
TZID:America/New_York
BEGIN:DAYLIGHT
TZOFFSETFROM:-0500
TZOFFSETTO:-0400
TZNAME:EDT
DTSTART:20230312T070000
END:DAYLIGHT
BEGIN:STANDARD
TZOFFSETFROM:-0400
TZOFFSETTO:-0500
TZNAME:EST
DTSTART:20231105T060000
END:STANDARD
BEGIN:DAYLIGHT
TZOFFSETFROM:-0500
TZOFFSETTO:-0400
TZNAME:EDT
DTSTART:20240310T070000
END:DAYLIGHT
BEGIN:STANDARD
TZOFFSETFROM:-0400
TZOFFSETTO:-0500
TZNAME:EST
DTSTART:20241103T060000
END:STANDARD
BEGIN:DAYLIGHT
TZOFFSETFROM:-0500
TZOFFSETTO:-0400
TZNAME:EDT
DTSTART:20250309T070000
END:DAYLIGHT
BEGIN:STANDARD
TZOFFSETFROM:-0400
TZOFFSETTO:-0500
TZNAME:EST
DTSTART:20251102T060000
END:STANDARD
END:VTIMEZONE
BEGIN:VEVENT
DTSTART;TZID=America/New_York:20240601T110000
DTEND;TZID=America/New_York:20240601T210000
DTSTAMP:20260425T101647
CREATED:20240222T230754Z
LAST-MODIFIED:20240520T030749Z
UID:13077-1717239600-1717275600@riverarts.org
SUMMARY:2024 RiverArts Music Tour
DESCRIPTION:RiverArts 2024 MUSIC TOUR | Free Music Festival\n			\n				\n				\n				\n				\n				In its 9th year\, the RiverArts Music Tour will take place on Saturday\, June 1\, 2024\, throughout the Rivertown villages of Dobbs Ferry\, Hastings-on-Hudson\, Irvington\, and Tarrytown. \nMusic from over 300 performers will fill backyards\, gardens\, village businesses\, churches community centers and open green spaces on the banks of the Hudson River. It’s the largest\, family-friendly\, free event for music lovers in lower Westchester County and truly offers something for everyone — from classical and jazz to folk\, rock\, alternative\, urban and world music. \n			\n				View Music Tour Schedule & Map\n			\n				\n				\n				\n				\n				#RiverArtsMusicTour
URL:https://riverarts.org/event/riverarts-music-tour-2024/
LOCATION:Throughout the Rivertowns\, Throughout Rivertowns
CATEGORIES:In-person,Music
ATTACH;FMTTYPE=image/png:https://riverarts.org/wp-content/uploads/2023/02/MusicTour-Banner-23-Web.png
ORGANIZER;CN="RiverArts":MAILTO:info@riverarts.org
END:VEVENT
END:VCALENDAR