BEGIN:VCALENDAR
VERSION:2.0
PRODID:-//RiverArts - ECPv6.15.20//NONSGML v1.0//EN
CALSCALE:GREGORIAN
METHOD:PUBLISH
X-ORIGINAL-URL:https://riverarts.org
X-WR-CALDESC:Events for RiverArts
REFRESH-INTERVAL;VALUE=DURATION:PT1H
X-Robots-Tag:noindex
X-PUBLISHED-TTL:PT1H
BEGIN:VTIMEZONE
TZID:America/New_York
BEGIN:DAYLIGHT
TZOFFSETFROM:-0500
TZOFFSETTO:-0400
TZNAME:EDT
DTSTART:20240310T070000
END:DAYLIGHT
BEGIN:STANDARD
TZOFFSETFROM:-0400
TZOFFSETTO:-0500
TZNAME:EST
DTSTART:20241103T060000
END:STANDARD
BEGIN:DAYLIGHT
TZOFFSETFROM:-0500
TZOFFSETTO:-0400
TZNAME:EDT
DTSTART:20250309T070000
END:DAYLIGHT
BEGIN:STANDARD
TZOFFSETFROM:-0400
TZOFFSETTO:-0500
TZNAME:EST
DTSTART:20251102T060000
END:STANDARD
BEGIN:DAYLIGHT
TZOFFSETFROM:-0500
TZOFFSETTO:-0400
TZNAME:EDT
DTSTART:20260308T070000
END:DAYLIGHT
BEGIN:STANDARD
TZOFFSETFROM:-0400
TZOFFSETTO:-0500
TZNAME:EST
DTSTART:20261101T060000
END:STANDARD
END:VTIMEZONE
BEGIN:VEVENT
DTSTART;TZID=America/New_York:20250605T190000
DTEND;TZID=America/New_York:20250605T203000
DTSTAMP:20260424T083053
CREATED:20250501T221718Z
LAST-MODIFIED:20250502T193910Z
UID:14128-1749150000-1749155400@riverarts.org
SUMMARY:Artist Conversation: Intricate Fabric of Life with Susan Richman and Rachel Weatherford Whitlow
DESCRIPTION:Thursday\, June 57-8:30pmUpstream Gallery8 Main StreetHastings on Hudson\, NY \n			\n				\n				\n				\n				\n				How does anyone cope with constant flux\, with a steady stream of near emergency\, with the knowledge that what once was\, is gone? Illness\, death\, upheaval of most kinds necessitates an anchor. When we feel this way\, some of us look to nature. \n\n“The shore is an ancient world\, for as long as there has been an earth and sea there has been this place of the meeting of land and water. Yet it is a world that keeps alive the sense of continuing creation and of the relentless drive of life. Each time that I enter it\, I gain some new awareness of its beauty and its deeper meanings\, sensing that intricate fabric of life by which one creature is linked with another\, and each with its surroundings.” Rachel Carson \n\nIn this conversation we will explore the liminal space of change and connection as we dive into the works of artists Susan Richman and Rachel Weatherford Whitlow. Each artist has a unique relationship with nature both as a source of inspiration and a medium from which to create\, seeking her anchor in the uncertainty of nature and creating images in which that “intricate fabric of life “is revealed. \n			\n				Purchase Tickets\n			\n				\n				\n				\n				\n				ABOUT THE ARTISTS\n\n            \n            \n             \n			\n				Purchase Tickets
URL:https://riverarts.org/event/richman-whitlow/
LOCATION:Upstream gallery\, 8 Main Street\, Hastings-on-Hudson\, NY\, 10706
CATEGORIES:Art,Artist Conversation,Chamber Music,In-person,Readings and Conversations
ATTACH;FMTTYPE=image/png:https://riverarts.org/wp-content/uploads/2025/05/Website-Banner-for-Homepage.png
ORGANIZER;CN="RiverArts":MAILTO:info@riverarts.org
END:VEVENT
END:VCALENDAR