BEGIN:VCALENDAR
VERSION:2.0
PRODID:-//RiverArts - ECPv6.15.20//NONSGML v1.0//EN
CALSCALE:GREGORIAN
METHOD:PUBLISH
X-WR-CALNAME:RiverArts
X-ORIGINAL-URL:https://riverarts.org
X-WR-CALDESC:Events for RiverArts
REFRESH-INTERVAL;VALUE=DURATION:PT1H
X-Robots-Tag:noindex
X-PUBLISHED-TTL:PT1H
BEGIN:VTIMEZONE
TZID:America/New_York
BEGIN:DAYLIGHT
TZOFFSETFROM:-0500
TZOFFSETTO:-0400
TZNAME:EDT
DTSTART:20240310T070000
END:DAYLIGHT
BEGIN:STANDARD
TZOFFSETFROM:-0400
TZOFFSETTO:-0500
TZNAME:EST
DTSTART:20241103T060000
END:STANDARD
BEGIN:DAYLIGHT
TZOFFSETFROM:-0500
TZOFFSETTO:-0400
TZNAME:EDT
DTSTART:20250309T070000
END:DAYLIGHT
BEGIN:STANDARD
TZOFFSETFROM:-0400
TZOFFSETTO:-0500
TZNAME:EST
DTSTART:20251102T060000
END:STANDARD
BEGIN:DAYLIGHT
TZOFFSETFROM:-0500
TZOFFSETTO:-0400
TZNAME:EDT
DTSTART:20260308T070000
END:DAYLIGHT
BEGIN:STANDARD
TZOFFSETFROM:-0400
TZOFFSETTO:-0500
TZNAME:EST
DTSTART:20261101T060000
END:STANDARD
END:VTIMEZONE
BEGIN:VEVENT
DTSTART;TZID=America/New_York:20250811T090000
DTEND;TZID=America/New_York:20250815T150000
DTSTAMP:20260424T032601
CREATED:20250619T131043Z
LAST-MODIFIED:20250619T131418Z
UID:14330-1754902800-1755270000@riverarts.org
SUMMARY:SummerArts Camp
DESCRIPTION:SummerArts\n			\n				\n				\n				\n				\n				Week 1: August 11-15Week 2: August 18-22Week 3: August 25-29 \nTIME: Monday – Friday 9:00 – 3:00 \n			\n				Find full details and register for SummerArts here!\n			\n				\n				\n				\n				\n				Channel your kids’ energy into the arts this summer! SummerArts offers four weeks of multi–arts workshops for children entering grades 3-9. Each week\, students take part in a wide variety of artistic activities with daily sessions in visual arts\, music and movement/theater\, led by teaching artists who are experts in their field. \nIn between classes kids can play outside\, spend time with friends or work on a project at their own pace. Workshops for older students are more intensive and provide an opportunity for more sophisticated exploration and execution. \nThe SummerArts program is specially designed  to provide kids with a deeply creative\, artistic experience.  Themes and activities vary each week\, giving students the chance to explore art in many forms and diverse media. Many campers are introduced to new artistic expressions and media that they never knew they loved!  Classes are perfect for beginners as well as more seasoned creators.   \nFor more information\, please email the Director: summerarts@riverarts.org
URL:https://riverarts.org/event/summerarts-2025-week1/
LOCATION:First Reformed Church\, 18 Farragut Ave\, Hastings-on-Hudson\, 10706
CATEGORIES:Day Camp,In-person
ATTACH;FMTTYPE=image/png:https://riverarts.org/wp-content/uploads/2022/06/Event-Graphic_SummerArts.png
ORGANIZER;CN="RiverArts":MAILTO:info@riverarts.org
END:VEVENT
BEGIN:VEVENT
DTSTART;TZID=America/New_York:20250818T090000
DTEND;TZID=America/New_York:20250822T150000
DTSTAMP:20260424T032601
CREATED:20250619T131441Z
LAST-MODIFIED:20250619T131536Z
UID:14334-1755507600-1755874800@riverarts.org
SUMMARY:SummerArts Camp
DESCRIPTION:SummerArts\n			\n				\n				\n				\n				\n				Week 1: August 11-15Week 2: August 18-22Week 3: August 25-29 \nTIME: Monday – Friday 9:00 – 3:00 \n			\n				Find full details and register for SummerArts here!\n			\n				\n				\n				\n				\n				Channel your kids’ energy into the arts this summer! SummerArts offers four weeks of multi–arts workshops for children entering grades 3-9. Each week\, students take part in a wide variety of artistic activities with daily sessions in visual arts\, music and movement/theater\, led by teaching artists who are experts in their field. \nIn between classes kids can play outside\, spend time with friends or work on a project at their own pace. Workshops for older students are more intensive and provide an opportunity for more sophisticated exploration and execution. \nThe SummerArts program is specially designed  to provide kids with a deeply creative\, artistic experience.  Themes and activities vary each week\, giving students the chance to explore art in many forms and diverse media. Many campers are introduced to new artistic expressions and media that they never knew they loved!  Classes are perfect for beginners as well as more seasoned creators.   \nFor more information\, please email the Director: summerarts@riverarts.org
URL:https://riverarts.org/event/summerarts-2025-week2/
LOCATION:First Reformed Church\, 18 Farragut Ave\, Hastings-on-Hudson\, 10706
CATEGORIES:Day Camp,In-person
ATTACH;FMTTYPE=image/png:https://riverarts.org/wp-content/uploads/2022/06/Event-Graphic_SummerArts.png
ORGANIZER;CN="RiverArts":MAILTO:info@riverarts.org
END:VEVENT
BEGIN:VEVENT
DTSTART;TZID=America/New_York:20250825T090000
DTEND;TZID=America/New_York:20250829T150000
DTSTAMP:20260424T032601
CREATED:20250619T131604Z
LAST-MODIFIED:20250619T131645Z
UID:14337-1756112400-1756479600@riverarts.org
SUMMARY:SummerArts Camp
DESCRIPTION:SummerArts\n			\n				\n				\n				\n				\n				Week 1: August 11-15Week 2: August 18-22Week 3: August 25-29 \nTIME: Monday – Friday 9:00 – 3:00 \n			\n				Find full details and register for SummerArts here!\n			\n				\n				\n				\n				\n				Channel your kids’ energy into the arts this summer! SummerArts offers four weeks of multi–arts workshops for children entering grades 3-9. Each week\, students take part in a wide variety of artistic activities with daily sessions in visual arts\, music and movement/theater\, led by teaching artists who are experts in their field. \nIn between classes kids can play outside\, spend time with friends or work on a project at their own pace. Workshops for older students are more intensive and provide an opportunity for more sophisticated exploration and execution. \nThe SummerArts program is specially designed  to provide kids with a deeply creative\, artistic experience.  Themes and activities vary each week\, giving students the chance to explore art in many forms and diverse media. Many campers are introduced to new artistic expressions and media that they never knew they loved!  Classes are perfect for beginners as well as more seasoned creators.   \nFor more information\, please email the Director: summerarts@riverarts.org
URL:https://riverarts.org/event/summerarts-2025-week3/
LOCATION:First Reformed Church\, 18 Farragut Ave\, Hastings-on-Hudson\, 10706
CATEGORIES:Day Camp,In-person
ATTACH;FMTTYPE=image/png:https://riverarts.org/wp-content/uploads/2022/06/Event-Graphic_SummerArts.png
ORGANIZER;CN="RiverArts":MAILTO:info@riverarts.org
END:VEVENT
END:VCALENDAR