BEGIN:VCALENDAR
VERSION:2.0
PRODID:-//RiverArts - ECPv6.15.20//NONSGML v1.0//EN
CALSCALE:GREGORIAN
METHOD:PUBLISH
X-WR-CALNAME:RiverArts
X-ORIGINAL-URL:https://riverarts.org
X-WR-CALDESC:Events for RiverArts
REFRESH-INTERVAL;VALUE=DURATION:PT1H
X-Robots-Tag:noindex
X-PUBLISHED-TTL:PT1H
BEGIN:VTIMEZONE
TZID:America/New_York
BEGIN:DAYLIGHT
TZOFFSETFROM:-0500
TZOFFSETTO:-0400
TZNAME:EDT
DTSTART:20230312T070000
END:DAYLIGHT
BEGIN:STANDARD
TZOFFSETFROM:-0400
TZOFFSETTO:-0500
TZNAME:EST
DTSTART:20231105T060000
END:STANDARD
BEGIN:DAYLIGHT
TZOFFSETFROM:-0500
TZOFFSETTO:-0400
TZNAME:EDT
DTSTART:20240310T070000
END:DAYLIGHT
BEGIN:STANDARD
TZOFFSETFROM:-0400
TZOFFSETTO:-0500
TZNAME:EST
DTSTART:20241103T060000
END:STANDARD
BEGIN:DAYLIGHT
TZOFFSETFROM:-0500
TZOFFSETTO:-0400
TZNAME:EDT
DTSTART:20250309T070000
END:DAYLIGHT
BEGIN:STANDARD
TZOFFSETFROM:-0400
TZOFFSETTO:-0500
TZNAME:EST
DTSTART:20251102T060000
END:STANDARD
END:VTIMEZONE
BEGIN:VEVENT
DTSTART;TZID=America/New_York:20240622T200000
DTEND;TZID=America/New_York:20240622T213000
DTSTAMP:20260425T101458
CREATED:20240528T182247Z
LAST-MODIFIED:20240613T010014Z
UID:13368-1719086400-1719091800@riverarts.org
SUMMARY:Flow Lines: Variations on Stillness at Sunset | Artist Conversations Series
DESCRIPTION:Flow Lines: Variations on Stillness at Sunset | Artist Conversations Series\n			\n				\n				\n				\n				\n				Saturday\, June 22\, 20248:00 PM – 9:30 PMQuonset Hut145 Palisade Street\, Dobbs Ferry\, NY(over the bridge\, across the tracks) \n$15 in advance\, $20 at the door \n			\n				Purchase Tickets\n			\n				\n				\n				\n				\n				Join us for our Artist Conversations Series presentation of Flow Lines: Variations on Stillness at Sunset. \nFlow Lines is an interdisciplinary collaboration blending art\, visual effects\, and sound\, featuring contributions from Jon Hatch\, Bruce Robbins\, and Malcolm Macdougall. Inspired by the multidirectional flow of rivers and estuaries\, Flow Lines represents an interconnection of multiple creative disciplines. \nThis immersive experience synthesizes responses to various original source materials\, with each response building upon the last. Flow Lines invites the audience to explore these variations as a community\, while reflecting on their own individual responses. A talk-back with the artists will follow the performance. \nThe Variations: \n\nPhase 1 – Gathering and viewing sculptures by Malcolm Macdougall\, on display outside of the Quonset Hut.\nPhase 2 – Inside the Quonset Hut\, we convene with artists Bruce Robbins and Jon Hatch.\nPhase 3 – The main presentation will begin at sunset in the Hut\, featuring:\n\nOriginal electronic music by Jon Hatch\nVisual works by BC Robbins\n\n\nPhase 4 – Exploration of darkness.\nPhase 5 – Talkback after performance with artists.\n\n\nAbout the Artists \n \nJon Hatch \nJon is a versatile composer and musician who navigates between the worlds of media composition and live performance. With a passion for crafting immersive sonic experiences\, Jon specializes in composing music for film\, television\, and video games\, infusing his pieces with a unique blend of analog synthesizers\, experimental modular synths\, tape loops\, and traditional orchestral instruments. As a performing artist\, Jon captures audiences with his diverse range of performances\, from ethereal ambient soundscapes to daring and innovative sonic landscapes\, all while maintaining a captivating sense of melody. www.jonhatchmusic.com \nBruce Robbins \nBC Robbins is a multimedia artist who runs a studio in Dobbs Ferry\, NY. His creations span various art forms\, including painting\, photography\, performance\, sculpture\, and video\, delving into themes such as the passing of time and introspection. Alongside a deep appreciation for both visual and performing arts\, he has embraced puppetry as a means to intertwine his diverse passions. For over three decades\, Mr. Robbins has also been an arts educator at The Masters School. In one of his favorite activities\, he incorporates puppetry into an interdisciplinary project with fellow faculty members and students. The yearly puppet opera with the fifth-grade students enriches the learning experience through the arts. bcrobbins.com \nMalcolm MacDougall \nMalcolm endeavors for his sculptures to enter into a dialogue with the natural landscape. He concentrates on studying materials and their properties in relationship to the natural versus man-made environs. Referring to his sculptures as landscape “chapter objects\,” they allude to other material experiences\, as a chapter in a story may refer to others\, helping to unite a holistic meaning between the natural and fabricated\, real and abstract\, concrete and metaphorical. These objects are conduits to broader thoughts and experiences. As a symbol of both the natural and man-made constructs around us\, his sculptures create an awareness of industrial materials\, with those which are invented blurred against those which are natural\, imploring the viewer to appreciate the aesthetic qualities of all. Through fluid\, albeit solid\, forms\, Malcolm’s landscape-driven works allow one to discover a personal concept or image in the work. malcolmmacdougall.com \nAbout the Artist Conversation Series:   RiverArts creates opportunities to amplify the artistic voice\, bringing insight and delight to our community. We are proud to spotlight leading voices in art\, music\, poetry\, dance\, and theater. Under the direction of Marie Louise-Miller\, our Artist Conversation series offers a chance to get up close and personal with artists. The Artist Conversation Series aims to shed light on the intricacies of creativity across all its artistic mediums from the fine artist to the performance artist.  \n			\n				Purchase Tickets
URL:https://riverarts.org/event/flow-lines/
LOCATION:Quonset Hut\, 145 Palisade Street\, Dobbs Ferry\, NY\, 10522
CATEGORIES:Art,Artist Conversation,In-person,Readings and Conversations
ATTACH;FMTTYPE=image/png:https://riverarts.org/wp-content/uploads/2024/06/Flow-Lines-Event-Banner.png
ORGANIZER;CN="RiverArts":MAILTO:info@riverarts.org
END:VEVENT
END:VCALENDAR