BEGIN:VCALENDAR
VERSION:2.0
PRODID:-//RiverArts - ECPv6.15.20//NONSGML v1.0//EN
CALSCALE:GREGORIAN
METHOD:PUBLISH
X-ORIGINAL-URL:https://riverarts.org
X-WR-CALDESC:Events for RiverArts
REFRESH-INTERVAL;VALUE=DURATION:PT1H
X-Robots-Tag:noindex
X-PUBLISHED-TTL:PT1H
BEGIN:VTIMEZONE
TZID:America/New_York
BEGIN:DAYLIGHT
TZOFFSETFROM:-0500
TZOFFSETTO:-0400
TZNAME:EDT
DTSTART:20230312T070000
END:DAYLIGHT
BEGIN:STANDARD
TZOFFSETFROM:-0400
TZOFFSETTO:-0500
TZNAME:EST
DTSTART:20231105T060000
END:STANDARD
BEGIN:DAYLIGHT
TZOFFSETFROM:-0500
TZOFFSETTO:-0400
TZNAME:EDT
DTSTART:20240310T070000
END:DAYLIGHT
BEGIN:STANDARD
TZOFFSETFROM:-0400
TZOFFSETTO:-0500
TZNAME:EST
DTSTART:20241103T060000
END:STANDARD
BEGIN:DAYLIGHT
TZOFFSETFROM:-0500
TZOFFSETTO:-0400
TZNAME:EDT
DTSTART:20250309T070000
END:DAYLIGHT
BEGIN:STANDARD
TZOFFSETFROM:-0400
TZOFFSETTO:-0500
TZNAME:EST
DTSTART:20251102T060000
END:STANDARD
END:VTIMEZONE
BEGIN:VEVENT
DTSTART;TZID=America/New_York:20240519T120000
DTEND;TZID=America/New_York:20240519T160000
DTSTAMP:20260425T095354
CREATED:20240222T230030Z
LAST-MODIFIED:20240326T171454Z
UID:13062-1716120000-1716134400@riverarts.org
SUMMARY:Salon Sunday | Hastings-on-Hudson & Dobbs Ferry
DESCRIPTION:Salon Sunday\nJames Fuentes\, Gallerist; Producer\, Salon Sundays \n			\n				\n				\n				\n				\n				Hastings-on-Hudson & Dobbs Ferry Open Studios \n			\n				\n				\n				\n				\n				Salon Sundays invite visitors to tour local artists’ studios! Salon Sundays offers an exciting opportunity to gain insights into the creative process\, learn about techniques in a variety of media and interact with artists here in the Rivertowns community.  In most cases\, participating artists will be exhibiting works for sale so please consider supporting our community of artists through your patronage. \nSalon Sundays are inspired by the French salons founded in the 18th century as a means for new and emerging artists to gather and show their works in large numbers. Artists filled the walls\, floor to ceiling\, exhibiting anything and everything for the public and each other. Salons drew intellectuals\, writers\, poets\, sculptors\, painters\, printmakers\, supporters\, and those interested in engaging with the creative community. \nFind the map HERE. \n#SalonSunday
URL:https://riverarts.org/event/salon-sunday-may-2024/
LOCATION:Throughout the Rivertowns\, Throughout Rivertowns
CATEGORIES:Art,In-person,Salon Sundays
ATTACH;FMTTYPE=image/png:https://riverarts.org/wp-content/uploads/2024/02/Event_Salon-Sundays2024_Hastings-Dobbs.png
ORGANIZER;CN="RiverArts":MAILTO:info@riverarts.org
END:VEVENT
END:VCALENDAR