BEGIN:VCALENDAR
VERSION:2.0
PRODID:-//RiverArts - ECPv6.15.20//NONSGML v1.0//EN
CALSCALE:GREGORIAN
METHOD:PUBLISH
X-ORIGINAL-URL:https://riverarts.org
X-WR-CALDESC:Events for RiverArts
REFRESH-INTERVAL;VALUE=DURATION:PT1H
X-Robots-Tag:noindex
X-PUBLISHED-TTL:PT1H
BEGIN:VTIMEZONE
TZID:America/New_York
BEGIN:DAYLIGHT
TZOFFSETFROM:-0500
TZOFFSETTO:-0400
TZNAME:EDT
DTSTART:20250309T070000
END:DAYLIGHT
BEGIN:STANDARD
TZOFFSETFROM:-0400
TZOFFSETTO:-0500
TZNAME:EST
DTSTART:20251102T060000
END:STANDARD
BEGIN:DAYLIGHT
TZOFFSETFROM:-0500
TZOFFSETTO:-0400
TZNAME:EDT
DTSTART:20260308T070000
END:DAYLIGHT
BEGIN:STANDARD
TZOFFSETFROM:-0400
TZOFFSETTO:-0500
TZNAME:EST
DTSTART:20261101T060000
END:STANDARD
BEGIN:DAYLIGHT
TZOFFSETFROM:-0500
TZOFFSETTO:-0400
TZNAME:EDT
DTSTART:20270314T070000
END:DAYLIGHT
BEGIN:STANDARD
TZOFFSETFROM:-0400
TZOFFSETTO:-0500
TZNAME:EST
DTSTART:20271107T060000
END:STANDARD
END:VTIMEZONE
BEGIN:VEVENT
DTSTART;TZID=America/New_York:20260419T000000
DTEND;TZID=America/New_York:20260419T233000
DTSTAMP:20260423T172029
CREATED:20260202T185117Z
LAST-MODIFIED:20260313T130750Z
UID:15036-1776556800-1776641400@riverarts.org
SUMMARY:2026 RiverArts Music Tour | Call for Performers
DESCRIPTION:RiverArts 2026 MUSIC TOUR | Call for Performers\n			\n				\n				\n				\n				\n				CALL FOR MUSICIANS\nRiverArts is excited to present the 2026 Music Tour on SATURDAY\, JUNE 6 \nREGISTRATION IS OPEN THROUGH SUNDAY\, APRIL 19! Don’t wait! \nNow in it’s 11th year\, the Music Tour is the largest\, family-friendly\, FREE event for music lovers in lower Westchester County and truly offers something for everyone—from classical and jazz to folk\, rock\, alternative\, urban and world music. \nWe invite regional acts to register to be part of this special\, one-day\, grassroots celebration of music! \n			\n				Register Here
URL:https://riverarts.org/event/2026-riverarts-music-tour-call-for-performers/
LOCATION:Throughout the Rivertowns\, Throughout Rivertowns
CATEGORIES:In-person,Music
ATTACH;FMTTYPE=image/png:https://riverarts.org/wp-content/uploads/2023/02/MusicTour-Banner-23-Web.png
ORGANIZER;CN="RiverArts":MAILTO:info@riverarts.org
END:VEVENT
END:VCALENDAR