BEGIN:VCALENDAR
VERSION:2.0
PRODID:-//RiverArts - ECPv6.15.20//NONSGML v1.0//EN
CALSCALE:GREGORIAN
METHOD:PUBLISH
X-ORIGINAL-URL:https://riverarts.org
X-WR-CALDESC:Events for RiverArts
REFRESH-INTERVAL;VALUE=DURATION:PT1H
X-Robots-Tag:noindex
X-PUBLISHED-TTL:PT1H
BEGIN:VTIMEZONE
TZID:America/New_York
BEGIN:DAYLIGHT
TZOFFSETFROM:-0500
TZOFFSETTO:-0400
TZNAME:EDT
DTSTART:20200308T070000
END:DAYLIGHT
BEGIN:STANDARD
TZOFFSETFROM:-0400
TZOFFSETTO:-0500
TZNAME:EST
DTSTART:20201101T060000
END:STANDARD
BEGIN:DAYLIGHT
TZOFFSETFROM:-0500
TZOFFSETTO:-0400
TZNAME:EDT
DTSTART:20210314T070000
END:DAYLIGHT
BEGIN:STANDARD
TZOFFSETFROM:-0400
TZOFFSETTO:-0500
TZNAME:EST
DTSTART:20211107T060000
END:STANDARD
BEGIN:DAYLIGHT
TZOFFSETFROM:-0500
TZOFFSETTO:-0400
TZNAME:EDT
DTSTART:20220313T070000
END:DAYLIGHT
BEGIN:STANDARD
TZOFFSETFROM:-0400
TZOFFSETTO:-0500
TZNAME:EST
DTSTART:20221106T060000
END:STANDARD
END:VTIMEZONE
BEGIN:VEVENT
DTSTART;TZID=America/New_York:20211121T130000
DTEND;TZID=America/New_York:20211121T150000
DTSTAMP:20260424T125010
CREATED:20211015T222938Z
LAST-MODIFIED:20220116T024929Z
UID:8360-1637499600-1637506800@riverarts.org
SUMMARY:RiverArts Annual Chamber Music Fundraiser
DESCRIPTION:RiverArts Annual Chamber Music Fundraiser\n			\n				Tickets for Event\n			\n				\n				\n				\n				\n				Sunday November 21st1:00–3:00pm The Newington-Cropsey Foundation25 Cropsey Lane\, Hastings-on-Hudson\, NY 10706Tickets: $100* \nRiverArts Chamber Music Series begins with our annual fundraiser event\, generously hosted the Newington-Cropsey Foundation on Sunday November 21 at 1pm. All tickets to this event must be purchased in advance. There will be no ticket sales at the door and the box office will close Saturday\, November 20th\, at noon. \nProgram Update: Attendees will get a sneak peak at RiverArts’ commissioned Chamber version of Strauss’ Four Last Songs.  This is the first time the arrangement will be performed in public and is not to miss! \nThe concert will feature Arnold Schönberg’s late romantic masterpiece\, Verklärte Nacht [1899] in its original version for string sextet. A reading of Richard Dehmel’s poem\, Verklårte Nacht which inspired Schönberg’s composition will precede the musical performance. This is a rare opportunity to hear the composition in its original sextet form as it is more commonly heard in Schönberg’s expanded version for string orchestra.  \nAlso on the program will be Richard Strauss’ Piano Quartet [1886]. Written at the very beginning of what was to become an indomitable career as a composer and conductor\, Richard Strauss poured his youthful spirit into this passionate\, exuberant piece. It remarkably foreshadows all the drama of his greatest operas\, Rosenkavalier and Salome\, in a chamber music setting.   \nThe Newington-Cropsey Foundation graciously hosts this annual fundraiser concert in the beautiful setting of their gallery in Hastings-on-Hudson. A reception with light refreshments will follow the concert. \nArtistic Director for Chamber Music\, Peter Seidenberg Chamber Music Producer\, Doug Coe  \nPerformers include: Ling Ling Huang\, April Johnson and Sylvia Volpe\, violin; Chi Chi Lin Bestmann and Kathryn Lockwood\, viola; Peter Seidenberg and Alan Weinstein\, cello; Tomoko Uchino\, piano; Anton Rist\, clarinet; Allison Charney\, soprano; Edoardo Ballerini\, reader  \nTicket is 50% tax deductible.*Proof of vaccination and masks are required to attend this event \n			\n				Tickets for Event\n			\n				\n				\n				\n				\n				About the Artists  \nLing Ling Huang [violin] started violin at the age of 4 with her mother Lilan Z. Huang. She continued studying violin with Fredell Lack until her admission to the Cleveland Institute of Music at the age of 15. There\, she won the concerto competition with Stravinsky Violin Concerto and the Milhaud Prize. She currently lives in New York\, freelancing and playing as a substitute violinist in ensembles including the New York Philharmonic\, the Houston Symphony\, and the Houston Grand Opera. linglinghuang.com \nApril Johnson [violin] has performed throughout the US with the Oracle Trio and the New York Chamber Soloists. She is a member of the Hoff-Barthelson Music School who also teaches Suzuki Violin\, she earned a BM from Oberlin College and Advanced Studies at Brooklyn College Conservatory. hbms.org/faculty_bio/april-johnson \nSylvia Danburg Volpe [violin] is Associate Principal Second Violin of the Metropolitan Opera orchestra. She plays with the MET Chamber Ensemble concert series at Carnegie Hall\, and has performed a wide variety of classical and cross-over music both here and abroad. metorchestramusicians.org/sylvia-volpe \nChi-Chi Lin Bestmann [viola] is a native of Taiwan\, conductor and violist. Ms. Bestmann now resides in St. Paul\, MN where she is a faculty member at the University of Wisconsin Eau Claire and MacPhail Center for Music and freelances with various ensembles including the Minnesota Orchestra and Minnesota Opera.  chichibestmann.com \nKathryn Lockwood [viola] is the Artistic Director for both the “Four Seasons of Music” Series at the Sands Point Preserve\, NY and the “Music@MoMA” Series – an intimate salon style chamber music series.  She teaches at both the University of Massachusetts/Amherst and at the John Cali School of Music at Montclair State University.  kathrynlockwood.com \nPeter Seidenberg [cello and Artistic Director] was a founding member of the critically acclaimed Elements Quartet which created groundbreaking commissioning projects of 30 composers. He is the cellist for the Oracle Trio\, the Queen’s Chamber Band\, and the New York Chamber Soloists. peterseidenberg.com \nAlan Weinstein [cello] is a founding member of the Kandinsky Trio\, winner of national awards such as the Chamber Music America Residency Award. He also is the recipient of an NEA Meet the Composer Award.  He is assistant professor of cello and bass at Virginia Tech. virginiatech/school-of-performing-arts/music-faculty/alan-weinstein.html \nTomoko Uchino [piano] received awards at the Ettlingen International Piano Competition and the Takahiro Sonoda Piano Award International Competitions. A member of Solace Ensemble\, THUD and Jang/Uchino Violin-Piano Duo\, she has been on the accompanying staff of the Juilliard School\, Heifetz International Music Institute as well as others. tomokouchino.com \nAnton Rist [clarinet] was recently appointed Principal Clarinet of the Metropolitan Opera Orchestra. He has performed at the Verbier\, St. Barts\, Pacific\, Bravo! Vail\, and Aspen Music Festivals\, and is a founding member of the Montserrat Music Festival in the West Indies. metorchestramusicians.org/anton-rist-principal-clarinet/ \nAllison Charney’s [soprano] operatic career includes singing major roles including Mimi\, Butterfly\, Traviata\, Pamina\, and tour-de-force portrayals of all three heroines in Offenbach’s Tales of Hoffman among many others in opera companies throughout the country including New York City Opera\, Atlanta Opera\, Florida Grand Opera\, Utah Opera\, and Nashville Opera. randsman.com/allison-charney \nEdoardo Ballerini is a two-time winner of the Audio Publishers Association’s Best Male Narrator Audie Award. He is the co-creator\, of the Audible Original The Angel of Rome. On screen\, he is best known for this work in The Sopranos\, and the film Dinner Rush. edoardoballerini.com \n			\n				\n				\n				\n				\n				FOR MORE INFORMATION EMAIL: info@riverarts.org \n			\n				Tickets for Event
URL:https://riverarts.org/event/chamber-music-fundraiser/
LOCATION:Newington-Cropsey Foundation\, 25 Cropsey Lane\, Hastings-on-Hudson\, NY\, 10706\, United States
CATEGORIES:Chamber Music,In-person,Music
ATTACH;FMTTYPE=image/jpeg:https://riverarts.org/wp-content/uploads/2021/10/254288114_10160284631222240_8277841551171739725_n.jpg
END:VEVENT
BEGIN:VEVENT
DTSTART;TZID=America/New_York:20211104T193000
DTEND;TZID=America/New_York:20211104T220000
DTSTAMP:20260424T125010
CREATED:20211002T163731Z
LAST-MODIFIED:20211101T222031Z
UID:8295-1636054200-1636063200@riverarts.org
SUMMARY:Drink & Draw
DESCRIPTION:Drink & Draw \n			\n				Register for Event\n			\n				\n				\n				\n				\n				Thursday: October 14 • November 4 • December 2 • January 6\n145 Palisade Street\, Studio # 412A \nHudson River Landing\nAdmission: $20 per session. You must register and pay in advance below for each session. No payments will be accepted at the door.  \nDrink & Draw is back! RiverArts invites artists of all experience levels and backgrounds to join our monthly sessions exploring the classic artistic practice of life drawing. Held in a spacious artist’s studio with an informal\, relaxed setting with wine and snacks added in! We encourage experienced and aspiring artists as well as those who have never done life drawing\, but always wanted to try their hand\, to attend. This is a non-instructional event – bring your own art supplies – any medium welcome; a fun night of art.   \n18+ to attend\, 21+ to drink. Fully vaccinated individuals will not be required to mask. If you are not fully vaccinated you may attend but will be required to wear a mask. \nFOR MORE INFORMATION EMAIL: info@riverarts.org\n			\n				Register for Event
URL:https://riverarts.org/event/drink-and-draw-nov/
LOCATION:145 Palisade St Studio\, 145 Palisades Street\, Lobby Suite\, Dobbs Ferry\, NY\, 10522\, United States
CATEGORIES:Art,Figure Drawing,In-person
ATTACH;FMTTYPE=image/jpeg:https://riverarts.org/wp-content/uploads/2021/10/DrinkDraw_WebsiteEvent-Nov-01.jpg
END:VEVENT
BEGIN:VEVENT
DTSTART;TZID=America/New_York:20211017T150000
DTEND;TZID=America/New_York:20211017T163000
DTSTAMP:20260424T125010
CREATED:20210930T042819Z
LAST-MODIFIED:20211105T211458Z
UID:8216-1634482800-1634488200@riverarts.org
SUMMARY:Artist Conversation with Malcolm D. MacDougall III
DESCRIPTION:Artist Conversation | Malcolm D. MacDougall III\n			\n				Register for Event\n			\n				\n				\n				\n				\n				Sunday\, October 17thRiver Front Hangar west of 145 Palisade Street 3:00-4:30 pmIn-person: $15 \nIn our ongoing effort to connect local artists with art lovers we are proud to present our next RiverArts Artist Conversation with sculptor\, Malcolm D. MacDougall III live and in-person at his studio on the Dobbs Ferry waterfront on Sunday October 17th at 3pm.  \n“We are thrilled to have another wonderful opportunity to gather this great community of art appreciators together to learn about this incredible local artist’s perspectives and process\,” said Artist Conversation Producer\, Marie-Louise Miller.  \nMacDougall’s work transcends the physical. Led by the desire to capture the potential for movement in the objects around us and influenced by the world as seen through the lens of the microscope\, Macdougall creates sculpture which leads the imagination to touch the sublime.  \nMacdougall has seen two large scale works on display in NY City: “Conflicts of Growth” at Spring & Varrick in 2013 and “Microscopic Landscape” at Union Square Park in 2012. Said of his 2013 piece\, Microscopic Landscape\, It “is about potential energy and pushing a stagnant object as close to perceived movement as possible.”   \n“The sculpture serves as a snapshot of the ongoing activity in the neighborhood; it is a static object that maintains the constant anticipation of movement\, just as the grounds of Union Square provide the framework for the energetic flow of people and commerce.”  City Atlas: New York \n\nLocally\, his sculptures\, “Outcrops of Bacterial Growth” and “Eternal Conflicts of Growth” were displayed in Wagner Park and Kinally Cove of Hastings-on-Hudson respectively.   \n“We are inviting a limited audience to come to Malcolm’s studio and participate in a wide-ranging conversation with the artist about the motivation and inspiration for choosing materials\, his process for transforming objects into works of art\, and what he looks forward to at this stage of his creative life\,” says RiverArts’ Artistic Director\, Kate Ashby. To support the safe appreciation of art\, the live audience will be limited to 40.  We will also be recording this event and will offer this after the fact for $5.    \n\n			\n				\n				\n				\n				\n				\n			\n				\n				\n				\n				\n				FOR MORE INFORMATION EMAIL: info@riverarts.org \n			\n				Register for Event
URL:https://riverarts.org/event/artist-conversation-with-malcolm-macdougall/
LOCATION:Studio west of 145 Palisades Street\, 145 Palisades Street\, Dobbs Ferry\, NY\, 10522\, United States
CATEGORIES:Art,Artist Conversation,In-person
ATTACH;FMTTYPE=image/jpeg:https://riverarts.org/wp-content/uploads/2021/09/ArtistConversation_MalcolmMacDougall_WebsiteEvent-01.jpg
END:VEVENT
BEGIN:VEVENT
DTSTART;TZID=America/New_York:20211014T193000
DTEND;TZID=America/New_York:20211014T220000
DTSTAMP:20260424T125010
CREATED:20211002T040653Z
LAST-MODIFIED:20211002T164227Z
UID:8276-1634239800-1634248800@riverarts.org
SUMMARY:Drink & Draw Oct
DESCRIPTION:Drink & Draw \n			\n				Register for Event\n			\n				\n				\n				\n				\n				Thursday: October 14 • November 4 • December 2 • January 6145 Palisade Street\, Studio # 412A Hudson River LandingAdmission: $20 per session. You must register and pay in advance below for each session. No payments will be accepted at the door.  \nDrink & Draw is back! RiverArts invites artists of all experience levels and backgrounds to join our monthly sessions exploring the classic artistic practice of life drawing. Held in a spacious artist’s studio with an informal\, relaxed setting with wine and snacks added in! We encourage experienced and aspiring artists as well as those who have never done life drawing\, but always wanted to try their hand\, to attend. This is a non-instructional event – bring your own art supplies – any medium welcome; a fun night of art.   \n18+ to attend\, 21+ to drink. Fully vaccinated individuals will not be required to mask. If you are not fully vaccinated you may attend but will be required to wear a mask. \nFOR MORE INFORMATION EMAIL: info@riverarts.org \n			\n				Register for Event
URL:https://riverarts.org/event/drink-and-draw-oct/
LOCATION:145 Palisade St Studio\, 145 Palisades Street\, Lobby Suite\, Dobbs Ferry\, NY\, 10522\, United States
CATEGORIES:Art,Figure Drawing,In-person
END:VEVENT
BEGIN:VEVENT
DTSTART;TZID=America/New_York:20210611T193000
DTEND;TZID=America/New_York:20210611T204500
DTSTAMP:20260424T125010
CREATED:20210511T211805Z
LAST-MODIFIED:20210610T234341Z
UID:7458-1623439800-1623444300@riverarts.org
SUMMARY:"Serene Spring – An Evening of Chamber Music” featuring The Solace Trio
DESCRIPTION:Serene Spring – An Evening of Chamber Music featuring The Solace Trio \n			\n				Purchase tickets here\n			\n				\n				\n				\n				\n				Friday\, June 11th 7:30 pm\,  In-person | $35 Livestream | $12 \n\nA limited number of tickets for the live performance are available for sale. In person concert-goers will be required to wear masks. \nThis program will be played without a pause. Please refrain from applauding until after the final piece in the program. Duration of program – approximately 50 minutes.  \nThe concert will also be livestreamed for those who would like to enjoy from home. \nPlease park in the lower parking lot. There are stairs up to the concert level – please feel free to drop off passengers at the church entrance in the circular driveway before parking.\n\nOn Friday June 11th at 7:30 PM at St. Barnabas Episcopal Church\, RiverArts will present the Solace Trio in a chamber music concert featuring music from a variety of composers to close the page on the last year and look forward to all that lies ahead. \nThe program features four pieces from four different composers. The program will include the serene and surreal Mozart-Adagio by Arvo Pärt [1992]\, Antonin Dvorák’s Sonatina for Violin and Piano\, Op. 100 from his great American period [1893]\, the lyrically virtuosic Air for Cello and Piano by Aaron Kernis [1995] and will conclude with the triumphant and life affirming statement of Beethoven’s Piano Trio in Eb Op. 70 no. 2 [1809]. The members of the Solace Trio are April Johnson (violin)\, Peter Seidenberg (cello)\, and Tomoko Uchino (piano). The concert will be 1 hour long with no intermission. \nChamber Music Artistic Director Peter Seidenberg and Producer Doug Coe have put together a program that seeks to encapsulate the moment in time we all currently inhabit. Seidenberg commented that “We chose music that reflects the emotions of the unusual time we live in: dissonant but serene\, dark but earthy\, heartaching but hopeful\, challenging but affirming.“ \nArtistic Director Kate Ashby commented “RiverArts is delighted to present this uplifting musical program which celebrates the renewed spirit of springtime and the power of music to encourage\, to invigorate and to restore.” \nAbout the Musicians\nApril Johnson – April Johnson has performed throughout the US with the Oracle Trio and the New York Chamber Soloists. She is a former Concertmaster for the Jupiter Symphony\, Canton Ohio Symphony\, Galatea Ensemble\, Queens Oratorio; and Associate Concertmaster for the Norwalk Symphony. Having performed in Europe and Asia\, she has also recorded on Dorian and Lyrichord. A member of the Hoff-Barthelson Music School who also teaches Suzuki Violin\, she earned a BM from Oberlin College and Advanced Studies at Brooklyn College Conservatory. \nPeter Seidenberg – “Totally enchanting\, inspired performances\, brimming with natural\, spontaneous musicianship”\, raves Gramophone Magazine about cellist Peter Seidenberg. Mr. Seidenberg has played in major halls throughout the US\, Europe and Asia\, and served as principal cellist with the Century Orchestra of Osaka. He was a founding member of the critically acclaimed Elements Quartet which created groundbreaking commissioning projects of 30 composers. He has collaborated with members of the Cleveland\, Tokyo\, Juilliard and Emerson Quartets and participated in the Marlboro\, Aspen\, Caramoor\, and Casals festivals. He is the cellist for the Oracle Trio\, the Queen’s Chamber Band\, and the New York Chamber Soloists. \nTomoko Uchino – Ms. Uchino received awards at the Ettlingen International Piano Competition and the Takahiro Sonoda Piano Award International Competitions. She has performed at major concert halls throughout the United States\, Europe\, Japan and Thailand\, as well as at chamber music festivals. A member of Solace Ensemble\, THUD and Jang/Uchino Violin-Piano Duo\, she has been on the accompanying staff of the Juilliard School\, Heifetz International Music Institute as well as others. She earned a BM High Honors at the U of Michigan\, MM from Peabody Conservatory\, and Doctoral of Musical Arts from U of Arizona. She received a graduate diploma from the Juilliard School. \nFOR MORE INFORMATION EMAIL: info@riverarts.org \n			\n				Purchase tickets here
URL:https://riverarts.org/event/chamber-music-the-solace-trio/
LOCATION:St. Barnabas Episcopal Church\, 2 Revolutionary Rd\, Ardsley\, NY\, 10503\, United States
CATEGORIES:Chamber Music,In-person,Zoom Performance with Q&A
ATTACH;FMTTYPE=image/png:https://riverarts.org/wp-content/uploads/2021/05/Screen-Shot-2021-05-11-at-1.32.57-PM.png
END:VEVENT
END:VCALENDAR