BEGIN:VCALENDAR
VERSION:2.0
PRODID:-//RiverArts - ECPv6.15.20//NONSGML v1.0//EN
CALSCALE:GREGORIAN
METHOD:PUBLISH
X-ORIGINAL-URL:https://riverarts.org
X-WR-CALDESC:Events for RiverArts
REFRESH-INTERVAL;VALUE=DURATION:PT1H
X-Robots-Tag:noindex
X-PUBLISHED-TTL:PT1H
BEGIN:VTIMEZONE
TZID:America/New_York
BEGIN:DAYLIGHT
TZOFFSETFROM:-0500
TZOFFSETTO:-0400
TZNAME:EDT
DTSTART:20250309T070000
END:DAYLIGHT
BEGIN:STANDARD
TZOFFSETFROM:-0400
TZOFFSETTO:-0500
TZNAME:EST
DTSTART:20251102T060000
END:STANDARD
BEGIN:DAYLIGHT
TZOFFSETFROM:-0500
TZOFFSETTO:-0400
TZNAME:EDT
DTSTART:20260308T070000
END:DAYLIGHT
BEGIN:STANDARD
TZOFFSETFROM:-0400
TZOFFSETTO:-0500
TZNAME:EST
DTSTART:20261101T060000
END:STANDARD
BEGIN:DAYLIGHT
TZOFFSETFROM:-0500
TZOFFSETTO:-0400
TZNAME:EDT
DTSTART:20270314T070000
END:DAYLIGHT
BEGIN:STANDARD
TZOFFSETFROM:-0400
TZOFFSETTO:-0500
TZNAME:EST
DTSTART:20271107T060000
END:STANDARD
END:VTIMEZONE
BEGIN:VEVENT
DTSTART;TZID=America/New_York:20260128T190000
DTEND;TZID=America/New_York:20260128T220000
DTSTAMP:20260423T185504
CREATED:20251203T172609Z
LAST-MODIFIED:20251205T185629Z
UID:14786-1769626800-1769637600@riverarts.org
SUMMARY:Bluegrass Jam Session
DESCRIPTION:BLUEGRASS JAM!\nPRESENTED BY RIVERARTS\n			\n				\n				\n				\n				\n				Wednesday\, January 28\, 20267 PM – 10:30 PM  \nTennis Club of Hastings100 River StreetHastings-on-Hudson\, NY 10706 \nAges 12+ \nSuggested donation: $20(registration recommended) \n			\n				Register here\n			\n				\n				\n				\n				\n				RiverArts Presents: Bluegrass Jam Sessions! \nJoin us for an evening of foot-tapping fun as RiverArts hosts its very first Bluegrass Jam: open to players of all ages and skill levels! \nJoin us on January 28th for an evening of music\, creativity\, and community right on the water’s edge at the Tennis Club of Hastings. Whether you’re an experienced picker or just starting out\, everyone is invited to join this inclusive and fun jam sessiom. The night begins with a guided “slow jam” for newer players\, featuring favorite bluegrass standards (a song list will be shared in the new year). Then\, at 8:30 PM\, the tempo rises for our open jam session\, where musicians of all levels can play\, listen\, and jump in when inspiration strikes. \nEnjoy great company\, lively tunes\, and a cash bar courtesy of the Tennis Club of Hastings\, and help us launch this new RiverArts program on the Hudson in style. \nAbout Bluegrass Jam \nWarm up your winter with RiverArts’ new Bluegrass Jam Sessions\, open to players of all ages and skill levels for a night of lively music and community spirit.
URL:https://riverarts.org/event/bluegrass-jam-session/
CATEGORIES:In-person,Music
ATTACH;FMTTYPE=image/png:https://riverarts.org/wp-content/uploads/2025/12/bluegrass-Website-Banner-for-Homepage-1.png
ORGANIZER;CN="RiverArts":MAILTO:info@riverarts.org
END:VEVENT
END:VCALENDAR