BEGIN:VCALENDAR
VERSION:2.0
PRODID:-//RiverArts - ECPv6.15.20//NONSGML v1.0//EN
CALSCALE:GREGORIAN
METHOD:PUBLISH
X-ORIGINAL-URL:https://riverarts.org
X-WR-CALDESC:Events for RiverArts
REFRESH-INTERVAL;VALUE=DURATION:PT1H
X-Robots-Tag:noindex
X-PUBLISHED-TTL:PT1H
BEGIN:VTIMEZONE
TZID:America/New_York
BEGIN:DAYLIGHT
TZOFFSETFROM:-0500
TZOFFSETTO:-0400
TZNAME:EDT
DTSTART:20250309T070000
END:DAYLIGHT
BEGIN:STANDARD
TZOFFSETFROM:-0400
TZOFFSETTO:-0500
TZNAME:EST
DTSTART:20251102T060000
END:STANDARD
BEGIN:DAYLIGHT
TZOFFSETFROM:-0500
TZOFFSETTO:-0400
TZNAME:EDT
DTSTART:20260308T070000
END:DAYLIGHT
BEGIN:STANDARD
TZOFFSETFROM:-0400
TZOFFSETTO:-0500
TZNAME:EST
DTSTART:20261101T060000
END:STANDARD
BEGIN:DAYLIGHT
TZOFFSETFROM:-0500
TZOFFSETTO:-0400
TZNAME:EDT
DTSTART:20270314T070000
END:DAYLIGHT
BEGIN:STANDARD
TZOFFSETFROM:-0400
TZOFFSETTO:-0500
TZNAME:EST
DTSTART:20271107T060000
END:STANDARD
END:VTIMEZONE
BEGIN:VEVENT
DTSTART;TZID=America/New_York:20260110T200000
DTEND;TZID=America/New_York:20260110T210000
DTSTAMP:20260423T201957
CREATED:20251126T164253Z
LAST-MODIFIED:20251209T164542Z
UID:14710-1768075200-1768078800@riverarts.org
SUMMARY:Channels: Jeffrey Lewis
DESCRIPTION:CHANNELS: JEFFREY LEWIS\nCO-PRESENTED BY HUDCO\n			\n				\n				\n				\n				\n				Saturday\, January 10\, 20268PM; Doors open at 7PM \nHudCo145 Palisade StreetSuite 200Dobbs Ferry\, NY 10522 \nAges 12+ \n$35 Adult$20 Student (21 and under) \nCash bar available courtesy of HudCo \n			\n				Purchase Tickets\n			\n				\n				\n				\n				\n				“Weird? Very … but also downright inspiring” (****) – Rolling Stone \n“Jeffrey Lewis is an amazing musician\, and if you don’t know his songs you probably have a hole in your heart that can only be filled by his words … I did!” – Regina Spektor \nJoin RiverArts on Saturday\, January 10\, for an unforgettable evening with Jeffrey Lewis! Hailed as one of the most extraordinary voices in contemporary music\, Jeffrey Lewis brings his sharp\, urban brand of indie-folk storytelling to the Rivertowns on January 10\, 2026. Presented as part of Channels\, RiverArts’ new music series celebrating boundary-pushing creativity\, this special performance showcases Lewis’s singular blend of humor\, heart\, and lyrical wit. Set against the creative backdrop of HudCo—Dobbs Ferry’s vibrant artist co-op and industrial-chic gathering space overlooking the Hudson—this intimate concert promises an evening as distinctive as its setting. A true force of nature\, Lewis transforms the everyday into something funny\, strange\, and deeply human. \nDon’t miss this intimate evening with one of New York’s most distinctive creative voices: a true original whose music and comix continue to capture the wonder\, absurdity\, and the beating heart of everyday life. \nJeffrey Lewis’s Instagram \nAbout ChannelsA new music series that defies boundaries and celebrates the river as a means of travel\, exploration\, and a source of new ideas – Channels presents adventurous music in unique Rivertown settings. The mission of the series is to bring together artists and audiences in the spirit of connectivity and discovery\, by taking advantage of one of the area’s greatest resources—its location. \nAbout the Jeffrey Lewis \nRaised on New York’s Lower East Side\, Jeffrey Lewis is a songwriter\, comic book artist\, and pioneer of the city’s anti-folk movement. Originally an aspiring comic creator\, Lewis began performing his witty\, heartfelt songs at open mics\, pairing sharp observation with unfiltered honesty. Over time\, those songs became the foundation of a singular artistic voice — one that bridges storytelling\, music\, and visual art. He is\, in fact\, a consummate songwriter\, his personal tales achieving a kind of universal resonance through their candor. Lewis’s performances mix humor\, insight\, and a dose of Lower East Side grit\, inviting listeners into worlds that feel at once deeply personal and instantly familiar. \n			\n				Purchase Tickets
URL:https://riverarts.org/event/jeffrey-lewis/
LOCATION:HudCo\, 145 Palisade Street\, Dobbs Ferry\, NY\, 10522\, United States
CATEGORIES:In-person,Music
ATTACH;FMTTYPE=image/png:https://riverarts.org/wp-content/uploads/2025/11/Jeffrey-Lewis_1920x1060.png
ORGANIZER;CN="RiverArts":MAILTO:info@riverarts.org
END:VEVENT
END:VCALENDAR