BEGIN:VCALENDAR
VERSION:2.0
PRODID:-//RiverArts - ECPv6.15.20//NONSGML v1.0//EN
CALSCALE:GREGORIAN
METHOD:PUBLISH
X-ORIGINAL-URL:https://riverarts.org
X-WR-CALDESC:Events for RiverArts
REFRESH-INTERVAL;VALUE=DURATION:PT1H
X-Robots-Tag:noindex
X-PUBLISHED-TTL:PT1H
BEGIN:VTIMEZONE
TZID:America/New_York
BEGIN:DAYLIGHT
TZOFFSETFROM:-0500
TZOFFSETTO:-0400
TZNAME:EDT
DTSTART:20240310T070000
END:DAYLIGHT
BEGIN:STANDARD
TZOFFSETFROM:-0400
TZOFFSETTO:-0500
TZNAME:EST
DTSTART:20241103T060000
END:STANDARD
BEGIN:DAYLIGHT
TZOFFSETFROM:-0500
TZOFFSETTO:-0400
TZNAME:EDT
DTSTART:20250309T070000
END:DAYLIGHT
BEGIN:STANDARD
TZOFFSETFROM:-0400
TZOFFSETTO:-0500
TZNAME:EST
DTSTART:20251102T060000
END:STANDARD
BEGIN:DAYLIGHT
TZOFFSETFROM:-0500
TZOFFSETTO:-0400
TZNAME:EDT
DTSTART:20260308T070000
END:DAYLIGHT
BEGIN:STANDARD
TZOFFSETFROM:-0400
TZOFFSETTO:-0500
TZNAME:EST
DTSTART:20261101T060000
END:STANDARD
END:VTIMEZONE
BEGIN:VEVENT
DTSTART;TZID=America/New_York:20250302T150000
DTEND;TZID=America/New_York:20250302T170000
DTSTAMP:20260424T115955
CREATED:20250206T213839Z
LAST-MODIFIED:20250226T155049Z
UID:13863-1740927600-1740934800@riverarts.org
SUMMARY:Artist Conversation: Cross Pollination
DESCRIPTION:Sunday\, March 2\, 20253–5pm \nTed & Nune Studio45 Main StreetHastings on Hudson\, NY 10706 \n			\n				\n				\n				\n				\n				Join us for an engaging afternoon as we meet for a moderated discussion with the five artists behind Collective Art Space (CAS). \nCAS is an experiment in the benefits of pooling together artistic resources and inviting others in. Over the last decade Alison Mara\, Jen Moore Smith\, Alison Cimmet\, Marisa Gonzales Silverstein\, and Raine Gifford have enjoyed working alongside each other within their shared studio space in Dobbs Ferry. The long-term exposure to one another’s work has revealed threads of influence in each artist’s choices and inspirations\, even as each individual’s practice remains unique and intact. \n\n \nThe studio is like a living entity\, fed by and sustaining its members\, and somehow more than the sum of its parts. Cross Pollination was first explored as an exhibit at the Donald Gallery and now as an Artist Conversation with RiverArts\, we invite you to explore the creative ecosystem and why artmaking within community may be the best thing an artist can do for themselves and their work.\n \n \n \nABOUT THE ARTISTS\n\nAlison Cimmet draws upon collage and painting techniques to create expressive mixed-media works full of texture and vibrant color.\n \nRaine Gifford‘s acrylic and watercolor paintings and mosaics investigate patterns of light\, color\, and negative space found within nature.\n \nMarisa Gonzales Silverstein crafts paper sculptures combining geometry and repetition in rhythmic patterns to reveal a contemplative understanding of significant data points.\n\nAlison Mara employs the use of tiny glass beads\, meditatively and painstakingly placed\, to create swirling patterns reflecting designs and textures found in nature. \nJen Moore Smith‘s practice encompasses painting and assemblage to reflect on the power of memory as it shapes landscape and natural elements. \n\n			\n				Purchase Tickets
URL:https://riverarts.org/event/cross-pollination/
LOCATION:Ted and Nune Studio\, 45 Main Street\, Store B\, Hastings-On-Hudson\, 10706
CATEGORIES:Art,Artist Conversation,In-person,Readings and Conversations
ATTACH;FMTTYPE=image/jpeg:https://riverarts.org/wp-content/uploads/2025/02/artist-convo-march-2-crop.jpg
ORGANIZER;CN="RiverArts":MAILTO:info@riverarts.org
END:VEVENT
END:VCALENDAR