BEGIN:VCALENDAR
VERSION:2.0
PRODID:-//RiverArts - ECPv6.15.20//NONSGML v1.0//EN
CALSCALE:GREGORIAN
METHOD:PUBLISH
X-ORIGINAL-URL:https://riverarts.org
X-WR-CALDESC:Events for RiverArts
REFRESH-INTERVAL;VALUE=DURATION:PT1H
X-Robots-Tag:noindex
X-PUBLISHED-TTL:PT1H
BEGIN:VTIMEZONE
TZID:America/New_York
BEGIN:DAYLIGHT
TZOFFSETFROM:-0500
TZOFFSETTO:-0400
TZNAME:EDT
DTSTART:20220313T070000
END:DAYLIGHT
BEGIN:STANDARD
TZOFFSETFROM:-0400
TZOFFSETTO:-0500
TZNAME:EST
DTSTART:20221106T060000
END:STANDARD
BEGIN:DAYLIGHT
TZOFFSETFROM:-0500
TZOFFSETTO:-0400
TZNAME:EDT
DTSTART:20230312T070000
END:DAYLIGHT
BEGIN:STANDARD
TZOFFSETFROM:-0400
TZOFFSETTO:-0500
TZNAME:EST
DTSTART:20231105T060000
END:STANDARD
BEGIN:DAYLIGHT
TZOFFSETFROM:-0500
TZOFFSETTO:-0400
TZNAME:EDT
DTSTART:20240310T070000
END:DAYLIGHT
BEGIN:STANDARD
TZOFFSETFROM:-0400
TZOFFSETTO:-0500
TZNAME:EST
DTSTART:20241103T060000
END:STANDARD
END:VTIMEZONE
BEGIN:VEVENT
DTSTART;TZID=America/New_York:20231021T193000
DTEND;TZID=America/New_York:20231021T210000
DTSTAMP:20260426T001443
CREATED:20230710T012724Z
LAST-MODIFIED:20230807T173208Z
UID:12169-1697916600-1697922000@riverarts.org
SUMMARY:Ronald K. Brown/EVIDENCE\, A Dance Company
DESCRIPTION:RiverArts and Tarrytown Music Hall Presents Ronald K. Brown/Evidence\, A Dance Company\n			\n				\n				\n				\n				\n				Saturday\, October 21\, 20237:30 PMTarrytown Music HallTarrytown\, NY \n$35-$65 \n			\n				Purchase Tickets\n			\n				\n				\n				\n				\n				RiverArts celebrates its 60th year this fall\, with its co-presentation with Tarrytown Music Hall of Ronald K. Brown/EVIDENCE. For the last decade\, RiverArts has provided access to world-class dance companies to the Rivertowns. These annual Dance Concerts allow Rivertown audiences to experience these talented groups right at home. \nEstablished in 1985 by Ronald K. Brown\, EVIDENCE\, A Dance Company\, seamlessly integrates traditional African dance with spoken word and contemporary choreography. The Brooklyn based group aims to promote understanding of the human experience into the African Diaspora through dance and storytelling and to provide sensory connections to history and tradition through music\, movement\, and spoken word—leading deeper into issues of spirituality\, community responsibility and liberation. \nThrough their work\, EVIDENCE provides a unique perspective of human struggles\, tragedies\, and triumphs. Using the power of movement\, Brown emphasizes the significance of community within African American culture and introduces audiences to the captivating splendor of traditional African forms and rhythms. Additionally\, he is an advocate for fostering growth of the African American dance community and has been a vital force in encouraging young dancers to explore choreography and developing careers in dance. \nFounder and Artistic Director\, Ronald K. Brown\, is in great demand as a choreographer. He has set works on Ballet Hispánico\, Muntu Dance Theatre of Chicago\, Alvin Ailey American Dance Theater\, Ko-Thi Dance Company\, Philadanco\, Cleo Parker Robinson Ensemble\, Dayton Contemporary Dance Company\, Jennifer Muller/The Works\, Jeune Ballet d’Afrique Noire\, and others. He has collaborated alongside artists such as composer/designer Omotayo Wunmi Olaiya\, the late writer Craig G. Harris\, Director Ernie McClintock’s Jazz Actors Theater\, choreographers Patricia Hoffbauer and Rokiya Kone\, composers Jason Moran\, Arturo O’Farrill\, Bernadette Speech\, and more. \nBrown was the recipient of the 2020 Jacob’s Pillow Dance award and has been recognized for his choreography in Regina Taylor’s Crowns with the AUDELCO Award. Brown also received two Black Theatre Alliance Awards and a Fred & Adele Astaire Award for Outstanding Choreography in the Tony Award-winning production of The Gershwin’s Porgy and Bess. His contributions to the dance world have been acknowledged through honors such as the Def Dance Jam Workshop 2000 Mentor of the Year\, Doris Duke Artist Award\, NYC City Center Fellowship\, Scripps/ADF Award\, John Simon Guggenheim Memorial Fellowship\, National Endowment for the Arts Choreographers Fellowship\, New York Foundation for the Arts Fellowship\, United States Artists Fellowship\, a New York Dance and Performance “Bessie” Award\, Dance Magazine Award\, and The Ailey Apex Award. \nDon’t miss this opportunity to see this internationally-renowned dance company perform three of their signature pieces in the heart of the Rivertowns! \n			\n				Purchase Tickets
URL:https://riverarts.org/event/evidence/
LOCATION:Tarrytown Music Hall\, 13 Main St Floor 2\, Tarrytown\, 10591
CATEGORIES:Dance,In-person
ATTACH;FMTTYPE=image/jpeg:https://riverarts.org/wp-content/uploads/2023/07/thumbnail-4.jpeg
ORGANIZER;CN="RiverArts":MAILTO:info@riverarts.org
END:VEVENT
END:VCALENDAR