BEGIN:VCALENDAR
VERSION:2.0
PRODID:-//RiverArts - ECPv6.15.20//NONSGML v1.0//EN
CALSCALE:GREGORIAN
METHOD:PUBLISH
X-WR-CALNAME:RiverArts
X-ORIGINAL-URL:https://riverarts.org
X-WR-CALDESC:Events for RiverArts
REFRESH-INTERVAL;VALUE=DURATION:PT1H
X-Robots-Tag:noindex
X-PUBLISHED-TTL:PT1H
BEGIN:VTIMEZONE
TZID:America/New_York
BEGIN:DAYLIGHT
TZOFFSETFROM:-0500
TZOFFSETTO:-0400
TZNAME:EDT
DTSTART:20220313T070000
END:DAYLIGHT
BEGIN:STANDARD
TZOFFSETFROM:-0400
TZOFFSETTO:-0500
TZNAME:EST
DTSTART:20221106T060000
END:STANDARD
BEGIN:DAYLIGHT
TZOFFSETFROM:-0500
TZOFFSETTO:-0400
TZNAME:EDT
DTSTART:20230312T070000
END:DAYLIGHT
BEGIN:STANDARD
TZOFFSETFROM:-0400
TZOFFSETTO:-0500
TZNAME:EST
DTSTART:20231105T060000
END:STANDARD
BEGIN:DAYLIGHT
TZOFFSETFROM:-0500
TZOFFSETTO:-0400
TZNAME:EDT
DTSTART:20240310T070000
END:DAYLIGHT
BEGIN:STANDARD
TZOFFSETFROM:-0400
TZOFFSETTO:-0500
TZNAME:EST
DTSTART:20241103T060000
END:STANDARD
END:VTIMEZONE
BEGIN:VEVENT
DTSTART;TZID=America/New_York:20231014T173000
DTEND;TZID=America/New_York:20231014T183000
DTSTAMP:20260425T205715
CREATED:20230814T184536Z
LAST-MODIFIED:20231008T214229Z
UID:12379-1697304600-1697308200@riverarts.org
SUMMARY:Inspiration\, Fuel & Identity: A Conversation with Ted & Nune
DESCRIPTION:Saturday\, October 14th\, 5:30 pmTed & Nune Studio; 45 Main Street\, Store BHastings On Hudson\, NY  \nTickets: $10/ must be purchased in advance  \n			\n				Purchase Tickets Here\n			\n				\n				\n				\n				\n				Join RiverArts for a conversation with Ted Andreasian and Nune Karamyan\, led by artist and expert art restorer\, Katerina Spilio. Ted and Nune discuss their new book\, Stone and Candle: Armenian Monasteries—the epic journey into the mountains of Armenia\, unpack the deeper meanings of the book’s title\, the inspiration for the trip\, and the power of connecting to the past while shaping a creative path into the future.  \nStone and Candle: Armenian Monasteries is a collection of images that pays homage to Armenian nature and the magnificent churches ingeniously assembled over centuries by stone. Within the book’s pages\, Ted and Nune’s work captures the profound play between human artistry and its surrounding natural environment. The images weave a narrative conveying the intrinsic connection between human creativity and the sacred architectural marvels of Christian heritage.  \n			\n				\n				\n				\n				\n				About the Artists:   \nTed and Nune are a photographic team who seek inspiration and a spiritual dimension in the man-made world. They journey to discover monumental human constructions for studies of architecture and industry\, bringing a joint male-female point of view to their shared vision. Their work is held in many private collections and has been exhibited in many countries around the world.  \nSince 1987\, Katerina Spilio has worked for and later led Byzantine Icons Studio/Byzantium Arts Studio\, where she has crafted icons ranging from a sixteen-foot Last Supper to delicate miniatures measuring five inches across. Her religious artworks find homes in churches and private collections across the United States. Beyond her religious works\, Spilio’s secular work adorns private collections in the United States\, England\, and Greece. In addition to running her own business\, she is also a scenic artist for film and television. \n			\n				Purchase Tickets Here\n			\n				\n				\n				\n				\n				About the Artist Conversation Series:   \nRiverArts creates opportunities to amplify the artistic voice\, bringing insight and delight to our community. We are proud to spotlight leading voices in art\, music\, poetry\, dance\, and theater.   \nUnder the direction of Marie Louise-Miller\, our Artist Conversation series offers a chance to get up close and personal with artists. The Artist Conversation Series aims to shed light on the intricacies of creativity across all its artistic mediums from the fine artist to the performance artist.
URL:https://riverarts.org/event/ted-and-nune/
LOCATION:Ted and Nune Studio\, 45 Main Street\, Store B\, Hastings-On-Hudson\, 10706
CATEGORIES:Art,Artist Conversation,In-person,Readings and Conversations
ATTACH;FMTTYPE=image/png:https://riverarts.org/wp-content/uploads/2023/08/Artist-Conversation-Event.png
ORGANIZER;CN="RiverArts":MAILTO:info@riverarts.org
END:VEVENT
END:VCALENDAR