BEGIN:VCALENDAR
VERSION:2.0
PRODID:-//RiverArts - ECPv6.15.20//NONSGML v1.0//EN
CALSCALE:GREGORIAN
METHOD:PUBLISH
X-ORIGINAL-URL:https://riverarts.org
X-WR-CALDESC:Events for RiverArts
REFRESH-INTERVAL;VALUE=DURATION:PT1H
X-Robots-Tag:noindex
X-PUBLISHED-TTL:PT1H
BEGIN:VTIMEZONE
TZID:America/New_York
BEGIN:DAYLIGHT
TZOFFSETFROM:-0500
TZOFFSETTO:-0400
TZNAME:EDT
DTSTART:20250309T070000
END:DAYLIGHT
BEGIN:STANDARD
TZOFFSETFROM:-0400
TZOFFSETTO:-0500
TZNAME:EST
DTSTART:20251102T060000
END:STANDARD
BEGIN:DAYLIGHT
TZOFFSETFROM:-0500
TZOFFSETTO:-0400
TZNAME:EDT
DTSTART:20260308T070000
END:DAYLIGHT
BEGIN:STANDARD
TZOFFSETFROM:-0400
TZOFFSETTO:-0500
TZNAME:EST
DTSTART:20261101T060000
END:STANDARD
BEGIN:DAYLIGHT
TZOFFSETFROM:-0500
TZOFFSETTO:-0400
TZNAME:EDT
DTSTART:20270314T070000
END:DAYLIGHT
BEGIN:STANDARD
TZOFFSETFROM:-0400
TZOFFSETTO:-0500
TZNAME:EST
DTSTART:20271107T060000
END:STANDARD
END:VTIMEZONE
BEGIN:VEVENT
DTSTART;TZID=America/New_York:20260604T193000
DTEND;TZID=America/New_York:20260604T210000
DTSTAMP:20260423T171926
CREATED:20260204T150353Z
LAST-MODIFIED:20260204T150421Z
UID:15095-1780601400-1780606800@riverarts.org
SUMMARY:Figure Drawing - June 4
DESCRIPTION:Artists of all experience levels and backgrounds are welcome to join us for monthly life drawing sessions with a nude model. \nIn this non-instructional program we create a relaxing\, social\, and inclusive environment for the community to come together for a fun night of drawing. Participants can capture the human body in short and long poses. \nWe provide the live model\, you bring your creative energy! \nThere are tables to work at but you may bring your own easels to work from if you wish.Participants are responsible for providing their own supplies. \nWe ask that you arrive early to setup before the session begins at 7:30pm; if you are running late\, please wait to come in during the first break (around 7:50). \nAdvanced registration and pre-payment is required. Each session is limited to 30 participants. Suitable for ages 18+ \nHastings Public LibraryOrr Room\, Lower level7 Maple AvenueHastings-on-Hudson \n7:30–9:30pm\, twice monthly September through June \nFOR MORE INFORMATION EMAIL: jriesman@riverarts.org \n			\n				Register Now!
URL:https://riverarts.org/event/figure-drawing-june-4/
LOCATION:Hastings Public Library\, Orr Room\, Lower Level\, 7 Maple Avenue\, Hastings-on-Hudson\, NY\, 10706\, United States
CATEGORIES:Art,Figure Drawing,In-person
ATTACH;FMTTYPE=image/jpeg:https://riverarts.org/wp-content/uploads/2024/12/lavi-perchik-jLB1FRQKP-I-unsplash_16x9-1-scaled.jpg
ORGANIZER;CN="RiverArts":MAILTO:info@riverarts.org
END:VEVENT
BEGIN:VEVENT
DTSTART;TZID=America/New_York:20260606T110000
DTEND;TZID=America/New_York:20260606T210000
DTSTAMP:20260423T171926
CREATED:20251216T171807Z
LAST-MODIFIED:20260202T190629Z
UID:14850-1780743600-1780779600@riverarts.org
SUMMARY:2026 RiverArts Music Tour
DESCRIPTION:RiverArts 2026 MUSIC TOUR | Free Music Festival\n			\n				\n				\n				\n				\n				SAVE THE DATE\nRiverArts is excited to present the 2026 Music Tour on SATURDAY\, JUNE 6*. Now in it’s 11th year\, the Music Tour is largest\, family-friendly\, FREE event for music lovers in lower Westchester County and truly offers something for everyone—from classical and jazz to folk\, rock\, alternative\, urban and world music. \nEnjoy music by hundreds of performers throughout the Rivertowns in a mix of fun venues in backyards\, gardens\, businesses\, churches community centers and open green spaces on the banks of the Hudson River. \n			\n				\n				\n				\n				\n				CALL FOR PERFORMERS\nWe invite regional acts to register to be part of this special\, one-day\, grassroots celebration of music! \nREGISTER YOUR BAND/ENSEMBLE THROUGH SUNDAY\, APRIL 19. \n			\n			\n				\n				\n				\n				\n			\n				\n				\n				\n				\n				\n				\n				RSVP to the Music Tour!\n			\n			\n				\n				\n				\n				\n				\n				Register Your Band/Ensemble Here
URL:https://riverarts.org/event/music-tour-26/
LOCATION:Throughout the Rivertowns\, Throughout Rivertowns
CATEGORIES:In-person,Music
ATTACH;FMTTYPE=image/png:https://riverarts.org/wp-content/uploads/2023/02/MusicTour-Banner-23-Web.png
ORGANIZER;CN="RiverArts":MAILTO:info@riverarts.org
END:VEVENT
BEGIN:VEVENT
DTSTART;TZID=America/New_York:20260617T193000
DTEND;TZID=America/New_York:20260617T193000
DTSTAMP:20260423T171926
CREATED:20260204T150532Z
LAST-MODIFIED:20260204T150605Z
UID:15097-1781724600-1781724600@riverarts.org
SUMMARY:Figure Drawing - June 17
DESCRIPTION:Artists of all experience levels and backgrounds are welcome to join us for monthly life drawing sessions with a nude model. \nIn this non-instructional program we create a relaxing\, social\, and inclusive environment for the community to come together for a fun night of drawing. Participants can capture the human body in short and long poses. \nWe provide the live model\, you bring your creative energy! \nThere are tables to work at but you may bring your own easels to work from if you wish.Participants are responsible for providing their own supplies. \nWe ask that you arrive early to setup before the session begins at 7:30pm; if you are running late\, please wait to come in during the first break (around 7:50). \nAdvanced registration and pre-payment is required. Each session is limited to 30 participants. Suitable for ages 18+ \nHastings Public LibraryOrr Room\, Lower level7 Maple AvenueHastings-on-Hudson \n7:30–9:30pm\, twice monthly September through June \nFOR MORE INFORMATION EMAIL: jriesman@riverarts.org \n			\n				Register Now!
URL:https://riverarts.org/event/figure-drawing-june-17/
LOCATION:Hastings Public Library\, Orr Room\, Lower Level\, 7 Maple Avenue\, Hastings-on-Hudson\, NY\, 10706\, United States
CATEGORIES:Art,Figure Drawing,In-person
ATTACH;FMTTYPE=image/jpeg:https://riverarts.org/wp-content/uploads/2024/12/lavi-perchik-jLB1FRQKP-I-unsplash_16x9-1-scaled.jpg
ORGANIZER;CN="RiverArts":MAILTO:info@riverarts.org
END:VEVENT
END:VCALENDAR