BEGIN:VCALENDAR
VERSION:2.0
PRODID:-//RiverArts - ECPv6.15.20//NONSGML v1.0//EN
CALSCALE:GREGORIAN
METHOD:PUBLISH
X-ORIGINAL-URL:https://riverarts.org
X-WR-CALDESC:Events for RiverArts
REFRESH-INTERVAL;VALUE=DURATION:PT1H
X-Robots-Tag:noindex
X-PUBLISHED-TTL:PT1H
BEGIN:VTIMEZONE
TZID:America/New_York
BEGIN:DAYLIGHT
TZOFFSETFROM:-0500
TZOFFSETTO:-0400
TZNAME:EDT
DTSTART:20240310T070000
END:DAYLIGHT
BEGIN:STANDARD
TZOFFSETFROM:-0400
TZOFFSETTO:-0500
TZNAME:EST
DTSTART:20241103T060000
END:STANDARD
BEGIN:DAYLIGHT
TZOFFSETFROM:-0500
TZOFFSETTO:-0400
TZNAME:EDT
DTSTART:20250309T070000
END:DAYLIGHT
BEGIN:STANDARD
TZOFFSETFROM:-0400
TZOFFSETTO:-0500
TZNAME:EST
DTSTART:20251102T060000
END:STANDARD
BEGIN:DAYLIGHT
TZOFFSETFROM:-0500
TZOFFSETTO:-0400
TZNAME:EDT
DTSTART:20260308T070000
END:DAYLIGHT
BEGIN:STANDARD
TZOFFSETFROM:-0400
TZOFFSETTO:-0500
TZNAME:EST
DTSTART:20261101T060000
END:STANDARD
END:VTIMEZONE
BEGIN:VEVENT
DTSTART;TZID=America/New_York:20250903T193000
DTEND;TZID=America/New_York:20250903T213000
DTSTAMP:20260424T003737
CREATED:20250724T193507Z
LAST-MODIFIED:20250806T144922Z
UID:14481-1756927800-1756935000@riverarts.org
SUMMARY:Figure Drawing
DESCRIPTION:Artists of all experience levels and backgrounds are welcome to join us for monthly life drawing sessions with a nude model. \nIn this non-instructional program we create a relaxing\, social\, and inclusive environment for the community to come together for a fun night of drawing. Participants can capture the human body in short and long poses. \nWe provide the live model\, you bring your creative energy! \nThere are tables to work at but you may bring your own easels to work from if you wish.Participants are responsible for providing their own supplies. \nWe ask that you arrive early to setup before the session begins at 7:30pm; if you are running late\, please wait to come in during the first break (around 7:50). \nAdvanced registration and pre-payment is required. Each session is limited to 30 participants. Suitable for ages 18+ \nHastings Public LibraryOrr Room\, Lower level7 Maple AvenueHastings-on-Hudson \n7:30–9:30pm\, twice monthly September through June \nFOR MORE INFORMATION EMAIL: jriesman@riverarts.org \n			\n				Register for Drink & Draw here
URL:https://riverarts.org/event/fig-draw-090425/
LOCATION:Hastings Public Library\, Orr Room\, Lower Level\, 7 Maple Avenue\, Hastings-on-Hudson\, NY\, 10706\, United States
CATEGORIES:Art,Figure Drawing,In-person
ORGANIZER;CN="RiverArts":MAILTO:info@riverarts.org
END:VEVENT
BEGIN:VEVENT
DTSTART;TZID=America/New_York:20250917T193000
DTEND;TZID=America/New_York:20250917T213000
DTSTAMP:20260424T003737
CREATED:20250724T195442Z
LAST-MODIFIED:20250724T200219Z
UID:14490-1758137400-1758144600@riverarts.org
SUMMARY:Figure Drawing
DESCRIPTION:Artists of all experience levels and backgrounds are welcome to join us for monthly life drawing sessions with a nude model. \nIn this non-instructional program we create a relaxing\, social\, and inclusive environment for the community to come together for a fun night of drawing. Participants can capture the human body in short and long poses. \nWe provide the live model\, you bring your creative energy! \nThere are tables to work at but you may bring your own easels to work from if you wish.Participants are responsible for providing their own supplies. \nWe ask that you arrive early to setup before the session begins at 7:30pm; if you are running late\, please wait to come in during the first break (around 7:50). \nAdvanced registration and pre-payment is required. Each session is limited to 30 participants. Suitable for ages 18+ \nHastings Public LibraryOrr Room\, Lower level7 Maple AvenueHastings-on-Hudson \n7:30–9:30pm\, twice monthly September through June \nFOR MORE INFORMATION EMAIL: jriesman@riverarts.org \n			\n				Register for Drink & Draw here
URL:https://riverarts.org/event/fig-draw-091725/
LOCATION:Hastings Public Library\, Orr Room\, Lower Level\, 7 Maple Avenue\, Hastings-on-Hudson\, NY\, 10706\, United States
CATEGORIES:Art,Figure Drawing,In-person
ORGANIZER;CN="RiverArts":MAILTO:info@riverarts.org
END:VEVENT
BEGIN:VEVENT
DTSTART;TZID=America/New_York:20250920T200000
DTEND;TZID=America/New_York:20250920T213000
DTSTAMP:20260424T003737
CREATED:20250627T145722Z
LAST-MODIFIED:20250723T142539Z
UID:14374-1758398400-1758403800@riverarts.org
SUMMARY:Limón Dance Company
DESCRIPTION:RiverArts and Tarrytown Music Hall Present: Limón Dance Company\n			\n				\n				\n				\n				\n				Saturday\, September 20\, 20258 PMTarrytown Music HallTarrytown\, NY \n$35-$70 \n			\n				Purchase Tickets\n			\n				\n				\n				\n				\n				\n“The dancers performed with a luscious spontaneity…this was alive” – The New York Times\n\nFounded in 1946 by José Limón and Doris Humphrey\, the Limón Dance Company has been at the vanguard of American Modern dance since its inception and is considered one of the world’s greatest dance companies. Choreographer and dancer José Limón is credited with creating one of the world’s most important and enduring dance legacies— an art form responsible for the creation\, growth and support of modern dance in this country. Acclaimed for its dramatic expression\, technical mastery and expansive\, yet nuanced movement\, the Limón Dance Company illustrates the timelessness of José Limón’s work and vision. The Company’s repertory\, which includes classic works in addition to new commissions from contemporary choreographers\, possesses an unparalleled breadth and creates unique experiences for audiences around the world. \nCome experience a program that celebrates Limón’s unparalleled creative vision! \n\nOrfeoA poignant reimagining of Orpheus and Eurydice’s myth\, Orfeo pairs Beethoven’s stirring quartet with Limón’s evocative choreography to explore timeless themes of love\, loss\, and hope\, featuring gender-neutral casting for a modern retelling.Choreography: José Limón | Music: Ludwig van Beethoven\, String Quartet Op. 95\, #11 \nSuite from A Choreographic OfferingInspired by Bach’s intricate compositions\, Limón’s A Choreographic Offering is a heartfelt tribute to mentor Doris Humphrey. This luminous work intertwines motifs from her dances\, celebrating legacy and innovation in modern dance history.Choreography: José Limón | Music: J.S. Bach\, Musical Offering \nTwo Ecstatic ThemesA choreographic masterpiece by Doris Humphrey\, Two Ecstatic Themes embodies the excellence of early modern dance\, delving deep into the duality of human experience.Choreography: Doris Humphrey | Music: Tragoedie Fragment a-moll\, Op. 7 No. 2 by Nikolai Karolovich Medtner; Maschere Che Passano for Piano by Gian Francesco Malipiero \nThe Moor’s PavaneLimón’s The Moor’s Pavane distills Othello’s tragic tale into elegant Renaissance-inspired dances. Set to Purcell’s music\, it explores themes of jealousy and betrayal\, offering timeless commentary on human frailty and social injustice.Choreography: José Limón | Music: Henry Purcell (arranged by Simon Sadoff) \n\n			\n				Purchase Tickets
URL:https://riverarts.org/event/limon-dance/
LOCATION:Tarrytown Music Hall\, 13 Main St Floor 2\, Tarrytown\, 10591
CATEGORIES:Dance,In-person
ATTACH;FMTTYPE=image/png:https://riverarts.org/wp-content/uploads/2025/06/TTMH-200x125-1.png
ORGANIZER;CN="RiverArts":MAILTO:info@riverarts.org
END:VEVENT
END:VCALENDAR