BEGIN:VCALENDAR
VERSION:2.0
PRODID:-//RiverArts - ECPv6.15.20//NONSGML v1.0//EN
CALSCALE:GREGORIAN
METHOD:PUBLISH
X-ORIGINAL-URL:https://riverarts.org
X-WR-CALDESC:Events for RiverArts
REFRESH-INTERVAL;VALUE=DURATION:PT1H
X-Robots-Tag:noindex
X-PUBLISHED-TTL:PT1H
BEGIN:VTIMEZONE
TZID:America/New_York
BEGIN:DAYLIGHT
TZOFFSETFROM:-0500
TZOFFSETTO:-0400
TZNAME:EDT
DTSTART:20230312T070000
END:DAYLIGHT
BEGIN:STANDARD
TZOFFSETFROM:-0400
TZOFFSETTO:-0500
TZNAME:EST
DTSTART:20231105T060000
END:STANDARD
BEGIN:DAYLIGHT
TZOFFSETFROM:-0500
TZOFFSETTO:-0400
TZNAME:EDT
DTSTART:20240310T070000
END:DAYLIGHT
BEGIN:STANDARD
TZOFFSETFROM:-0400
TZOFFSETTO:-0500
TZNAME:EST
DTSTART:20241103T060000
END:STANDARD
BEGIN:DAYLIGHT
TZOFFSETFROM:-0500
TZOFFSETTO:-0400
TZNAME:EDT
DTSTART:20250309T070000
END:DAYLIGHT
BEGIN:STANDARD
TZOFFSETFROM:-0400
TZOFFSETTO:-0500
TZNAME:EST
DTSTART:20251102T060000
END:STANDARD
END:VTIMEZONE
BEGIN:VEVENT
DTSTART;TZID=America/New_York:20240905T193000
DTEND;TZID=America/New_York:20240905T213000
DTSTAMP:20260424T215101
CREATED:20240731T155047Z
LAST-MODIFIED:20240821T153338Z
UID:13500-1725564600-1725571800@riverarts.org
SUMMARY:Drink & Draw
DESCRIPTION:Drink & Draw \n			\n				\n				\n				\n				\n				Hastings Public LibraryOrr Room\, Lower level 7 Maple AvenueHastings-on-Hudson  \nAdmission: $20 Register in advance. We are requiring folks pre-register and pay IN ADVANCE ONLY. Class limited to 30 people so book in advance. If you register and can’t make it\, please email jriesman@riverarts.org \nTime: 7:30-9:30pm \n			\n				Register for Drink & Draw here\n			\n				\n				\n				\n				\n				Drink & Draw is a modern twist on the classic artistic practice of life drawing. Artists of all experience levels and backgrounds are welcome\, especially those that have always wanted to try their hand.  \nIn this non-instructional event\, we aim to create a relaxing\, social and inclusive environment for the community to come together for a fun night of drawing.  After some mingling with fellow guests\, participants will have an opportunity to capture the human body in poses of different lengths\, with breaks for refreshments in between.   \nThere’s wine\, crackers\, cheese and cookies to enjoy\, and our host curates a playlist to keep your energy flowing.  The evening lasts about 2 hours\, and participants leave with a collection of their new works… and maybe some new friends too. \nRiverArts is proud to be able to provide this unique opportunity right here in our Rivertowns\, an opportunity which is often only accessible to art students or by traveling into New York City\, with a significant investment of time and tuition. Drink & Draw offers a perfect entry-level for the amateur artist\, and we have seen beginners improve significantly as their skills develop in subsequent sessions and they draw on their experience and learn from others.   \nModel provided. Please bring your own art supplies and arrive on time. Must be over 18 to attend. Wine for those 21+ \nFOR MORE INFORMATION EMAIL: jriesman@riverarts.org \n*If you are having issues registering from mobile please try from a desktop or use this link. \n#DrinkAndDraw \n			\n				Register for Drink & Draw here
URL:https://riverarts.org/event/drink-draw-sep-5/
LOCATION:Hastings Public Library\, Orr Room\, Lower Level\, 7 Maple Avenue\, Hastings-on-Hudson\, NY\, 10706\, United States
CATEGORIES:Art,Figure Drawing,In-person
ATTACH;FMTTYPE=image/jpeg:https://riverarts.org/wp-content/uploads/2024/07/Drink_Draw_Fall24.jpg
ORGANIZER;CN="RiverArts":MAILTO:info@riverarts.org
END:VEVENT
BEGIN:VEVENT
DTSTART;TZID=America/New_York:20240925T193000
DTEND;TZID=America/New_York:20240925T213000
DTSTAMP:20260424T215101
CREATED:20240821T152816Z
LAST-MODIFIED:20240821T153229Z
UID:13532-1727292600-1727299800@riverarts.org
SUMMARY:Drink & Draw
DESCRIPTION:Drink & Draw \n			\n				\n				\n				\n				\n				Hastings Public LibraryOrr Room\, Lower level 7 Maple AvenueHastings-on-Hudson  \nAdmission: $20 Register in advance. We are requiring folks pre-register and pay IN ADVANCE ONLY. Class limited to 30 people so book in advance. If you register and can’t make it\, please email jriesman@riverarts.org \nTime: 7:30-9:30pm \n			\n				Register for Drink & Draw here\n			\n				\n				\n				\n				\n				Drink & Draw is a modern twist on the classic artistic practice of life drawing. Artists of all experience levels and backgrounds are welcome\, especially those that have always wanted to try their hand.  \nIn this non-instructional event\, we aim to create a relaxing\, social and inclusive environment for the community to come together for a fun night of drawing.  After some mingling with fellow guests\, participants will have an opportunity to capture the human body in poses of different lengths\, with breaks for refreshments in between.   \nThere’s wine\, crackers\, cheese and cookies to enjoy\, and our host curates a playlist to keep your energy flowing.  The evening lasts about 2 hours\, and participants leave with a collection of their new works… and maybe some new friends too. \nRiverArts is proud to be able to provide this unique opportunity right here in our Rivertowns\, an opportunity which is often only accessible to art students or by traveling into New York City\, with a significant investment of time and tuition. Drink & Draw offers a perfect entry-level for the amateur artist\, and we have seen beginners improve significantly as their skills develop in subsequent sessions and they draw on their experience and learn from others.   \nModel provided. Please bring your own art supplies and arrive on time. Must be over 18 to attend. Wine for those 21+ \nFOR MORE INFORMATION EMAIL: jriesman@riverarts.org \n*If you are having issues registering from mobile please try from a desktop or use this link. \n#DrinkAndDraw \n			\n				Register for Drink & Draw here
URL:https://riverarts.org/event/drink-draw-sep-25/
LOCATION:Hastings Public Library\, Orr Room\, Lower Level\, 7 Maple Avenue\, Hastings-on-Hudson\, NY\, 10706\, United States
CATEGORIES:Art,Figure Drawing,In-person
ATTACH;FMTTYPE=image/jpeg:https://riverarts.org/wp-content/uploads/2024/07/Drink_Draw_Fall24.jpg
ORGANIZER;CN="RiverArts":MAILTO:info@riverarts.org
END:VEVENT
BEGIN:VEVENT
DTSTART;TZID=America/New_York:20240928T193000
DTEND;TZID=America/New_York:20240928T210000
DTSTAMP:20260424T215101
CREATED:20240523T012148Z
LAST-MODIFIED:20240523T012822Z
UID:13352-1727551800-1727557200@riverarts.org
SUMMARY:Paul Taylor Dance Company
DESCRIPTION:RiverArts and Tarrytown Music Hall Present: Paul Taylor Dance Company\n			\n				\n				\n				\n				\n				Saturday\, September 28\, 20247:30 PMTarrytown Music HallTarrytown\, NY \n$30-$70 \n			\n				Purchase Tickets\n			\n				\n				\n				\n				\n				“The American spirit soars whenever Taylor’s dancers dance.” – San Francisco Chronicle\n \n \nOne of the most iconic and dynamic modern dance ensembles of our time\, the Paul Taylor Dance Company has been innovating and transforming the art form of modern dance since 1954. With a history of multidisciplinary collaborations\, passionate expression\, and thrilling athleticism\, the Company is known worldwide for its vast repertory\, performing work from the Founder’s canon; new works created by some of today’s most engaging and established choreographers; and important historical dance from the 20th and 21st centuries. Dedicated to sharing modern dance with the broadest possible audience\, the Company tours annually\, both domestically and internationally\, with performances and a variety of educational programs and engagement offerings.\n \n \nCome experience a program that celebrates Taylor’s unparalleled creative vision:\n \n \nAureole \nFirst performance\, 1962\nPerhaps Paul Taylor’s first success\, was the first time Taylor combined his loping antelope style of movement with baroque music\, and its grace and individuality instantly spun into orbit throughout the dance world.\nMusic: George Frideric Handel\n \n \nDust\nFirst performance\, 1977\nClive Barnes of the New York Times says\, “The man is a genius again with a fantastic new and macabre ballet\, with the remarkable dancers moving through this Goya-like vision of hell-in-life with even humored energy of athletes.”\nMusic: Francis Poulenc\n \n \nEsplanade\nFirst performance\, 1975\nAn esplanade is an outdoor place to walk\, Paul Taylor created a masterwork based on pedestrian movement brimming with Taylor’s signature youthful exuberance. A classic of American dance to two Bach violin concertos.\nMusic: Johann Sebastian Bach\n			\n				Purchase Tickets
URL:https://riverarts.org/event/paul-taylor/
LOCATION:Tarrytown Music Hall\, 13 Main St Floor 2\, Tarrytown\, 10591
CATEGORIES:Dance,In-person
ATTACH;FMTTYPE=image/png:https://riverarts.org/wp-content/uploads/2024/05/Paul-Taylor-380-x-380-px.png
ORGANIZER;CN="RiverArts":MAILTO:info@riverarts.org
END:VEVENT
END:VCALENDAR