BEGIN:VCALENDAR
VERSION:2.0
PRODID:-//RiverArts - ECPv6.15.20//NONSGML v1.0//EN
CALSCALE:GREGORIAN
METHOD:PUBLISH
X-WR-CALNAME:RiverArts
X-ORIGINAL-URL:https://riverarts.org
X-WR-CALDESC:Events for RiverArts
REFRESH-INTERVAL;VALUE=DURATION:PT1H
X-Robots-Tag:noindex
X-PUBLISHED-TTL:PT1H
BEGIN:VTIMEZONE
TZID:America/New_York
BEGIN:DAYLIGHT
TZOFFSETFROM:-0500
TZOFFSETTO:-0400
TZNAME:EDT
DTSTART:20230312T070000
END:DAYLIGHT
BEGIN:STANDARD
TZOFFSETFROM:-0400
TZOFFSETTO:-0500
TZNAME:EST
DTSTART:20231105T060000
END:STANDARD
BEGIN:DAYLIGHT
TZOFFSETFROM:-0500
TZOFFSETTO:-0400
TZNAME:EDT
DTSTART:20240310T070000
END:DAYLIGHT
BEGIN:STANDARD
TZOFFSETFROM:-0400
TZOFFSETTO:-0500
TZNAME:EST
DTSTART:20241103T060000
END:STANDARD
BEGIN:DAYLIGHT
TZOFFSETFROM:-0500
TZOFFSETTO:-0400
TZNAME:EDT
DTSTART:20250309T070000
END:DAYLIGHT
BEGIN:STANDARD
TZOFFSETFROM:-0400
TZOFFSETTO:-0500
TZNAME:EST
DTSTART:20251102T060000
END:STANDARD
END:VTIMEZONE
BEGIN:VEVENT
DTSTART;TZID=America/New_York:20240208T193000
DTEND;TZID=America/New_York:20240208T213000
DTSTAMP:20260425T131410
CREATED:20240102T135455Z
LAST-MODIFIED:20240109T135807Z
UID:12868-1707420600-1707427800@riverarts.org
SUMMARY:Drink & Draw
DESCRIPTION:Drink & Draw \n			\n				\n				\n				\n				\n				Hastings Public LibraryOrr Room\, Lower level 7 Maple AvenueHastings-on-Hudson  \nAdmission: $20 Register in advance. We are requiring folks pre-register and pay IN ADVANCE ONLY. Class limited to 30 people so book in advance. If you register and can’t make it\, please email jriesman@riverarts.org \nTime: 7:30-9:30pm \n			\n				Register for Drink & Draw here\n			\n				\n				\n				\n				\n				Drink & Draw is a modern twist on the classic artistic practice of life drawing. Artists of all experience levels and backgrounds are welcome\, especially those that have always wanted to try their hand.  \nIn this non-instructional event\, we aim to create a relaxing\, social and inclusive environment for the community to come together for a fun night of drawing.  After some mingling with fellow guests\, participants will have an opportunity to capture the human body in poses of different lengths\, with breaks for refreshments in between.   \nThere’s wine\, crackers\, cheese and cookies to enjoy\, and our host curates a playlist to keep your energy flowing.  The evening lasts about 2 hours\, and participants leave with a collection of their new works… and maybe some new friends too. \nRiverArts is proud to be able to provide this unique opportunity right here in our Rivertowns\, an opportunity which is often only accessible to art students or by traveling into New York City\, with a significant investment of time and tuition.  Drink & Draw offers a perfect entry-level for the amateur artist\, and we have seen beginners improve significantly as their skills develop in subsequent sessions and they draw on their experience and learn from others.   \nModel provided. Please bring your own art supplies and arrive on time. Must be over 18 to attend. Wine for those 21+ \nFOR MORE INFORMATION EMAIL: jriesman@riverarts.org \n*If you are having issues registering from mobile please try from a desktop or use this link. \n#DrinkAndDraw \n			\n				Register for Drink & Draw here
URL:https://riverarts.org/event/drink-draw-feb-8/
LOCATION:Hastings Public Library\, Orr Room\, Lower Level\, 7 Maple Avenue\, Hastings-on-Hudson\, NY\, 10706\, United States
CATEGORIES:Art,Figure Drawing,In-person
ATTACH;FMTTYPE=image/png:https://riverarts.org/wp-content/uploads/2024/01/Drink-Draw.png
ORGANIZER;CN="RiverArts":MAILTO:info@riverarts.org
END:VEVENT
BEGIN:VEVENT
DTSTART;TZID=America/New_York:20240210T200000
DTEND;TZID=America/New_York:20240210T213000
DTSTAMP:20260425T131411
CREATED:20240109T135914Z
LAST-MODIFIED:20240117T031819Z
UID:12916-1707595200-1707600600@riverarts.org
SUMMARY:Evan Chapman - Channels\, A new music series
DESCRIPTION:Evan Chapman: Channels\, A New Music Series\n			\n				\n				\n				\n				\n				Saturday\, February 10\, 20248 PM; Doors open at 7 PMHudCo Penthouse145 Palisade St.\, Dobbs Ferry\, NY \nAges 12+ \n$30 \n			\n				Purchase Tickets\n			\n				\n				\n				\n				\n				The Channels series presents new music in unique spaces to bring artists and audiences together in the spirit of connectivity and discovery. This event is recommended for ages 12 and up. \nAbout the Artist \nBased in Philadelphia\, Evan Chapman is a percussionist\, composer\, and filmmaker who has built a prolific and unique career by seamlessly blending multimedia and contemporary music. Chapman is a founding member of contemporary-classical percussion trio/rock band Square Peg Round Hole\, whose original compositions have been dubbed a “creative adventure” by Bob Boilen (NPR) and have received further acclaim from Modern Drummer Magazine\, Paste Magazine\, and Mental Floss\, among others. \nChapman is also a founder and owner of film production company Four/Ten Media alongside longtime collaborator Kevin Eikenberg. The duo’s background as classically-trained percussionists has allowed them to create fresh and musically authentic representations of pieces in the contemporary classical and pop worlds. Four/Ten’s client list includes internationally-acclaimed artists and institutions such as the New York Philharmonic\, Steve Reich\, Philip Glass\, Caroline Shaw\, Carnegie Hall\, the Bang on a Can All-Stars\, Sō Percussion\, David Lang\, Son Lux\, Alarm Will Sound\, and many more. Their work has been featured by major press outlets including the New York Times\, Alternative Press\, NPR\, Paste Magazine\, Q2 Music\, and I Care If You Listen. \nEvan will be presenting brand new original material that further explores the intersection of percussion and technology\, incorporating elements from contemporary classical\, electronic\, and post-rock styles. \nEvan is sponsored by Zildjian Cymbals\, Vic Firth Drumsticks\, and Evans Drumheads. \nInstagram | Facebook | Twitter \nAbout Channels \nA new music series that defies boundaries and celebrates the river as a means of travel\, exploration\, and source of new ideas – Channels presents adventurous music in unique Hudson River Town settings. The mission of the series is to bring together artists and audiences in the spirit of connectivity and discovery\, by taking advantage of one of the area’s greatest resources—its location.  \n			\n				Purchase Tickets
URL:https://riverarts.org/event/channels-evanchapman/
LOCATION:HudCo Penthouse\, 145 Palisade St.\, Dobbs Ferry\, NY\, 10522\, United States
CATEGORIES:In-person,Music
ATTACH;FMTTYPE=image/png:https://riverarts.org/wp-content/uploads/2024/01/EvanChapman-e1705461479647.png
ORGANIZER;CN="RiverArts":MAILTO:info@riverarts.org
END:VEVENT
BEGIN:VEVENT
DTSTART;TZID=America/New_York:20240221T193000
DTEND;TZID=America/New_York:20240221T213000
DTSTAMP:20260425T131411
CREATED:20240102T145554Z
LAST-MODIFIED:20240109T135750Z
UID:12875-1708543800-1708551000@riverarts.org
SUMMARY:Drink & Draw
DESCRIPTION:Drink & Draw \n			\n				\n				\n				\n				\n				Hastings Public LibraryOrr Room\, Lower level 7 Maple AvenueHastings-on-Hudson  \nAdmission: $20 Register in advance. We are requiring folks pre-register and pay IN ADVANCE ONLY. Class limited to 30 people so book in advance. If you register and can’t make it\, please email jriesman@riverarts.org \nTime: 7:30-9:30pm \n			\n				Register for Drink & Draw here\n			\n				\n				\n				\n				\n				Drink & Draw is a modern twist on the classic artistic practice of life drawing. Artists of all experience levels and backgrounds are welcome\, especially those that have always wanted to try their hand.  \nIn this non-instructional event\, we aim to create a relaxing\, social and inclusive environment for the community to come together for a fun night of drawing.  After some mingling with fellow guests\, participants will have an opportunity to capture the human body in poses of different lengths\, with breaks for refreshments in between.   \nThere’s wine\, crackers\, cheese and cookies to enjoy\, and our host curates a playlist to keep your energy flowing.  The evening lasts about 2 hours\, and participants leave with a collection of their new works… and maybe some new friends too. \nRiverArts is proud to be able to provide this unique opportunity right here in our Rivertowns\, an opportunity which is often only accessible to art students or by traveling into New York City\, with a significant investment of time and tuition.  Drink & Draw offers a perfect entry-level for the amateur artist\, and we have seen beginners improve significantly as their skills develop in subsequent sessions and they draw on their experience and learn from others.   \nModel provided. Please bring your own art supplies and arrive on time. Must be over 18 to attend. Wine for those 21+ \nFOR MORE INFORMATION EMAIL: jriesman@riverarts.org \n*If you are having issues registering from mobile please try from a desktop or use this link. \n#DrinkAndDraw \n			\n				Register for Drink & Draw here
URL:https://riverarts.org/event/drink-draw-feb-21/
LOCATION:Hastings Public Library\, Orr Room\, Lower Level\, 7 Maple Avenue\, Hastings-on-Hudson\, NY\, 10706\, United States
CATEGORIES:Art,Figure Drawing,In-person
ATTACH;FMTTYPE=image/png:https://riverarts.org/wp-content/uploads/2024/01/Drink-Draw.png
ORGANIZER;CN="RiverArts":MAILTO:info@riverarts.org
END:VEVENT
BEGIN:VEVENT
DTSTART;TZID=America/New_York:20240225T140000
DTEND;TZID=America/New_York:20240225T153000
DTSTAMP:20260425T131411
CREATED:20240125T223440Z
LAST-MODIFIED:20240212T210031Z
UID:12938-1708869600-1708875000@riverarts.org
SUMMARY:Memory Palaces: Imagination & Reckoning in Mosaic | Artist Conversation with Haifa Bint-Kadi
DESCRIPTION:Memory Palaces: Imagination & Reckoning in Mosaic | An Artist Conversation with Haifa Bint-Kadi\n			\n				\n				\n				\n				\n				Sunday\, February 25\, 20242:00 PM – 3:30 PMUrban Studio Unbound66 Main St.\, Yonkers\, NY \n$15 in advance\, $20 at the door \n			\n				Purchase Tickets\n			\n				\n				\n				\n				\n				Join us for a conversation with artist Haifa Bint-Kadi as she unveils her new collection\, Memory Palaces\, led by Marie-Louise Miller. \nThis collection features 3-dimensional structures with mosaic elements representing the essence of home stemming from her deep connection to her own heritage to the Arab culture. Each palace is paired with an audio recording specific to the memories contained by the palace. \nMemory Palaces is inspired by Bint-Kadi’s childhood as a first generation Palestinian-Afro-Caribbean American and a daughter of refugees. Bint-Kadi’s work explores the feelings of nostalgia\, grief\, and yearning often felt by refugees and immigrants as they relocate in search of new homes. Each piece represents an evolution of memories drawn from the past into the present through the Bint-Kadi’s mosaic practice. This collection is made possible by a grant received from NYSCA. \nAbout the ArtistHaifa Bint-Kadi a first Generation Palestinian-Afro-Caribbean American\, a daughter of refugees\, a mother\, and a grandmother. Haifa was trained in Italy as a classical mosaicist\, but even in her early work\, she was always drawn to the idea of public art as an index or marker of lived experience. She holds a B.A. and M.F.A. from Istituto d’Arte per il Mosaico in Ravenna\, Italy\, and has been creating public art mosaics since 1993. She serves as a full-time curator for the City of Yonkers library system\, a certified teaching artist\, and an adjunct professor at Suny Purchase\, focusing on Arts for Social Justice. Haifa has created over 24 public art mosaics and steel sculptures across the state. Haifa’s studio practice revolves around family archives\, translating them into paintings and mixed media-maps exploring her Afro-Caribbean and Arab roots. Recognized with numerous awards\, grants\, and accolades\, including the Kennedy Center’s Steam Educator Award\, Haifa believes art fosters healing\, builds self-esteem and identity\, and inspires wonder and exploration.  \nAbout the Artist Conversation Series:   RiverArts creates opportunities to amplify the artistic voice\, bringing insight and delight to our community. We are proud to spotlight leading voices in art\, music\, poetry\, dance\, and theater. Under the direction of Marie Louise-Miller\, our Artist Conversation series offers a chance to get up close and personal with artists. The Artist Conversation Series aims to shed light on the intricacies of creativity across all its artistic mediums from the fine artist to the performance artist.  \n			\n				Purchase Tickets
URL:https://riverarts.org/event/memory-palaces/
LOCATION:Urban Studio Unbound\, 66 Main Street\, Yonkers\, NY\, 10701\, United States
CATEGORIES:Art,Artist Conversation,In-person,Readings and Conversations
ATTACH;FMTTYPE=image/png:https://riverarts.org/wp-content/uploads/2024/01/ArtistConversation-Haifa-Bint-Kadi-Rev-3_Event-1920x1080-V1.png
ORGANIZER;CN="RiverArts":MAILTO:info@riverarts.org
END:VEVENT
END:VCALENDAR