BEGIN:VCALENDAR
VERSION:2.0
PRODID:-//RiverArts - ECPv6.15.20//NONSGML v1.0//EN
CALSCALE:GREGORIAN
METHOD:PUBLISH
X-WR-CALNAME:RiverArts
X-ORIGINAL-URL:https://riverarts.org
X-WR-CALDESC:Events for RiverArts
REFRESH-INTERVAL;VALUE=DURATION:PT1H
X-Robots-Tag:noindex
X-PUBLISHED-TTL:PT1H
BEGIN:VTIMEZONE
TZID:America/New_York
BEGIN:DAYLIGHT
TZOFFSETFROM:-0500
TZOFFSETTO:-0400
TZNAME:EDT
DTSTART:20230312T070000
END:DAYLIGHT
BEGIN:STANDARD
TZOFFSETFROM:-0400
TZOFFSETTO:-0500
TZNAME:EST
DTSTART:20231105T060000
END:STANDARD
BEGIN:DAYLIGHT
TZOFFSETFROM:-0500
TZOFFSETTO:-0400
TZNAME:EDT
DTSTART:20240310T070000
END:DAYLIGHT
BEGIN:STANDARD
TZOFFSETFROM:-0400
TZOFFSETTO:-0500
TZNAME:EST
DTSTART:20241103T060000
END:STANDARD
BEGIN:DAYLIGHT
TZOFFSETFROM:-0500
TZOFFSETTO:-0400
TZNAME:EDT
DTSTART:20250309T070000
END:DAYLIGHT
BEGIN:STANDARD
TZOFFSETFROM:-0400
TZOFFSETTO:-0500
TZNAME:EST
DTSTART:20251102T060000
END:STANDARD
END:VTIMEZONE
BEGIN:VEVENT
DTSTART;TZID=America/New_York:20240310T160000
DTEND;TZID=America/New_York:20240310T180000
DTSTAMP:20260425T114531
CREATED:20240208T160147Z
LAST-MODIFIED:20240304T233857Z
UID:12988-1710086400-1710093600@riverarts.org
SUMMARY:Strings in the Afternoon: Quintets of Mozart\, Bunch\, and Montgomery | Chamber Music Series
DESCRIPTION:Strings in the Afternoon\nSunday\, March 10th\n4:00–6:00pm\nFirst Baptist Church\n56 South Broadway\, Tarrytown\, NY 10591\n\n \n			\n				Tickets for Performances\n			\n				\n				\n				\n				\n				  \n  \n			\n				\n				\n				\n				\n				Join us for our an afternoon of strings in the second concert of our 2023-2024 Chamber Music Series. This program will feature two of Mozart’s great string quintets\, No. 3 in C Major K. 515 and No. 4 in g minor K. 516\, along with String Circle by Kenji Bunch and Jessie Montgomery’s Strum.  \nExperience an exceptional ensemble curated by Artistic Director Peter Seidenberg featuring renowned musicians such as Phil Setzer\, a founding member of the Emerson String Quartet\, and Miranda Cuckson on violins. Joining them are composer and violist Kenji Bunch and Daniel Panner from the Mendelssohn String Quartet on violas\, alongside Mr. Seidenberg on the cello. \n\nA captivating concert blending classical elegance with contemporary flair\, Mozart’s quintets exemplifies timeless mastery while Kenji Bunch and Jessie Montgomery use vernacular folk music to create beautiful\, accessible\, chamber music that keeps your toes tapping. \n\n\n\nAbout RiverArts Chamber Series   \nFounded in 2016\, the RiverArts Chamber Music Series under the Artistic Direction of Peter Seidenberg and producer Doug Coe\, is devoted to bringing the finest Chamber Music\, both classical and contemporary\, to the Rivertowns. The Series consists of three concerts each season\, with one being a gala hosted by The Newington-Cropsey Foundation.    \nVisit the Chamber Music Series site to learn more and see past and current programming.  \nhttps://riverarts.org/programs/music/chamber-music-series/  \n\n\n			\n				Tickets for Performances\n			\n				\n				\n				\n				\n				\n\n\n  \n#RiverArtsChamberMusic
URL:https://riverarts.org/event/strings-in-the-afternoon/
LOCATION:First Baptist Church\, 56 South Broadway\, Tarrytown\, NY\, 10591\, United States
CATEGORIES:Chamber Music,In-person,Music
ATTACH;FMTTYPE=image/png:https://riverarts.org/wp-content/uploads/2024/02/3.png
ORGANIZER;CN="RiverArts":MAILTO:info@riverarts.org
END:VEVENT
BEGIN:VEVENT
DTSTART;TZID=America/New_York:20240310T160000
DTEND;TZID=America/New_York:20240310T180000
DTSTAMP:20260425T114531
CREATED:20250131T164602Z
LAST-MODIFIED:20250131T164602Z
UID:13852-1710086400-1710093600@riverarts.org
SUMMARY:Strings in the Afternoon: Quintets of Mozart\, Bunch\, and Montgomery | Chamber Music Series Copy
DESCRIPTION:Strings in the Afternoon\nSunday\, March 10th\n4:00–6:00pm\nFirst Baptist Church\n56 South Broadway\, Tarrytown\, NY 10591\n\n \n			\n				Tickets for Performances\n			\n				\n				\n				\n				\n				  \n  \n			\n				\n				\n				\n				\n				Join us for our an afternoon of strings in the second concert of our 2023-2024 Chamber Music Series. This program will feature two of Mozart’s great string quintets\, No. 3 in C Major K. 515 and No. 4 in g minor K. 516\, along with String Circle by Kenji Bunch and Jessie Montgomery’s Strum.  \nExperience an exceptional ensemble curated by Artistic Director Peter Seidenberg featuring renowned musicians such as Phil Setzer\, a founding member of the Emerson String Quartet\, and Miranda Cuckson on violins. Joining them are composer and violist Kenji Bunch and Daniel Panner from the Mendelssohn String Quartet on violas\, alongside Mr. Seidenberg on the cello. \n\nA captivating concert blending classical elegance with contemporary flair\, Mozart’s quintets exemplifies timeless mastery while Kenji Bunch and Jessie Montgomery use vernacular folk music to create beautiful\, accessible\, chamber music that keeps your toes tapping. \n\n\n\nAbout RiverArts Chamber Series   \nFounded in 2016\, the RiverArts Chamber Music Series under the Artistic Direction of Peter Seidenberg and producer Doug Coe\, is devoted to bringing the finest Chamber Music\, both classical and contemporary\, to the Rivertowns. The Series consists of three concerts each season\, with one being a gala hosted by The Newington-Cropsey Foundation.    \nVisit the Chamber Music Series site to learn more and see past and current programming.  \nhttps://riverarts.org/programs/music/chamber-music-series/  \n\n\n			\n				Tickets for Performances\n			\n				\n				\n				\n				\n				\n\n\n  \n#RiverArtsChamberMusic
URL:https://riverarts.org/event/strings-in-the-afternoon-copy/
LOCATION:First Baptist Church\, 56 South Broadway\, Tarrytown\, NY\, 10591\, United States
CATEGORIES:Chamber Music,In-person,Music
ATTACH;FMTTYPE=image/png:https://riverarts.org/wp-content/uploads/2024/02/3.png
ORGANIZER;CN="RiverArts":MAILTO:info@riverarts.org
END:VEVENT
END:VCALENDAR