BEGIN:VCALENDAR
VERSION:2.0
PRODID:-//RiverArts - ECPv6.15.20//NONSGML v1.0//EN
CALSCALE:GREGORIAN
METHOD:PUBLISH
X-WR-CALNAME:RiverArts
X-ORIGINAL-URL:https://riverarts.org
X-WR-CALDESC:Events for RiverArts
REFRESH-INTERVAL;VALUE=DURATION:PT1H
X-Robots-Tag:noindex
X-PUBLISHED-TTL:PT1H
BEGIN:VTIMEZONE
TZID:America/New_York
BEGIN:DAYLIGHT
TZOFFSETFROM:-0500
TZOFFSETTO:-0400
TZNAME:EDT
DTSTART:20240310T070000
END:DAYLIGHT
BEGIN:STANDARD
TZOFFSETFROM:-0400
TZOFFSETTO:-0500
TZNAME:EST
DTSTART:20241103T060000
END:STANDARD
BEGIN:DAYLIGHT
TZOFFSETFROM:-0500
TZOFFSETTO:-0400
TZNAME:EDT
DTSTART:20250309T070000
END:DAYLIGHT
BEGIN:STANDARD
TZOFFSETFROM:-0400
TZOFFSETTO:-0500
TZNAME:EST
DTSTART:20251102T060000
END:STANDARD
BEGIN:DAYLIGHT
TZOFFSETFROM:-0500
TZOFFSETTO:-0400
TZNAME:EDT
DTSTART:20260308T070000
END:DAYLIGHT
BEGIN:STANDARD
TZOFFSETFROM:-0400
TZOFFSETTO:-0500
TZNAME:EST
DTSTART:20261101T060000
END:STANDARD
END:VTIMEZONE
BEGIN:VEVENT
DTSTART;TZID=America/New_York:20250429T190000
DTEND;TZID=America/New_York:20250429T210000
DTSTAMP:20260424T115738
CREATED:20250227T213156Z
LAST-MODIFIED:20250303T181150Z
UID:13932-1745953200-1745960400@riverarts.org
SUMMARY:2025 Spring Benefit
DESCRIPTION:Join us for a night of friends\, fun\, and jazz to support the arts!\nHonoring Maxine ShermanProducer & Artistic Director of Dance\n			\n				\n				\n				\n				\n				Gather with friends and neighbors to celebrate the power of the arts on the eve of International Jazz Day! \nEnjoy a wine and beer reception and artful silent auction with live music from Joel Arnow & Friends. Bring your dancing shoes\, raise a glass\, and spend an evening reveling in creativity and community. \nAll proceeds benefit RiverArts’ artistic and educational programs including free community-wide Music and Studio Tours\, performances in dance\, music\, and theater\, and children’s music and art education. \n			\n				Purchase Tickets\n			\n				\n				\n				\n				\n				About Our Honoree\n			\n				\n				\n				\n				\n				\n			\n				\n				\n				\n				\n				Maxine has dedicated her time and talents to RiverArts for over 2 decades\, serving on the Board and as Board President from 2004 to 2008\, and producing an annual dance concert at RiverArts since 2005. She has brought world-renowned dance companies to the Rivertowns community\, including Paul Taylor Dance Company\, Ballet Hispanico\, Ronald K. Brown/EVIDENCE\, Trisha Brown\, DecaDance\, Caleb Teicher\, and more. She was also one of the featured dancers and choreographers in RiverArts’ production of Braiding\, which was awarded an NEA grant.  \nMaxine began dancing as a child in Pittsburgh before moving to NYC to become a principal dancer in the Alvin Ailey American Dance Theater and the Martha Graham Dance Company. She has been Associate Professor of Dance at SUNY Purchase Conservatory of Dance\, North Carolina School of the Arts\, NYU School of Education\, and Southern Methodist University. Maxine has choreographed for MAXIMUM Dance\, the Ailey School\, American Dance Festivals\, Point Park College\, the Masters School\, and Hudson River Museum\, and is a recipient of the 50/50 Choreographic Artists’ Award for ArtsWestchester. With certifications in Pilates\, Gyrokinesis and Gyrotonic\,® she is the founder of E-Tone Studio\, Pinecrest Studio LLC\, and GratefulPilates.com. Maxine has a BA in Body Therapies from NYU and an MFA in Performing Arts Studies from Sarah Lawrence College. Since moving to Hastings-on-Hudson over 20 years ago\, Maxine has danced as a guest artist with Battleworks Dance Company\, Rioult Dance NY\, Heidi Latsky Dance\, and Monica Bill Barnes\, in addition to her work with RiverArts. \n			\n				Purchase Tickets
URL:https://riverarts.org/event/spring-benefit-2025/
LOCATION:Jazz Forum\, 1 Dixon Lane\, Tarrytown\, NY\, 10591\, United States
CATEGORIES:Benefit Event,In-person
ATTACH;FMTTYPE=image/png:https://riverarts.org/wp-content/uploads/2025/02/FY25-Spring-Benefit_Website-B.png
ORGANIZER;CN="RiverArts":MAILTO:info@riverarts.org
END:VEVENT
END:VCALENDAR