BEGIN:VCALENDAR
VERSION:2.0
PRODID:-//RiverArts - ECPv6.15.20//NONSGML v1.0//EN
CALSCALE:GREGORIAN
METHOD:PUBLISH
X-WR-CALNAME:RiverArts
X-ORIGINAL-URL:https://riverarts.org
X-WR-CALDESC:Events for RiverArts
REFRESH-INTERVAL;VALUE=DURATION:PT1H
X-Robots-Tag:noindex
X-PUBLISHED-TTL:PT1H
BEGIN:VTIMEZONE
TZID:America/New_York
BEGIN:DAYLIGHT
TZOFFSETFROM:-0500
TZOFFSETTO:-0400
TZNAME:EDT
DTSTART:20240310T070000
END:DAYLIGHT
BEGIN:STANDARD
TZOFFSETFROM:-0400
TZOFFSETTO:-0500
TZNAME:EST
DTSTART:20241103T060000
END:STANDARD
BEGIN:DAYLIGHT
TZOFFSETFROM:-0500
TZOFFSETTO:-0400
TZNAME:EDT
DTSTART:20250309T070000
END:DAYLIGHT
BEGIN:STANDARD
TZOFFSETFROM:-0400
TZOFFSETTO:-0500
TZNAME:EST
DTSTART:20251102T060000
END:STANDARD
BEGIN:DAYLIGHT
TZOFFSETFROM:-0500
TZOFFSETTO:-0400
TZNAME:EDT
DTSTART:20260308T070000
END:DAYLIGHT
BEGIN:STANDARD
TZOFFSETFROM:-0400
TZOFFSETTO:-0500
TZNAME:EST
DTSTART:20261101T060000
END:STANDARD
END:VTIMEZONE
BEGIN:VEVENT
DTSTART;TZID=America/New_York:20251108T110000
DTEND;TZID=America/New_York:20251108T170000
DTSTAMP:20260423T233410
CREATED:20250619T130152Z
LAST-MODIFIED:20251001T165415Z
UID:14320-1762599600-1762621200@riverarts.org
SUMMARY:RiverArts Studio Tour 2025
DESCRIPTION:The RiverArts Studio Tour offers an opportunity for art lovers to engage with local artists in their own studios. This two-day tour will be held on the second weekend of November. \nSaturday\, November 8\, 11am–5pmSunday\, November 9\, 11am–3pm \nThis multi-village adventure offers a veritable treasure hunt through industrial lofts\, home studios\, outdoor installations\, storefronts\, and galleries stretching from Hastings-on-Hudson to Tarrytown. The Studio Tour offers an opportunity to engage with local artists in an intimate setting\, learn about their process and inspiration\, and meet plenty of art lovers along the way. Participants can explore a wide range of mediums and unique works\, and if you are lucky\, you’ll bring home something to treasure for years to come. \nIn addition to the main Tour weekend\, RiverArts will host two preview exhibitions of works by participating artists.  \n  \n 
URL:https://riverarts.org/event/studio-tour-saturday-2025/
LOCATION:Throughout the Rivertowns\, Throughout Rivertowns
CATEGORIES:Art,In-person
ATTACH;FMTTYPE=image/jpeg:https://riverarts.org/wp-content/uploads/2025/06/Studio-Tour_Website-Feature-Event-Image-and-Mailchimp.jpg
ORGANIZER;CN="RiverArts":MAILTO:info@riverarts.org
END:VEVENT
END:VCALENDAR